BEGIN:VCALENDAR
VERSION:2.0
PRODID:-//Hockeytech//Leaguestat iCal//EN
BEGIN:VEVENT
UID:793769e51e1e1fc891022925@hockeytech.com
TZID:UTC
DTSTART:20260328T010000Z
DTEND:20260328T040000Z
DTSTAMP:20260328T010000
DESCRIPTION:You have booked some WHL games
LOCATION:Art Hauser Centre - Prince Albert, SK
SUMMARY:Red Deer Rebels @ Prince Albert Raiders
STATUS:CONFIRMED
END:VEVENT
BEGIN:VEVENT
UID:793769e51e1e1fc891022926@hockeytech.com
TZID:UTC
DTSTART:20260329T010000Z
DTEND:20260329T040000Z
DTSTAMP:20260329T010000
DESCRIPTION:You have booked some WHL games
LOCATION:Art Hauser Centre - Prince Albert, SK
SUMMARY:Red Deer Rebels @ Prince Albert Raiders
STATUS:CONFIRMED
END:VEVENT
BEGIN:VEVENT
UID:793769e51e1e1fc891022951@hockeytech.com
TZID:UTC
DTSTART:20260401T010000Z
DTEND:20260401T040000Z
DTSTAMP:20260401T010000
DESCRIPTION:You have booked some WHL games
LOCATION:Marchant Crane Centrium - Red Deer, AB
SUMMARY:Prince Albert Raiders @ Red Deer Rebels
STATUS:CONFIRMED
END:VEVENT
BEGIN:VEVENT
UID:793769e51e1e1fc891022952@hockeytech.com
TZID:UTC
DTSTART:20260402T010000Z
DTEND:20260402T040000Z
DTSTAMP:20260402T010000
DESCRIPTION:You have booked some WHL games
LOCATION:Marchant Crane Centrium - Red Deer, AB
SUMMARY:Prince Albert Raiders @ Red Deer Rebels
STATUS:CONFIRMED
END:VEVENT
BEGIN:VEVENT
UID:793769e51e1e1fc891022953@hockeytech.com
TZID:UTC
DTSTART:20260404T010000Z
DTEND:20260404T040000Z
DTSTAMP:20260404T010000
DESCRIPTION:You have booked some WHL games
LOCATION:Art Hauser Centre - Prince Albert, SK
SUMMARY:Red Deer Rebels @ Prince Albert Raiders
STATUS:CONFIRMED
END:VEVENT
BEGIN:VEVENT
UID:793769e51e1e1fc891022989@hockeytech.com
TZID:UTC
DTSTART:20260411T010000Z
DTEND:20260411T040000Z
DTSTAMP:20260411T010000
DESCRIPTION:You have booked some WHL games
LOCATION:Art Hauser Centre - Prince Albert, SK
SUMMARY:Saskatoon Blades @ Prince Albert Raiders
STATUS:CONFIRMED
END:VEVENT
BEGIN:VEVENT
UID:793769e51e1e1fc891022990@hockeytech.com
TZID:UTC
DTSTART:20260412T010000Z
DTEND:20260412T040000Z
DTSTAMP:20260412T010000
DESCRIPTION:You have booked some WHL games
LOCATION:Art Hauser Centre - Prince Albert, SK
SUMMARY:Saskatoon Blades @ Prince Albert Raiders
STATUS:CONFIRMED
END:VEVENT
BEGIN:VEVENT
UID:793769e51e1e1fc891022991@hockeytech.com
TZID:UTC
DTSTART:20260415T010000Z
DTEND:20260415T040000Z
DTSTAMP:20260415T010000
DESCRIPTION:You have booked some WHL games
LOCATION:SaskTel Centre - Saskatoon, SK
SUMMARY:Prince Albert Raiders @ Saskatoon Blades
STATUS:CONFIRMED
END:VEVENT
BEGIN:VEVENT
UID:793769e51e1e1fc891022992@hockeytech.com
TZID:UTC
DTSTART:20260416T010000Z
DTEND:20260416T040000Z
DTSTAMP:20260416T010000
DESCRIPTION:You have booked some WHL games
LOCATION:SaskTel Centre - Saskatoon, SK
SUMMARY:Prince Albert Raiders @ Saskatoon Blades
STATUS:CONFIRMED
END:VEVENT
BEGIN:VEVENT
UID:793769e51e1e1fc891023003@hockeytech.com
TZID:UTC
DTSTART:20260425T010000Z
DTEND:20260425T040000Z
DTSTAMP:20260425T010000
DESCRIPTION:You have booked some WHL games
LOCATION:Art Hauser Centre - Prince Albert, SK
SUMMARY:Medicine Hat Tigers @ Prince Albert Raiders
STATUS:CONFIRMED
END:VEVENT
BEGIN:VEVENT
UID:793769e51e1e1fc891023004@hockeytech.com
TZID:UTC
DTSTART:20260426T010000Z
DTEND:20260426T040000Z
DTSTAMP:20260426T010000
DESCRIPTION:You have booked some WHL games
LOCATION:Art Hauser Centre - Prince Albert, SK
SUMMARY:Medicine Hat Tigers @ Prince Albert Raiders
STATUS:CONFIRMED
END:VEVENT
BEGIN:VEVENT
UID:793769e51e1e1fc891023005@hockeytech.com
TZID:UTC
DTSTART:20260429T010000Z
DTEND:20260429T040000Z
DTSTAMP:20260429T010000
DESCRIPTION:You have booked some WHL games
LOCATION:Co-op Place - Medicine Hat, AB
SUMMARY:Prince Albert Raiders @ Medicine Hat Tigers
STATUS:CONFIRMED
END:VEVENT
BEGIN:VEVENT
UID:793769e51e1e1fc891023006@hockeytech.com
TZID:UTC
DTSTART:20260430T010000Z
DTEND:20260430T040000Z
DTSTAMP:20260430T010000
DESCRIPTION:You have booked some WHL games
LOCATION:Co-op Place - Medicine Hat, AB
SUMMARY:Prince Albert Raiders @ Medicine Hat Tigers
STATUS:CONFIRMED
END:VEVENT
BEGIN:VEVENT
UID:793769e51e1e1fc891023007@hockeytech.com
TZID:UTC
DTSTART:20260502T010000Z
DTEND:20260502T040000Z
DTSTAMP:20260502T010000
DESCRIPTION:You have booked some WHL games
LOCATION:Art Hauser Centre - Prince Albert, SK
SUMMARY:Medicine Hat Tigers @ Prince Albert Raiders
STATUS:CONFIRMED
END:VEVENT
BEGIN:VEVENT
UID:793769e51e1e1fc891023008@hockeytech.com
TZID:UTC
DTSTART:20260504T000000Z
DTEND:20260504T030000Z
DTSTAMP:20260504T000000
DESCRIPTION:You have booked some WHL games
LOCATION:Co-op Place - Medicine Hat, AB
SUMMARY:Prince Albert Raiders @ Medicine Hat Tigers
STATUS:CONFIRMED
END:VEVENT
BEGIN:VEVENT
UID:793769e51e1e1fc891023009@hockeytech.com
TZID:UTC
DTSTART:20260506T010000Z
DTEND:20260506T040000Z
DTSTAMP:20260506T010000
DESCRIPTION:You have booked some WHL games
LOCATION:Art Hauser Centre - Prince Albert, SK
SUMMARY:Medicine Hat Tigers @ Prince Albert Raiders
STATUS:CONFIRMED
END:VEVENT
END:VCALENDAR