BEGIN:VCALENDAR
VERSION:2.0
PRODID:-//Hockeytech//Leaguestat iCal//EN
BEGIN:VEVENT
UID:162969ea8ebe3c0dc1022142@hockeytech.com
TZID:UTC
DTSTART:20250921T010500Z
DTEND:20250921T040500Z
DTSTAMP:20250921T010500
DESCRIPTION:You have booked some WHL games
LOCATION:accesso ShoWare Center - Kent, WA
SUMMARY:Tri-City Americans @ Seattle Thunderbirds
STATUS:CONFIRMED
END:VEVENT
BEGIN:VEVENT
UID:162969ea8ebe3c0dc1022157@hockeytech.com
TZID:UTC
DTSTART:20250928T010500Z
DTEND:20250928T040500Z
DTSTAMP:20250928T010500
DESCRIPTION:You have booked some WHL games
LOCATION:Numerica Veterans Arena - Spokane, WA
SUMMARY:Tri-City Americans @ Spokane Chiefs
STATUS:CONFIRMED
END:VEVENT
BEGIN:VEVENT
UID:162969ea8ebe3c0dc1022162@hockeytech.com
TZID:UTC
DTSTART:20251004T020500Z
DTEND:20251004T050500Z
DTSTAMP:20251004T020500
DESCRIPTION:You have booked some WHL games
LOCATION:Angel of the Winds Arena - Everett, WA
SUMMARY:Tri-City Americans @ Everett Silvertips
STATUS:CONFIRMED
END:VEVENT
BEGIN:VEVENT
UID:162969ea8ebe3c0dc1022180@hockeytech.com
TZID:UTC
DTSTART:20251005T010500Z
DTEND:20251005T040500Z
DTSTAMP:20251005T010500
DESCRIPTION:You have booked some WHL games
LOCATION:Toyota Center - Kennewick, WA
SUMMARY:Wenatchee Wild @ Tri-City Americans
STATUS:CONFIRMED
END:VEVENT
BEGIN:VEVENT
UID:162969ea8ebe3c0dc1022183@hockeytech.com
TZID:UTC
DTSTART:20251005T230500Z
DTEND:20251006T020500Z
DTSTAMP:20251005T230500
DESCRIPTION:You have booked some WHL games
LOCATION:Toyota Center - Kennewick, WA
SUMMARY:Everett Silvertips @ Tri-City Americans
STATUS:CONFIRMED
END:VEVENT
BEGIN:VEVENT
UID:162969ea8ebe3c0dc1022204@hockeytech.com
TZID:UTC
DTSTART:20251012T010000Z
DTEND:20251012T040000Z
DTSTAMP:20251012T010000
DESCRIPTION:You have booked some WHL games
LOCATION:CN Centre - Prince George, BC
SUMMARY:Tri-City Americans @ Prince George Cougars
STATUS:CONFIRMED
END:VEVENT
BEGIN:VEVENT
UID:162969ea8ebe3c0dc1022210@hockeytech.com
TZID:UTC
DTSTART:20251012T210000Z
DTEND:20251013T000000Z
DTSTAMP:20251012T210000
DESCRIPTION:You have booked some WHL games
LOCATION:CN Centre - Prince George, BC
SUMMARY:Tri-City Americans @ Prince George Cougars
STATUS:CONFIRMED
END:VEVENT
BEGIN:VEVENT
UID:162969ea8ebe3c0dc1022237@hockeytech.com
TZID:UTC
DTSTART:20251019T010500Z
DTEND:20251019T040500Z
DTSTAMP:20251019T010500
DESCRIPTION:You have booked some WHL games
LOCATION:Toyota Center - Kennewick, WA
SUMMARY:Prince George Cougars @ Tri-City Americans
STATUS:CONFIRMED
END:VEVENT
BEGIN:VEVENT
UID:162969ea8ebe3c0dc1022241@hockeytech.com
TZID:UTC
DTSTART:20251019T230500Z
DTEND:20251020T020500Z
DTSTAMP:20251019T230500
DESCRIPTION:You have booked some WHL games
LOCATION:Toyota Center - Kennewick, WA
SUMMARY:Kelowna Rockets @ Tri-City Americans
STATUS:CONFIRMED
END:VEVENT
BEGIN:VEVENT
UID:162969ea8ebe3c0dc1022257@hockeytech.com
TZID:UTC
DTSTART:20251025T020500Z
DTEND:20251025T050500Z
DTSTAMP:20251025T020500
DESCRIPTION:You have booked some WHL games
LOCATION:Toyota Center - Kennewick, WA
SUMMARY:Victoria Royals @ Tri-City Americans
STATUS:CONFIRMED
END:VEVENT
BEGIN:VEVENT
UID:162969ea8ebe3c0dc1022267@hockeytech.com
TZID:UTC
DTSTART:20251026T010000Z
DTEND:20251026T040000Z
DTSTAMP:20251026T010000
DESCRIPTION:You have booked some WHL games
LOCATION:Town Toyota Center - Wenatchee, WA
SUMMARY:Tri-City Americans @ Wenatchee Wild
STATUS:CONFIRMED
END:VEVENT
BEGIN:VEVENT
UID:162969ea8ebe3c0dc1022274@hockeytech.com
TZID:UTC
DTSTART:20251029T020500Z
DTEND:20251029T050500Z
DTSTAMP:20251029T020500
DESCRIPTION:You have booked some WHL games
LOCATION:Toyota Center - Kennewick, WA
SUMMARY:Saskatoon Blades @ Tri-City Americans
STATUS:CONFIRMED
END:VEVENT
BEGIN:VEVENT
UID:162969ea8ebe3c0dc1022286@hockeytech.com
TZID:UTC
DTSTART:20251102T000000Z
DTEND:20251102T030000Z
DTSTAMP:20251102T000000
DESCRIPTION:You have booked some WHL games
LOCATION:VisitLethbridge.com Arena - Lethbridge, AB
SUMMARY:Tri-City Americans @ Lethbridge Hurricanes
STATUS:CONFIRMED
END:VEVENT
BEGIN:VEVENT
UID:162969ea8ebe3c0dc1022297@hockeytech.com
TZID:UTC
DTSTART:20251102T230000Z
DTEND:20251103T020000Z
DTSTAMP:20251102T230000
DESCRIPTION:You have booked some WHL games
LOCATION:Co-op Place - Medicine Hat, AB
SUMMARY:Tri-City Americans @ Medicine Hat Tigers
STATUS:CONFIRMED
END:VEVENT
BEGIN:VEVENT
UID:162969ea8ebe3c0dc1022317@hockeytech.com
TZID:UTC
DTSTART:20251108T030500Z
DTEND:20251108T060500Z
DTSTAMP:20251108T030500
DESCRIPTION:You have booked some WHL games
LOCATION:Toyota Center - Kennewick, WA
SUMMARY:Vancouver Giants @ Tri-City Americans
STATUS:CONFIRMED
END:VEVENT
BEGIN:VEVENT
UID:162969ea8ebe3c0dc1022327@hockeytech.com
TZID:UTC
DTSTART:20251109T020500Z
DTEND:20251109T050500Z
DTSTAMP:20251109T020500
DESCRIPTION:You have booked some WHL games
LOCATION:Toyota Center - Kennewick, WA
SUMMARY:Prince Albert Raiders @ Tri-City Americans
STATUS:CONFIRMED
END:VEVENT
BEGIN:VEVENT
UID:162969ea8ebe3c0dc1022350@hockeytech.com
TZID:UTC
DTSTART:20251115T030500Z
DTEND:20251115T060500Z
DTSTAMP:20251115T030500
DESCRIPTION:You have booked some WHL games
LOCATION:Toyota Center - Kennewick, WA
SUMMARY:Everett Silvertips @ Tri-City Americans
STATUS:CONFIRMED
END:VEVENT
BEGIN:VEVENT
UID:162969ea8ebe3c0dc1022358@hockeytech.com
TZID:UTC
DTSTART:20251116T020500Z
DTEND:20251116T050500Z
DTSTAMP:20251116T020500
DESCRIPTION:You have booked some WHL games
LOCATION:Toyota Center - Kennewick, WA
SUMMARY:Penticton Vees @ Tri-City Americans
STATUS:CONFIRMED
END:VEVENT
BEGIN:VEVENT
UID:162969ea8ebe3c0dc1022365@hockeytech.com
TZID:UTC
DTSTART:20251119T030500Z
DTEND:20251119T060500Z
DTSTAMP:20251119T030500
DESCRIPTION:You have booked some WHL games
LOCATION:Toyota Center - Kennewick, WA
SUMMARY:Kamloops Blazers @ Tri-City Americans
STATUS:CONFIRMED
END:VEVENT
BEGIN:VEVENT
UID:162969ea8ebe3c0dc1022379@hockeytech.com
TZID:UTC
DTSTART:20251122T030500Z
DTEND:20251122T060500Z
DTSTAMP:20251122T030500
DESCRIPTION:You have booked some WHL games
LOCATION:Toyota Center - Kennewick, WA
SUMMARY:Regina Pats @ Tri-City Americans
STATUS:CONFIRMED
END:VEVENT
BEGIN:VEVENT
UID:162969ea8ebe3c0dc1022388@hockeytech.com
TZID:UTC
DTSTART:20251123T030000Z
DTEND:20251123T060000Z
DTSTAMP:20251123T030000
DESCRIPTION:You have booked some WHL games
LOCATION:Langley Events Centre - Langley, BC
SUMMARY:Tri-City Americans @ Vancouver Giants
STATUS:CONFIRMED
END:VEVENT
BEGIN:VEVENT
UID:162969ea8ebe3c0dc1022402@hockeytech.com
TZID:UTC
DTSTART:20251129T030500Z
DTEND:20251129T060500Z
DTSTAMP:20251129T030500
DESCRIPTION:You have booked some WHL games
LOCATION:Toyota Center - Kennewick, WA
SUMMARY:Kelowna Rockets @ Tri-City Americans
STATUS:CONFIRMED
END:VEVENT
BEGIN:VEVENT
UID:162969ea8ebe3c0dc1022410@hockeytech.com
TZID:UTC
DTSTART:20251130T020500Z
DTEND:20251130T050500Z
DTSTAMP:20251130T020500
DESCRIPTION:You have booked some WHL games
LOCATION:Toyota Center - Kennewick, WA
SUMMARY:Prince George Cougars @ Tri-City Americans
STATUS:CONFIRMED
END:VEVENT
BEGIN:VEVENT
UID:162969ea8ebe3c0dc1022422@hockeytech.com
TZID:UTC
DTSTART:20251204T030500Z
DTEND:20251204T060500Z
DTSTAMP:20251204T030500
DESCRIPTION:You have booked some WHL games
LOCATION:Toyota Center - Kennewick, WA
SUMMARY:Swift Current Broncos @ Tri-City Americans
STATUS:CONFIRMED
END:VEVENT
BEGIN:VEVENT
UID:162969ea8ebe3c0dc1022431@hockeytech.com
TZID:UTC
DTSTART:20251206T030500Z
DTEND:20251206T060500Z
DTSTAMP:20251206T030500
DESCRIPTION:You have booked some WHL games
LOCATION:Toyota Center - Kennewick, WA
SUMMARY:Everett Silvertips @ Tri-City Americans
STATUS:CONFIRMED
END:VEVENT
BEGIN:VEVENT
UID:162969ea8ebe3c0dc1022441@hockeytech.com
TZID:UTC
DTSTART:20251207T020500Z
DTEND:20251207T050500Z
DTSTAMP:20251207T020500
DESCRIPTION:You have booked some WHL games
LOCATION:Numerica Veterans Arena - Spokane, WA
SUMMARY:Tri-City Americans @ Spokane Chiefs
STATUS:CONFIRMED
END:VEVENT
BEGIN:VEVENT
UID:162969ea8ebe3c0dc1022449@hockeytech.com
TZID:UTC
DTSTART:20251210T023500Z
DTEND:20251210T053500Z
DTSTAMP:20251210T023500
DESCRIPTION:You have booked some WHL games
LOCATION:South Okanagan Events Centre - Penticton, BC
SUMMARY:Tri-City Americans @ Penticton Vees
STATUS:CONFIRMED
END:VEVENT
BEGIN:VEVENT
UID:162969ea8ebe3c0dc1022461@hockeytech.com
TZID:UTC
DTSTART:20251213T030000Z
DTEND:20251213T060000Z
DTSTAMP:20251213T030000
DESCRIPTION:You have booked some WHL games
LOCATION:Town Toyota Center - Wenatchee, WA
SUMMARY:Tri-City Americans @ Wenatchee Wild
STATUS:CONFIRMED
END:VEVENT
BEGIN:VEVENT
UID:162969ea8ebe3c0dc1022470@hockeytech.com
TZID:UTC
DTSTART:20251214T020500Z
DTEND:20251214T050500Z
DTSTAMP:20251214T020500
DESCRIPTION:You have booked some WHL games
LOCATION:Toyota Center - Kennewick, WA
SUMMARY:Wenatchee Wild @ Tri-City Americans
STATUS:CONFIRMED
END:VEVENT
BEGIN:VEVENT
UID:162969ea8ebe3c0dc1022475@hockeytech.com
TZID:UTC
DTSTART:20251215T000500Z
DTEND:20251215T030500Z
DTSTAMP:20251215T000500
DESCRIPTION:You have booked some WHL games
LOCATION:Toyota Center - Kennewick, WA
SUMMARY:Seattle Thunderbirds @ Tri-City Americans
STATUS:CONFIRMED
END:VEVENT
BEGIN:VEVENT
UID:162969ea8ebe3c0dc1022485@hockeytech.com
TZID:UTC
DTSTART:20251218T030000Z
DTEND:20251218T060000Z
DTSTAMP:20251218T030000
DESCRIPTION:You have booked some WHL games
LOCATION:Sandman Centre - Kamloops, BC
SUMMARY:Tri-City Americans @ Kamloops Blazers
STATUS:CONFIRMED
END:VEVENT
BEGIN:VEVENT
UID:162969ea8ebe3c0dc1022506@hockeytech.com
TZID:UTC
DTSTART:20251228T020500Z
DTEND:20251228T050500Z
DTSTAMP:20251228T020500
DESCRIPTION:You have booked some WHL games
LOCATION:Toyota Center - Kennewick, WA
SUMMARY:Portland Winterhawks @ Tri-City Americans
STATUS:CONFIRMED
END:VEVENT
BEGIN:VEVENT
UID:162969ea8ebe3c0dc1022511@hockeytech.com
TZID:UTC
DTSTART:20251229T000000Z
DTEND:20251229T030000Z
DTSTAMP:20251229T000000
DESCRIPTION:You have booked some WHL games
LOCATION:Veterans Memorial Coliseum - Portland, OR
SUMMARY:Tri-City Americans @ Portland Winterhawks
STATUS:CONFIRMED
END:VEVENT
BEGIN:VEVENT
UID:162969ea8ebe3c0dc1022526@hockeytech.com
TZID:UTC
DTSTART:20260101T020500Z
DTEND:20260101T050500Z
DTSTAMP:20260101T020500
DESCRIPTION:You have booked some WHL games
LOCATION:Toyota Center - Kennewick, WA
SUMMARY:Spokane Chiefs @ Tri-City Americans
STATUS:CONFIRMED
END:VEVENT
BEGIN:VEVENT
UID:162969ea8ebe3c0dc1022548@hockeytech.com
TZID:UTC
DTSTART:20260104T000500Z
DTEND:20260104T030500Z
DTSTAMP:20260104T000500
DESCRIPTION:You have booked some WHL games
LOCATION:Save-On-Foods Memorial Arena - Victoria, BC
SUMMARY:Tri-City Americans @ Victoria Royals
STATUS:CONFIRMED
END:VEVENT
BEGIN:VEVENT
UID:162969ea8ebe3c0dc1022551@hockeytech.com
TZID:UTC
DTSTART:20260104T220500Z
DTEND:20260105T010500Z
DTSTAMP:20260104T220500
DESCRIPTION:You have booked some WHL games
LOCATION:Save-On-Foods Memorial Arena - Victoria, BC
SUMMARY:Tri-City Americans @ Victoria Royals
STATUS:CONFIRMED
END:VEVENT
BEGIN:VEVENT
UID:162969ea8ebe3c0dc1022554@hockeytech.com
TZID:UTC
DTSTART:20260108T030500Z
DTEND:20260108T060500Z
DTSTAMP:20260108T030500
DESCRIPTION:You have booked some WHL games
LOCATION:Prospera Place - Kelowna, BC
SUMMARY:Tri-City Americans @ Kelowna Rockets
STATUS:CONFIRMED
END:VEVENT
BEGIN:VEVENT
UID:162969ea8ebe3c0dc1022565@hockeytech.com
TZID:UTC
DTSTART:20260110T030000Z
DTEND:20260110T060000Z
DTSTAMP:20260110T030000
DESCRIPTION:You have booked some WHL games
LOCATION:Langley Events Centre - Langley, BC
SUMMARY:Tri-City Americans @ Vancouver Giants
STATUS:CONFIRMED
END:VEVENT
BEGIN:VEVENT
UID:162969ea8ebe3c0dc1022576@hockeytech.com
TZID:UTC
DTSTART:20260111T020500Z
DTEND:20260111T050500Z
DTSTAMP:20260111T020500
DESCRIPTION:You have booked some WHL games
LOCATION:Toyota Center - Kennewick, WA
SUMMARY:Moose Jaw Warriors @ Tri-City Americans
STATUS:CONFIRMED
END:VEVENT
BEGIN:VEVENT
UID:162969ea8ebe3c0dc1022583@hockeytech.com
TZID:UTC
DTSTART:20260115T020000Z
DTEND:20260115T050000Z
DTSTAMP:20260115T020000
DESCRIPTION:You have booked some WHL games
LOCATION:Scotiabank Saddledome - Calgary, AB
SUMMARY:Tri-City Americans @ Calgary Hitmen
STATUS:CONFIRMED
END:VEVENT
BEGIN:VEVENT
UID:162969ea8ebe3c0dc1022595@hockeytech.com
TZID:UTC
DTSTART:20260117T020000Z
DTEND:20260117T050000Z
DTSTAMP:20260117T020000
DESCRIPTION:You have booked some WHL games
LOCATION:Marchant Crane Centrium - Red Deer, AB
SUMMARY:Tri-City Americans @ Red Deer Rebels
STATUS:CONFIRMED
END:VEVENT
BEGIN:VEVENT
UID:162969ea8ebe3c0dc1022600@hockeytech.com
TZID:UTC
DTSTART:20260118T020000Z
DTEND:20260118T050000Z
DTSTAMP:20260118T020000
DESCRIPTION:You have booked some WHL games
LOCATION:Rogers Place - Edmonton, AB
SUMMARY:Tri-City Americans @ Edmonton Oil Kings
STATUS:CONFIRMED
END:VEVENT
BEGIN:VEVENT
UID:162969ea8ebe3c0dc1022631@hockeytech.com
TZID:UTC
DTSTART:20260124T030500Z
DTEND:20260124T060500Z
DTSTAMP:20260124T030500
DESCRIPTION:You have booked some WHL games
LOCATION:Toyota Center - Kennewick, WA
SUMMARY:Portland Winterhawks @ Tri-City Americans
STATUS:CONFIRMED
END:VEVENT
BEGIN:VEVENT
UID:162969ea8ebe3c0dc1022641@hockeytech.com
TZID:UTC
DTSTART:20260125T020000Z
DTEND:20260125T050000Z
DTSTAMP:20260125T020000
DESCRIPTION:You have booked some WHL games
LOCATION:Town Toyota Center - Wenatchee, WA
SUMMARY:Tri-City Americans @ Wenatchee Wild
STATUS:CONFIRMED
END:VEVENT
BEGIN:VEVENT
UID:162969ea8ebe3c0dc1022644@hockeytech.com
TZID:UTC
DTSTART:20260126T000500Z
DTEND:20260126T030500Z
DTSTAMP:20260126T000500
DESCRIPTION:You have booked some WHL games
LOCATION:Toyota Center - Kennewick, WA
SUMMARY:Kamloops Blazers @ Tri-City Americans
STATUS:CONFIRMED
END:VEVENT
BEGIN:VEVENT
UID:162969ea8ebe3c0dc1022660@hockeytech.com
TZID:UTC
DTSTART:20260131T030500Z
DTEND:20260131T060500Z
DTSTAMP:20260131T030500
DESCRIPTION:You have booked some WHL games
LOCATION:Toyota Center - Kennewick, WA
SUMMARY:Brandon Wheat Kings @ Tri-City Americans
STATUS:CONFIRMED
END:VEVENT
BEGIN:VEVENT
UID:162969ea8ebe3c0dc1022669@hockeytech.com
TZID:UTC
DTSTART:20260201T020500Z
DTEND:20260201T050500Z
DTSTAMP:20260201T020500
DESCRIPTION:You have booked some WHL games
LOCATION:Toyota Center - Kennewick, WA
SUMMARY:Wenatchee Wild @ Tri-City Americans
STATUS:CONFIRMED
END:VEVENT
BEGIN:VEVENT
UID:162969ea8ebe3c0dc1022672@hockeytech.com
TZID:UTC
DTSTART:20260202T000500Z
DTEND:20260202T030500Z
DTSTAMP:20260202T000500
DESCRIPTION:You have booked some WHL games
LOCATION:Angel of the Winds Arena - Everett, WA
SUMMARY:Tri-City Americans @ Everett Silvertips
STATUS:CONFIRMED
END:VEVENT
BEGIN:VEVENT
UID:162969ea8ebe3c0dc1022688@hockeytech.com
TZID:UTC
DTSTART:20260207T030500Z
DTEND:20260207T060500Z
DTSTAMP:20260207T030500
DESCRIPTION:You have booked some WHL games
LOCATION:South Okanagan Events Centre - Penticton, BC
SUMMARY:Tri-City Americans @ Penticton Vees
STATUS:CONFIRMED
END:VEVENT
BEGIN:VEVENT
UID:162969ea8ebe3c0dc1022704@hockeytech.com
TZID:UTC
DTSTART:20260208T020500Z
DTEND:20260208T050500Z
DTSTAMP:20260208T020500
DESCRIPTION:You have booked some WHL games
LOCATION:Toyota Center - Kennewick, WA
SUMMARY:Penticton Vees @ Tri-City Americans
STATUS:CONFIRMED
END:VEVENT
BEGIN:VEVENT
UID:162969ea8ebe3c0dc1022724@hockeytech.com
TZID:UTC
DTSTART:20260214T030500Z
DTEND:20260214T060500Z
DTSTAMP:20260214T030500
DESCRIPTION:You have booked some WHL games
LOCATION:accesso ShoWare Center - Kent, WA
SUMMARY:Tri-City Americans @ Seattle Thunderbirds
STATUS:CONFIRMED
END:VEVENT
BEGIN:VEVENT
UID:162969ea8ebe3c0dc1022736@hockeytech.com
TZID:UTC
DTSTART:20260215T020500Z
DTEND:20260215T050500Z
DTSTAMP:20260215T020500
DESCRIPTION:You have booked some WHL games
LOCATION:Toyota Center - Kennewick, WA
SUMMARY:Seattle Thunderbirds @ Tri-City Americans
STATUS:CONFIRMED
END:VEVENT
BEGIN:VEVENT
UID:162969ea8ebe3c0dc1022743@hockeytech.com
TZID:UTC
DTSTART:20260216T220500Z
DTEND:20260217T010500Z
DTSTAMP:20260216T220500
DESCRIPTION:You have booked some WHL games
LOCATION:Prospera Place - Kelowna, BC
SUMMARY:Tri-City Americans @ Kelowna Rockets
STATUS:CONFIRMED
END:VEVENT
BEGIN:VEVENT
UID:162969ea8ebe3c0dc1022767@hockeytech.com
TZID:UTC
DTSTART:20260222T020500Z
DTEND:20260222T050500Z
DTSTAMP:20260222T020500
DESCRIPTION:You have booked some WHL games
LOCATION:Toyota Center - Kennewick, WA
SUMMARY:Spokane Chiefs @ Tri-City Americans
STATUS:CONFIRMED
END:VEVENT
BEGIN:VEVENT
UID:162969ea8ebe3c0dc1022771@hockeytech.com
TZID:UTC
DTSTART:20260223T000500Z
DTEND:20260223T030500Z
DTSTAMP:20260223T000500
DESCRIPTION:You have booked some WHL games
LOCATION:Angel of the Winds Arena - Everett, WA
SUMMARY:Tri-City Americans @ Everett Silvertips
STATUS:CONFIRMED
END:VEVENT
BEGIN:VEVENT
UID:162969ea8ebe3c0dc1022777@hockeytech.com
TZID:UTC
DTSTART:20260225T030500Z
DTEND:20260225T060500Z
DTSTAMP:20260225T030500
DESCRIPTION:You have booked some WHL games
LOCATION:Toyota Center - Kennewick, WA
SUMMARY:Victoria Royals @ Tri-City Americans
STATUS:CONFIRMED
END:VEVENT
BEGIN:VEVENT
UID:162969ea8ebe3c0dc1022791@hockeytech.com
TZID:UTC
DTSTART:20260228T030500Z
DTEND:20260228T060500Z
DTSTAMP:20260228T030500
DESCRIPTION:You have booked some WHL games
LOCATION:Toyota Center - Kennewick, WA
SUMMARY:Spokane Chiefs @ Tri-City Americans
STATUS:CONFIRMED
END:VEVENT
BEGIN:VEVENT
UID:162969ea8ebe3c0dc1022802@hockeytech.com
TZID:UTC
DTSTART:20260301T020500Z
DTEND:20260301T050500Z
DTSTAMP:20260301T020500
DESCRIPTION:You have booked some WHL games
LOCATION:Numerica Veterans Arena - Spokane, WA
SUMMARY:Tri-City Americans @ Spokane Chiefs
STATUS:CONFIRMED
END:VEVENT
BEGIN:VEVENT
UID:162969ea8ebe3c0dc1022811@hockeytech.com
TZID:UTC
DTSTART:20260304T030500Z
DTEND:20260304T060500Z
DTSTAMP:20260304T030500
DESCRIPTION:You have booked some WHL games
LOCATION:Toyota Center - Kennewick, WA
SUMMARY:Vancouver Giants @ Tri-City Americans
STATUS:CONFIRMED
END:VEVENT
BEGIN:VEVENT
UID:162969ea8ebe3c0dc1022826@hockeytech.com
TZID:UTC
DTSTART:20260307T030500Z
DTEND:20260307T060500Z
DTSTAMP:20260307T030500
DESCRIPTION:You have booked some WHL games
LOCATION:Toyota Center - Kennewick, WA
SUMMARY:Seattle Thunderbirds @ Tri-City Americans
STATUS:CONFIRMED
END:VEVENT
BEGIN:VEVENT
UID:162969ea8ebe3c0dc1022835@hockeytech.com
TZID:UTC
DTSTART:20260308T020500Z
DTEND:20260308T050500Z
DTSTAMP:20260308T020500
DESCRIPTION:You have booked some WHL games
LOCATION:accesso ShoWare Center - Kent, WA
SUMMARY:Tri-City Americans @ Seattle Thunderbirds
STATUS:CONFIRMED
END:VEVENT
BEGIN:VEVENT
UID:162969ea8ebe3c0dc1022839@hockeytech.com
TZID:UTC
DTSTART:20260308T230000Z
DTEND:20260309T020000Z
DTSTAMP:20260308T230000
DESCRIPTION:You have booked some WHL games
LOCATION:Veterans Memorial Coliseum - Portland, OR
SUMMARY:Tri-City Americans @ Portland Winterhawks
STATUS:CONFIRMED
END:VEVENT
BEGIN:VEVENT
UID:162969ea8ebe3c0dc1022847@hockeytech.com
TZID:UTC
DTSTART:20260312T020000Z
DTEND:20260312T050000Z
DTSTAMP:20260312T020000
DESCRIPTION:You have booked some WHL games
LOCATION:Sandman Centre - Kamloops, BC
SUMMARY:Tri-City Americans @ Kamloops Blazers
STATUS:CONFIRMED
END:VEVENT
BEGIN:VEVENT
UID:162969ea8ebe3c0dc1022855@hockeytech.com
TZID:UTC
DTSTART:20260314T020000Z
DTEND:20260314T050000Z
DTSTAMP:20260314T020000
DESCRIPTION:You have booked some WHL games
LOCATION:Veterans Memorial Coliseum - Portland, OR
SUMMARY:Tri-City Americans @ Portland Winterhawks
STATUS:CONFIRMED
END:VEVENT
BEGIN:VEVENT
UID:162969ea8ebe3c0dc1022871@hockeytech.com
TZID:UTC
DTSTART:20260315T010500Z
DTEND:20260315T040500Z
DTSTAMP:20260315T010500
DESCRIPTION:You have booked some WHL games
LOCATION:Toyota Center - Kennewick, WA
SUMMARY:Spokane Chiefs @ Tri-City Americans
STATUS:CONFIRMED
END:VEVENT
BEGIN:VEVENT
UID:162969ea8ebe3c0dc1022877@hockeytech.com
TZID:UTC
DTSTART:20260318T013500Z
DTEND:20260318T043500Z
DTSTAMP:20260318T013500
DESCRIPTION:You have booked some WHL games
LOCATION:South Okanagan Events Centre - Penticton, BC
SUMMARY:Tri-City Americans @ Penticton Vees
STATUS:CONFIRMED
END:VEVENT
BEGIN:VEVENT
UID:162969ea8ebe3c0dc1022892@hockeytech.com
TZID:UTC
DTSTART:20260321T020500Z
DTEND:20260321T050500Z
DTSTAMP:20260321T020500
DESCRIPTION:You have booked some WHL games
LOCATION:Toyota Center - Kennewick, WA
SUMMARY:Portland Winterhawks @ Tri-City Americans
STATUS:CONFIRMED
END:VEVENT
BEGIN:VEVENT
UID:162969ea8ebe3c0dc1022903@hockeytech.com
TZID:UTC
DTSTART:20260322T010500Z
DTEND:20260322T040500Z
DTSTAMP:20260322T010500
DESCRIPTION:You have booked some WHL games
LOCATION:Numerica Veterans Arena - Spokane, WA
SUMMARY:Tri-City Americans @ Spokane Chiefs
STATUS:CONFIRMED
END:VEVENT
END:VCALENDAR