BEGIN:VCALENDAR
VERSION:2.0
PRODID:-//Hockeytech//Leaguestat iCal//EN
BEGIN:VEVENT
UID:169e5e50009fc81022130@hockeytech.com
TZID:UTC
DTSTART:20250920T020000Z
DTEND:20250920T050000Z
DTSTAMP:20250920T020000
DESCRIPTION:You have booked some WHL games
LOCATION:CN Centre - Prince George, BC
SUMMARY:Portland Winterhawks @ Prince George Cougars
STATUS:CONFIRMED
END:VEVENT
BEGIN:VEVENT
UID:169e5e50009fc81022140@hockeytech.com
TZID:UTC
DTSTART:20250921T010000Z
DTEND:20250921T040000Z
DTSTAMP:20250921T010000
DESCRIPTION:You have booked some WHL games
LOCATION:CN Centre - Prince George, BC
SUMMARY:Portland Winterhawks @ Prince George Cougars
STATUS:CONFIRMED
END:VEVENT
BEGIN:VEVENT
UID:169e5e50009fc81022168@hockeytech.com
TZID:UTC
DTSTART:20251004T020500Z
DTEND:20251004T050500Z
DTSTAMP:20251004T020500
DESCRIPTION:You have booked some WHL games
LOCATION:Numerica Veterans Arena - Spokane, WA
SUMMARY:Prince George Cougars @ Spokane Chiefs
STATUS:CONFIRMED
END:VEVENT
BEGIN:VEVENT
UID:169e5e50009fc81022178@hockeytech.com
TZID:UTC
DTSTART:20251005T010500Z
DTEND:20251005T040500Z
DTSTAMP:20251005T010500
DESCRIPTION:You have booked some WHL games
LOCATION:Numerica Veterans Arena - Spokane, WA
SUMMARY:Prince George Cougars @ Spokane Chiefs
STATUS:CONFIRMED
END:VEVENT
BEGIN:VEVENT
UID:169e5e50009fc81022190@hockeytech.com
TZID:UTC
DTSTART:20251009T020000Z
DTEND:20251009T050000Z
DTSTAMP:20251009T020000
DESCRIPTION:You have booked some WHL games
LOCATION:CN Centre - Prince George, BC
SUMMARY:Kelowna Rockets @ Prince George Cougars
STATUS:CONFIRMED
END:VEVENT
BEGIN:VEVENT
UID:169e5e50009fc81022204@hockeytech.com
TZID:UTC
DTSTART:20251012T010000Z
DTEND:20251012T040000Z
DTSTAMP:20251012T010000
DESCRIPTION:You have booked some WHL games
LOCATION:CN Centre - Prince George, BC
SUMMARY:Tri-City Americans @ Prince George Cougars
STATUS:CONFIRMED
END:VEVENT
BEGIN:VEVENT
UID:169e5e50009fc81022210@hockeytech.com
TZID:UTC
DTSTART:20251012T210000Z
DTEND:20251013T000000Z
DTSTAMP:20251012T210000
DESCRIPTION:You have booked some WHL games
LOCATION:CN Centre - Prince George, BC
SUMMARY:Tri-City Americans @ Prince George Cougars
STATUS:CONFIRMED
END:VEVENT
BEGIN:VEVENT
UID:169e5e50009fc81022227@hockeytech.com
TZID:UTC
DTSTART:20251018T020500Z
DTEND:20251018T050500Z
DTSTAMP:20251018T020500
DESCRIPTION:You have booked some WHL games
LOCATION:accesso ShoWare Center - Kent, WA
SUMMARY:Prince George Cougars @ Seattle Thunderbirds
STATUS:CONFIRMED
END:VEVENT
BEGIN:VEVENT
UID:169e5e50009fc81022237@hockeytech.com
TZID:UTC
DTSTART:20251019T010500Z
DTEND:20251019T040500Z
DTSTAMP:20251019T010500
DESCRIPTION:You have booked some WHL games
LOCATION:Toyota Center - Kennewick, WA
SUMMARY:Prince George Cougars @ Tri-City Americans
STATUS:CONFIRMED
END:VEVENT
BEGIN:VEVENT
UID:169e5e50009fc81022245@hockeytech.com
TZID:UTC
DTSTART:20251023T020000Z
DTEND:20251023T050000Z
DTSTAMP:20251023T020000
DESCRIPTION:You have booked some WHL games
LOCATION:CN Centre - Prince George, BC
SUMMARY:Medicine Hat Tigers @ Prince George Cougars
STATUS:CONFIRMED
END:VEVENT
BEGIN:VEVENT
UID:169e5e50009fc81022254@hockeytech.com
TZID:UTC
DTSTART:20251025T020000Z
DTEND:20251025T050000Z
DTSTAMP:20251025T020000
DESCRIPTION:You have booked some WHL games
LOCATION:CN Centre - Prince George, BC
SUMMARY:Seattle Thunderbirds @ Prince George Cougars
STATUS:CONFIRMED
END:VEVENT
BEGIN:VEVENT
UID:169e5e50009fc81022264@hockeytech.com
TZID:UTC
DTSTART:20251026T010000Z
DTEND:20251026T040000Z
DTSTAMP:20251026T010000
DESCRIPTION:You have booked some WHL games
LOCATION:CN Centre - Prince George, BC
SUMMARY:Seattle Thunderbirds @ Prince George Cougars
STATUS:CONFIRMED
END:VEVENT
BEGIN:VEVENT
UID:169e5e50009fc81022281@hockeytech.com
TZID:UTC
DTSTART:20251101T020000Z
DTEND:20251101T050000Z
DTSTAMP:20251101T020000
DESCRIPTION:You have booked some WHL games
LOCATION:Veterans Memorial Coliseum - Portland, OR
SUMMARY:Prince George Cougars @ Portland Winterhawks
STATUS:CONFIRMED
END:VEVENT
BEGIN:VEVENT
UID:169e5e50009fc81022290@hockeytech.com
TZID:UTC
DTSTART:20251102T010500Z
DTEND:20251102T040500Z
DTSTAMP:20251102T010500
DESCRIPTION:You have booked some WHL games
LOCATION:accesso ShoWare Center - Kent, WA
SUMMARY:Prince George Cougars @ Seattle Thunderbirds
STATUS:CONFIRMED
END:VEVENT
BEGIN:VEVENT
UID:169e5e50009fc81022298@hockeytech.com
TZID:UTC
DTSTART:20251103T000000Z
DTEND:20251103T030000Z
DTSTAMP:20251103T000000
DESCRIPTION:You have booked some WHL games
LOCATION:Langley Events Centre - Langley, BC
SUMMARY:Prince George Cougars @ Vancouver Giants
STATUS:CONFIRMED
END:VEVENT
BEGIN:VEVENT
UID:169e5e50009fc81022308@hockeytech.com
TZID:UTC
DTSTART:20251106T030000Z
DTEND:20251106T060000Z
DTSTAMP:20251106T030000
DESCRIPTION:You have booked some WHL games
LOCATION:Veterans Memorial Coliseum - Portland, OR
SUMMARY:Prince George Cougars @ Portland Winterhawks
STATUS:CONFIRMED
END:VEVENT
BEGIN:VEVENT
UID:169e5e50009fc81022309@hockeytech.com
TZID:UTC
DTSTART:20251108T030500Z
DTEND:20251108T060500Z
DTSTAMP:20251108T030500
DESCRIPTION:You have booked some WHL games
LOCATION:Angel of the Winds Arena - Everett, WA
SUMMARY:Prince George Cougars @ Everett Silvertips
STATUS:CONFIRMED
END:VEVENT
BEGIN:VEVENT
UID:169e5e50009fc81022329@hockeytech.com
TZID:UTC
DTSTART:20251109T020000Z
DTEND:20251109T050000Z
DTSTAMP:20251109T020000
DESCRIPTION:You have booked some WHL games
LOCATION:Town Toyota Center - Wenatchee, WA
SUMMARY:Prince George Cougars @ Wenatchee Wild
STATUS:CONFIRMED
END:VEVENT
BEGIN:VEVENT
UID:169e5e50009fc81022336@hockeytech.com
TZID:UTC
DTSTART:20251111T220000Z
DTEND:20251112T010000Z
DTSTAMP:20251111T220000
DESCRIPTION:You have booked some WHL games
LOCATION:CN Centre - Prince George, BC
SUMMARY:Victoria Royals @ Prince George Cougars
STATUS:CONFIRMED
END:VEVENT
BEGIN:VEVENT
UID:169e5e50009fc81022341@hockeytech.com
TZID:UTC
DTSTART:20251113T030000Z
DTEND:20251113T060000Z
DTSTAMP:20251113T030000
DESCRIPTION:You have booked some WHL games
LOCATION:CN Centre - Prince George, BC
SUMMARY:Victoria Royals @ Prince George Cougars
STATUS:CONFIRMED
END:VEVENT
BEGIN:VEVENT
UID:169e5e50009fc81022346@hockeytech.com
TZID:UTC
DTSTART:20251115T030000Z
DTEND:20251115T060000Z
DTSTAMP:20251115T030000
DESCRIPTION:You have booked some WHL games
LOCATION:CN Centre - Prince George, BC
SUMMARY:Kamloops Blazers @ Prince George Cougars
STATUS:CONFIRMED
END:VEVENT
BEGIN:VEVENT
UID:169e5e50009fc81022375@hockeytech.com
TZID:UTC
DTSTART:20251122T030000Z
DTEND:20251122T060000Z
DTSTAMP:20251122T030000
DESCRIPTION:You have booked some WHL games
LOCATION:CN Centre - Prince George, BC
SUMMARY:Lethbridge Hurricanes @ Prince George Cougars
STATUS:CONFIRMED
END:VEVENT
BEGIN:VEVENT
UID:169e5e50009fc81022384@hockeytech.com
TZID:UTC
DTSTART:20251123T020000Z
DTEND:20251123T050000Z
DTSTAMP:20251123T020000
DESCRIPTION:You have booked some WHL games
LOCATION:CN Centre - Prince George, BC
SUMMARY:Edmonton Oil Kings @ Prince George Cougars
STATUS:CONFIRMED
END:VEVENT
BEGIN:VEVENT
UID:169e5e50009fc81022404@hockeytech.com
TZID:UTC
DTSTART:20251129T030000Z
DTEND:20251129T060000Z
DTSTAMP:20251129T030000
DESCRIPTION:You have booked some WHL games
LOCATION:Town Toyota Center - Wenatchee, WA
SUMMARY:Prince George Cougars @ Wenatchee Wild
STATUS:CONFIRMED
END:VEVENT
BEGIN:VEVENT
UID:169e5e50009fc81022410@hockeytech.com
TZID:UTC
DTSTART:20251130T020500Z
DTEND:20251130T050500Z
DTSTAMP:20251130T020500
DESCRIPTION:You have booked some WHL games
LOCATION:Toyota Center - Kennewick, WA
SUMMARY:Prince George Cougars @ Tri-City Americans
STATUS:CONFIRMED
END:VEVENT
BEGIN:VEVENT
UID:169e5e50009fc81022419@hockeytech.com
TZID:UTC
DTSTART:20251204T030500Z
DTEND:20251204T060500Z
DTSTAMP:20251204T030500
DESCRIPTION:You have booked some WHL games
LOCATION:Prospera Place - Kelowna, BC
SUMMARY:Prince George Cougars @ Kelowna Rockets
STATUS:CONFIRMED
END:VEVENT
BEGIN:VEVENT
UID:169e5e50009fc81022433@hockeytech.com
TZID:UTC
DTSTART:20251206T030500Z
DTEND:20251206T060500Z
DTSTAMP:20251206T030500
DESCRIPTION:You have booked some WHL games
LOCATION:Save-On-Foods Memorial Arena - Victoria, BC
SUMMARY:Prince George Cougars @ Victoria Royals
STATUS:CONFIRMED
END:VEVENT
BEGIN:VEVENT
UID:169e5e50009fc81022447@hockeytech.com
TZID:UTC
DTSTART:20251207T220500Z
DTEND:20251208T010500Z
DTSTAMP:20251207T220500
DESCRIPTION:You have booked some WHL games
LOCATION:Save-On-Foods Memorial Arena - Victoria, BC
SUMMARY:Prince George Cougars @ Victoria Royals
STATUS:CONFIRMED
END:VEVENT
BEGIN:VEVENT
UID:169e5e50009fc81022454@hockeytech.com
TZID:UTC
DTSTART:20251213T030000Z
DTEND:20251213T060000Z
DTSTAMP:20251213T030000
DESCRIPTION:You have booked some WHL games
LOCATION:CN Centre - Prince George, BC
SUMMARY:Kamloops Blazers @ Prince George Cougars
STATUS:CONFIRMED
END:VEVENT
BEGIN:VEVENT
UID:169e5e50009fc81022468@hockeytech.com
TZID:UTC
DTSTART:20251214T020000Z
DTEND:20251214T050000Z
DTSTAMP:20251214T020000
DESCRIPTION:You have booked some WHL games
LOCATION:CN Centre - Prince George, BC
SUMMARY:Kamloops Blazers @ Prince George Cougars
STATUS:CONFIRMED
END:VEVENT
BEGIN:VEVENT
UID:169e5e50009fc81022487@hockeytech.com
TZID:UTC
DTSTART:20251218T023500Z
DTEND:20251218T053500Z
DTSTAMP:20251218T023500
DESCRIPTION:You have booked some WHL games
LOCATION:South Okanagan Events Centre - Penticton, BC
SUMMARY:Prince George Cougars @ Penticton Vees
STATUS:CONFIRMED
END:VEVENT
BEGIN:VEVENT
UID:169e5e50009fc81022492@hockeytech.com
TZID:UTC
DTSTART:20251220T030500Z
DTEND:20251220T060500Z
DTSTAMP:20251220T030500
DESCRIPTION:You have booked some WHL games
LOCATION:Angel of the Winds Arena - Everett, WA
SUMMARY:Prince George Cougars @ Everett Silvertips
STATUS:CONFIRMED
END:VEVENT
BEGIN:VEVENT
UID:169e5e50009fc81022500@hockeytech.com
TZID:UTC
DTSTART:20251228T020000Z
DTEND:20251228T050000Z
DTSTAMP:20251228T020000
DESCRIPTION:You have booked some WHL games
LOCATION:CN Centre - Prince George, BC
SUMMARY:Victoria Royals @ Prince George Cougars
STATUS:CONFIRMED
END:VEVENT
BEGIN:VEVENT
UID:169e5e50009fc81022512@hockeytech.com
TZID:UTC
DTSTART:20251229T010000Z
DTEND:20251229T040000Z
DTSTAMP:20251229T010000
DESCRIPTION:You have booked some WHL games
LOCATION:CN Centre - Prince George, BC
SUMMARY:Victoria Royals @ Prince George Cougars
STATUS:CONFIRMED
END:VEVENT
BEGIN:VEVENT
UID:169e5e50009fc81022518@hockeytech.com
TZID:UTC
DTSTART:20251231T030000Z
DTEND:20251231T060000Z
DTSTAMP:20251231T030000
DESCRIPTION:You have booked some WHL games
LOCATION:Sandman Centre - Kamloops, BC
SUMMARY:Prince George Cougars @ Kamloops Blazers
STATUS:CONFIRMED
END:VEVENT
BEGIN:VEVENT
UID:169e5e50009fc81022530@hockeytech.com
TZID:UTC
DTSTART:20260102T000000Z
DTEND:20260102T030000Z
DTSTAMP:20260102T000000
DESCRIPTION:You have booked some WHL games
LOCATION:South Okanagan Events Centre - Penticton, BC
SUMMARY:Prince George Cougars @ Penticton Vees
STATUS:CONFIRMED
END:VEVENT
BEGIN:VEVENT
UID:169e5e50009fc81022542@hockeytech.com
TZID:UTC
DTSTART:20260104T020000Z
DTEND:20260104T050000Z
DTSTAMP:20260104T020000
DESCRIPTION:You have booked some WHL games
LOCATION:CN Centre - Prince George, BC
SUMMARY:Calgary Hitmen @ Prince George Cougars
STATUS:CONFIRMED
END:VEVENT
BEGIN:VEVENT
UID:169e5e50009fc81022552@hockeytech.com
TZID:UTC
DTSTART:20260107T030000Z
DTEND:20260107T060000Z
DTSTAMP:20260107T030000
DESCRIPTION:You have booked some WHL games
LOCATION:CN Centre - Prince George, BC
SUMMARY:Penticton Vees @ Prince George Cougars
STATUS:CONFIRMED
END:VEVENT
BEGIN:VEVENT
UID:169e5e50009fc81022556@hockeytech.com
TZID:UTC
DTSTART:20260108T030000Z
DTEND:20260108T060000Z
DTSTAMP:20260108T030000
DESCRIPTION:You have booked some WHL games
LOCATION:CN Centre - Prince George, BC
SUMMARY:Penticton Vees @ Prince George Cougars
STATUS:CONFIRMED
END:VEVENT
BEGIN:VEVENT
UID:169e5e50009fc81022574@hockeytech.com
TZID:UTC
DTSTART:20260111T020000Z
DTEND:20260111T050000Z
DTSTAMP:20260111T020000
DESCRIPTION:You have booked some WHL games
LOCATION:CN Centre - Prince George, BC
SUMMARY:Everett Silvertips @ Prince George Cougars
STATUS:CONFIRMED
END:VEVENT
BEGIN:VEVENT
UID:169e5e50009fc81022579@hockeytech.com
TZID:UTC
DTSTART:20260111T220000Z
DTEND:20260112T010000Z
DTSTAMP:20260111T220000
DESCRIPTION:You have booked some WHL games
LOCATION:CN Centre - Prince George, BC
SUMMARY:Everett Silvertips @ Prince George Cougars
STATUS:CONFIRMED
END:VEVENT
BEGIN:VEVENT
UID:169e5e50009fc81022591@hockeytech.com
TZID:UTC
DTSTART:20260117T030000Z
DTEND:20260117T060000Z
DTSTAMP:20260117T030000
DESCRIPTION:You have booked some WHL games
LOCATION:Sandman Centre - Kamloops, BC
SUMMARY:Prince George Cougars @ Kamloops Blazers
STATUS:CONFIRMED
END:VEVENT
BEGIN:VEVENT
UID:169e5e50009fc81022603@hockeytech.com
TZID:UTC
DTSTART:20260118T020500Z
DTEND:20260118T050500Z
DTSTAMP:20260118T020500
DESCRIPTION:You have booked some WHL games
LOCATION:Prospera Place - Kelowna, BC
SUMMARY:Prince George Cougars @ Kelowna Rockets
STATUS:CONFIRMED
END:VEVENT
BEGIN:VEVENT
UID:169e5e50009fc81022611@hockeytech.com
TZID:UTC
DTSTART:20260119T000000Z
DTEND:20260119T030000Z
DTSTAMP:20260119T000000
DESCRIPTION:You have booked some WHL games
LOCATION:Langley Events Centre - Langley, BC
SUMMARY:Prince George Cougars @ Vancouver Giants
STATUS:CONFIRMED
END:VEVENT
BEGIN:VEVENT
UID:169e5e50009fc81022626@hockeytech.com
TZID:UTC
DTSTART:20260124T030000Z
DTEND:20260124T060000Z
DTSTAMP:20260124T030000
DESCRIPTION:You have booked some WHL games
LOCATION:CN Centre - Prince George, BC
SUMMARY:Vancouver Giants @ Prince George Cougars
STATUS:CONFIRMED
END:VEVENT
BEGIN:VEVENT
UID:169e5e50009fc81022638@hockeytech.com
TZID:UTC
DTSTART:20260125T020000Z
DTEND:20260125T050000Z
DTSTAMP:20260125T020000
DESCRIPTION:You have booked some WHL games
LOCATION:CN Centre - Prince George, BC
SUMMARY:Vancouver Giants @ Prince George Cougars
STATUS:CONFIRMED
END:VEVENT
BEGIN:VEVENT
UID:169e5e50009fc81022653@hockeytech.com
TZID:UTC
DTSTART:20260131T030500Z
DTEND:20260131T060500Z
DTSTAMP:20260131T030500
DESCRIPTION:You have booked some WHL games
LOCATION:Prospera Place - Kelowna, BC
SUMMARY:Prince George Cougars @ Kelowna Rockets
STATUS:CONFIRMED
END:VEVENT
BEGIN:VEVENT
UID:169e5e50009fc81022661@hockeytech.com
TZID:UTC
DTSTART:20260201T020000Z
DTEND:20260201T050000Z
DTSTAMP:20260201T020000
DESCRIPTION:You have booked some WHL games
LOCATION:Sandman Centre - Kamloops, BC
SUMMARY:Prince George Cougars @ Kamloops Blazers
STATUS:CONFIRMED
END:VEVENT
BEGIN:VEVENT
UID:169e5e50009fc81022677@hockeytech.com
TZID:UTC
DTSTART:20260204T030000Z
DTEND:20260204T060000Z
DTSTAMP:20260204T030000
DESCRIPTION:You have booked some WHL games
LOCATION:CN Centre - Prince George, BC
SUMMARY:Red Deer Rebels @ Prince George Cougars
STATUS:CONFIRMED
END:VEVENT
BEGIN:VEVENT
UID:169e5e50009fc81022690@hockeytech.com
TZID:UTC
DTSTART:20260207T030000Z
DTEND:20260207T060000Z
DTSTAMP:20260207T030000
DESCRIPTION:You have booked some WHL games
LOCATION:CN Centre - Prince George, BC
SUMMARY:Kelowna Rockets @ Prince George Cougars
STATUS:CONFIRMED
END:VEVENT
BEGIN:VEVENT
UID:169e5e50009fc81022700@hockeytech.com
TZID:UTC
DTSTART:20260208T020000Z
DTEND:20260208T050000Z
DTSTAMP:20260208T020000
DESCRIPTION:You have booked some WHL games
LOCATION:CN Centre - Prince George, BC
SUMMARY:Kelowna Rockets @ Prince George Cougars
STATUS:CONFIRMED
END:VEVENT
BEGIN:VEVENT
UID:169e5e50009fc81022720@hockeytech.com
TZID:UTC
DTSTART:20260214T030000Z
DTEND:20260214T060000Z
DTSTAMP:20260214T030000
DESCRIPTION:You have booked some WHL games
LOCATION:CN Centre - Prince George, BC
SUMMARY:Kamloops Blazers @ Prince George Cougars
STATUS:CONFIRMED
END:VEVENT
BEGIN:VEVENT
UID:169e5e50009fc81022728@hockeytech.com
TZID:UTC
DTSTART:20260215T020000Z
DTEND:20260215T050000Z
DTSTAMP:20260215T020000
DESCRIPTION:You have booked some WHL games
LOCATION:Sandman Centre - Kamloops, BC
SUMMARY:Prince George Cougars @ Kamloops Blazers
STATUS:CONFIRMED
END:VEVENT
BEGIN:VEVENT
UID:169e5e50009fc81022745@hockeytech.com
TZID:UTC
DTSTART:20260216T220000Z
DTEND:20260217T010000Z
DTSTAMP:20260216T220000
DESCRIPTION:You have booked some WHL games
LOCATION:South Okanagan Events Centre - Penticton, BC
SUMMARY:Prince George Cougars @ Penticton Vees
STATUS:CONFIRMED
END:VEVENT
BEGIN:VEVENT
UID:169e5e50009fc81022757@hockeytech.com
TZID:UTC
DTSTART:20260221T010000Z
DTEND:20260221T040000Z
DTSTAMP:20260221T010000
DESCRIPTION:You have booked some WHL games
LOCATION:InnovationPlex - Swift Current, SK
SUMMARY:Prince George Cougars @ Swift Current Broncos
STATUS:CONFIRMED
END:VEVENT
BEGIN:VEVENT
UID:169e5e50009fc81022764@hockeytech.com
TZID:UTC
DTSTART:20260222T000000Z
DTEND:20260222T030000Z
DTSTAMP:20260222T000000
DESCRIPTION:You have booked some WHL games
LOCATION:Temple Gardens Centre - Moose Jaw, SK
SUMMARY:Prince George Cougars @ Moose Jaw Warriors
STATUS:CONFIRMED
END:VEVENT
BEGIN:VEVENT
UID:169e5e50009fc81022773@hockeytech.com
TZID:UTC
DTSTART:20260225T010000Z
DTEND:20260225T040000Z
DTSTAMP:20260225T010000
DESCRIPTION:You have booked some WHL games
LOCATION:Assiniboine Credit Union Place - Brandon, MB
SUMMARY:Prince George Cougars @ Brandon Wheat Kings
STATUS:CONFIRMED
END:VEVENT
BEGIN:VEVENT
UID:169e5e50009fc81022780@hockeytech.com
TZID:UTC
DTSTART:20260226T010000Z
DTEND:20260226T040000Z
DTSTAMP:20260226T010000
DESCRIPTION:You have booked some WHL games
LOCATION:Brandt Centre - Regina, SK
SUMMARY:Prince George Cougars @ Regina Pats
STATUS:CONFIRMED
END:VEVENT
BEGIN:VEVENT
UID:169e5e50009fc81022790@hockeytech.com
TZID:UTC
DTSTART:20260228T010000Z
DTEND:20260228T040000Z
DTSTAMP:20260228T010000
DESCRIPTION:You have booked some WHL games
LOCATION:SaskTel Centre - Saskatoon, SK
SUMMARY:Prince George Cougars @ Saskatoon Blades
STATUS:CONFIRMED
END:VEVENT
BEGIN:VEVENT
UID:169e5e50009fc81022798@hockeytech.com
TZID:UTC
DTSTART:20260301T010000Z
DTEND:20260301T040000Z
DTSTAMP:20260301T010000
DESCRIPTION:You have booked some WHL games
LOCATION:Art Hauser Centre - Prince Albert, SK
SUMMARY:Prince George Cougars @ Prince Albert Raiders
STATUS:CONFIRMED
END:VEVENT
BEGIN:VEVENT
UID:169e5e50009fc81022822@hockeytech.com
TZID:UTC
DTSTART:20260307T030000Z
DTEND:20260307T060000Z
DTSTAMP:20260307T030000
DESCRIPTION:You have booked some WHL games
LOCATION:CN Centre - Prince George, BC
SUMMARY:Spokane Chiefs @ Prince George Cougars
STATUS:CONFIRMED
END:VEVENT
BEGIN:VEVENT
UID:169e5e50009fc81022833@hockeytech.com
TZID:UTC
DTSTART:20260308T020000Z
DTEND:20260308T050000Z
DTSTAMP:20260308T020000
DESCRIPTION:You have booked some WHL games
LOCATION:CN Centre - Prince George, BC
SUMMARY:Spokane Chiefs @ Prince George Cougars
STATUS:CONFIRMED
END:VEVENT
BEGIN:VEVENT
UID:169e5e50009fc81022842@hockeytech.com
TZID:UTC
DTSTART:20260311T020000Z
DTEND:20260311T050000Z
DTSTAMP:20260311T020000
DESCRIPTION:You have booked some WHL games
LOCATION:CN Centre - Prince George, BC
SUMMARY:Penticton Vees @ Prince George Cougars
STATUS:CONFIRMED
END:VEVENT
BEGIN:VEVENT
UID:169e5e50009fc81022857@hockeytech.com
TZID:UTC
DTSTART:20260314T020000Z
DTEND:20260314T050000Z
DTSTAMP:20260314T020000
DESCRIPTION:You have booked some WHL games
LOCATION:CN Centre - Prince George, BC
SUMMARY:Wenatchee Wild @ Prince George Cougars
STATUS:CONFIRMED
END:VEVENT
BEGIN:VEVENT
UID:169e5e50009fc81022866@hockeytech.com
TZID:UTC
DTSTART:20260315T010000Z
DTEND:20260315T040000Z
DTSTAMP:20260315T010000
DESCRIPTION:You have booked some WHL games
LOCATION:CN Centre - Prince George, BC
SUMMARY:Wenatchee Wild @ Prince George Cougars
STATUS:CONFIRMED
END:VEVENT
BEGIN:VEVENT
UID:169e5e50009fc81022879@hockeytech.com
TZID:UTC
DTSTART:20260318T020000Z
DTEND:20260318T050000Z
DTSTAMP:20260318T020000
DESCRIPTION:You have booked some WHL games
LOCATION:CN Centre - Prince George, BC
SUMMARY:Kamloops Blazers @ Prince George Cougars
STATUS:CONFIRMED
END:VEVENT
BEGIN:VEVENT
UID:169e5e50009fc81022893@hockeytech.com
TZID:UTC
DTSTART:20260321T020500Z
DTEND:20260321T050500Z
DTSTAMP:20260321T020500
DESCRIPTION:You have booked some WHL games
LOCATION:Save-On-Foods Memorial Arena - Victoria, BC
SUMMARY:Prince George Cougars @ Victoria Royals
STATUS:CONFIRMED
END:VEVENT
BEGIN:VEVENT
UID:169e5e50009fc81022905@hockeytech.com
TZID:UTC
DTSTART:20260322T010500Z
DTEND:20260322T040500Z
DTSTAMP:20260322T010500
DESCRIPTION:You have booked some WHL games
LOCATION:Save-On-Foods Memorial Arena - Victoria, BC
SUMMARY:Prince George Cougars @ Victoria Royals
STATUS:CONFIRMED
END:VEVENT
END:VCALENDAR