BEGIN:VCALENDAR
VERSION:2.0
PRODID:-//Hockeytech//Leaguestat iCal//EN
BEGIN:VEVENT
UID:244569eb21729f91a1021978@hockeytech.com
TZID:UTC
DTSTART:20250403T020500Z
DTEND:20250403T050500Z
DTSTAMP:20250403T020500
DESCRIPTION:You have booked some WHL games
LOCATION:Numerica Veterans Arena - Spokane, WA
SUMMARY:Vancouver Giants @ Spokane Chiefs
STATUS:CONFIRMED
END:VEVENT
BEGIN:VEVENT
UID:244569eb21729f91a1021979@hockeytech.com
TZID:UTC
DTSTART:20250404T020500Z
DTEND:20250404T050500Z
DTSTAMP:20250404T020500
DESCRIPTION:You have booked some WHL games
LOCATION:Numerica Veterans Arena - Spokane, WA
SUMMARY:Vancouver Giants @ Spokane Chiefs
STATUS:CONFIRMED
END:VEVENT
BEGIN:VEVENT
UID:244569eb21729f91a1021997@hockeytech.com
TZID:UTC
DTSTART:20250329T020000Z
DTEND:20250329T050000Z
DTSTAMP:20250329T020000
DESCRIPTION:You have booked some WHL games
LOCATION:Langley Events Centre - Langley, BC
SUMMARY:Spokane Chiefs @ Vancouver Giants
STATUS:CONFIRMED
END:VEVENT
BEGIN:VEVENT
UID:244569eb21729f91a1021998@hockeytech.com
TZID:UTC
DTSTART:20250330T230000Z
DTEND:20250331T020000Z
DTSTAMP:20250330T230000
DESCRIPTION:You have booked some WHL games
LOCATION:Langley Events Centre - Langley, BC
SUMMARY:Spokane Chiefs @ Vancouver Giants
STATUS:CONFIRMED
END:VEVENT
BEGIN:VEVENT
UID:244569eb21729f91a1021999@hockeytech.com
TZID:UTC
DTSTART:20250406T010500Z
DTEND:20250406T040500Z
DTSTAMP:20250406T010500
DESCRIPTION:You have booked some WHL games
LOCATION:Numerica Veterans Arena - Spokane, WA
SUMMARY:Vancouver Giants @ Spokane Chiefs
STATUS:CONFIRMED
END:VEVENT
BEGIN:VEVENT
UID:244569eb21729f91a1022023@hockeytech.com
TZID:UTC
DTSTART:20250414T010500Z
DTEND:20250414T040500Z
DTSTAMP:20250414T010500
DESCRIPTION:You have booked some WHL games
LOCATION:Numerica Veterans Arena - Spokane, WA
SUMMARY:Victoria Royals @ Spokane Chiefs
STATUS:CONFIRMED
END:VEVENT
BEGIN:VEVENT
UID:244569eb21729f91a1022024@hockeytech.com
TZID:UTC
DTSTART:20250415T020500Z
DTEND:20250415T050500Z
DTSTAMP:20250415T020500
DESCRIPTION:You have booked some WHL games
LOCATION:Numerica Veterans Arena - Spokane, WA
SUMMARY:Victoria Royals @ Spokane Chiefs
STATUS:CONFIRMED
END:VEVENT
BEGIN:VEVENT
UID:244569eb21729f91a1022025@hockeytech.com
TZID:UTC
DTSTART:20250417T020500Z
DTEND:20250417T050500Z
DTSTAMP:20250417T020500
DESCRIPTION:You have booked some WHL games
LOCATION:Save-On-Foods Memorial Arena - Victoria, BC
SUMMARY:Spokane Chiefs @ Victoria Royals
STATUS:CONFIRMED
END:VEVENT
BEGIN:VEVENT
UID:244569eb21729f91a1022026@hockeytech.com
TZID:UTC
DTSTART:20250419T020500Z
DTEND:20250419T050500Z
DTSTAMP:20250419T020500
DESCRIPTION:You have booked some WHL games
LOCATION:Save-On-Foods Memorial Arena - Victoria, BC
SUMMARY:Spokane Chiefs @ Victoria Royals
STATUS:CONFIRMED
END:VEVENT
BEGIN:VEVENT
UID:244569eb21729f91a1022027@hockeytech.com
TZID:UTC
DTSTART:20250420T010500Z
DTEND:20250420T040500Z
DTSTAMP:20250420T010500
DESCRIPTION:You have booked some WHL games
LOCATION:Save-On-Foods Memorial Arena - Victoria, BC
SUMMARY:Spokane Chiefs @ Victoria Royals
STATUS:CONFIRMED
END:VEVENT
BEGIN:VEVENT
UID:244569eb21729f91a1022028@hockeytech.com
TZID:UTC
DTSTART:20250423T020500Z
DTEND:20250423T050500Z
DTSTAMP:20250423T020500
DESCRIPTION:You have booked some WHL games
LOCATION:Numerica Veterans Arena - Spokane, WA
SUMMARY:Victoria Royals @ Spokane Chiefs
STATUS:CONFIRMED
END:VEVENT
BEGIN:VEVENT
UID:244569eb21729f91a1022045@hockeytech.com
TZID:UTC
DTSTART:20250426T020500Z
DTEND:20250426T050500Z
DTSTAMP:20250426T020500
DESCRIPTION:You have booked some WHL games
LOCATION:Numerica Veterans Arena - Spokane, WA
SUMMARY:Portland Winterhawks @ Spokane Chiefs
STATUS:CONFIRMED
END:VEVENT
BEGIN:VEVENT
UID:244569eb21729f91a1022046@hockeytech.com
TZID:UTC
DTSTART:20250428T000500Z
DTEND:20250428T030500Z
DTSTAMP:20250428T000500
DESCRIPTION:You have booked some WHL games
LOCATION:Numerica Veterans Arena - Spokane, WA
SUMMARY:Portland Winterhawks @ Spokane Chiefs
STATUS:CONFIRMED
END:VEVENT
BEGIN:VEVENT
UID:244569eb21729f91a1022047@hockeytech.com
TZID:UTC
DTSTART:20250501T020000Z
DTEND:20250501T050000Z
DTSTAMP:20250501T020000
DESCRIPTION:You have booked some WHL games
LOCATION:Veterans Memorial Coliseum - Portland, OR
SUMMARY:Spokane Chiefs @ Portland Winterhawks
STATUS:CONFIRMED
END:VEVENT
BEGIN:VEVENT
UID:244569eb21729f91a1022048@hockeytech.com
TZID:UTC
DTSTART:20250502T020000Z
DTEND:20250502T050000Z
DTSTAMP:20250502T020000
DESCRIPTION:You have booked some WHL games
LOCATION:Veterans Memorial Coliseum - Portland, OR
SUMMARY:Spokane Chiefs @ Portland Winterhawks
STATUS:CONFIRMED
END:VEVENT
BEGIN:VEVENT
UID:244569eb21729f91a1022060@hockeytech.com
TZID:UTC
DTSTART:20250510T010000Z
DTEND:20250510T040000Z
DTSTAMP:20250510T010000
DESCRIPTION:You have booked some WHL games
LOCATION:Co-op Place - Medicine Hat, AB
SUMMARY:Spokane Chiefs @ Medicine Hat Tigers
STATUS:CONFIRMED
END:VEVENT
BEGIN:VEVENT
UID:244569eb21729f91a1022061@hockeytech.com
TZID:UTC
DTSTART:20250512T010000Z
DTEND:20250512T040000Z
DTSTAMP:20250512T010000
DESCRIPTION:You have booked some WHL games
LOCATION:Co-op Place - Medicine Hat, AB
SUMMARY:Spokane Chiefs @ Medicine Hat Tigers
STATUS:CONFIRMED
END:VEVENT
BEGIN:VEVENT
UID:244569eb21729f91a1022062@hockeytech.com
TZID:UTC
DTSTART:20250514T020000Z
DTEND:20250514T050000Z
DTSTAMP:20250514T020000
DESCRIPTION:You have booked some WHL games
LOCATION:Numerica Veterans Arena - Spokane, WA
SUMMARY:Medicine Hat Tigers @ Spokane Chiefs
STATUS:CONFIRMED
END:VEVENT
BEGIN:VEVENT
UID:244569eb21729f91a1022063@hockeytech.com
TZID:UTC
DTSTART:20250515T020000Z
DTEND:20250515T050000Z
DTSTAMP:20250515T020000
DESCRIPTION:You have booked some WHL games
LOCATION:Numerica Veterans Arena - Spokane, WA
SUMMARY:Medicine Hat Tigers @ Spokane Chiefs
STATUS:CONFIRMED
END:VEVENT
BEGIN:VEVENT
UID:244569eb21729f91a1022064@hockeytech.com
TZID:UTC
DTSTART:20250517T020000Z
DTEND:20250517T050000Z
DTSTAMP:20250517T020000
DESCRIPTION:You have booked some WHL games
LOCATION:Numerica Veterans Arena - Spokane, WA
SUMMARY:Medicine Hat Tigers @ Spokane Chiefs
STATUS:CONFIRMED
END:VEVENT
END:VCALENDAR