BEGIN:VCALENDAR
VERSION:2.0
PRODID:-//Hockeytech//Leaguestat iCal//EN
BEGIN:VEVENT
UID:1620369e82258435231021156@hockeytech.com
TZID:UTC
DTSTART:20240905T010000Z
DTEND:20240905T040000Z
DTSTAMP:20240905T010000
DESCRIPTION:You have booked some WHL games
LOCATION:Art Hauser Centre - Prince Albert, SK
SUMMARY:Saskatoon Blades @ Prince Albert Raiders
STATUS:CONFIRMED
END:VEVENT
BEGIN:VEVENT
UID:1620369e82258435231021159@hockeytech.com
TZID:UTC
DTSTART:20240907T000000Z
DTEND:20240907T030000Z
DTSTAMP:20240907T000000
DESCRIPTION:You have booked some WHL games
LOCATION:Assiniboine Credit Union Place - Brandon, MB
SUMMARY:Saskatoon Blades @ Brandon Wheat Kings
STATUS:CONFIRMED
END:VEVENT
BEGIN:VEVENT
UID:1620369e82258435231021178@hockeytech.com
TZID:UTC
DTSTART:20240908T220000Z
DTEND:20240909T010000Z
DTSTAMP:20240908T220000
DESCRIPTION:You have booked some WHL games
LOCATION:SaskTel Centre - Saskatoon, SK
SUMMARY:Brandon Wheat Kings @ Saskatoon Blades
STATUS:CONFIRMED
END:VEVENT
BEGIN:VEVENT
UID:1620369e82258435231021185@hockeytech.com
TZID:UTC
DTSTART:20240914T010000Z
DTEND:20240914T040000Z
DTSTAMP:20240914T010000
DESCRIPTION:You have booked some WHL games
LOCATION:Art Hauser Centre - Prince Albert, SK
SUMMARY:Saskatoon Blades @ Prince Albert Raiders
STATUS:CONFIRMED
END:VEVENT
BEGIN:VEVENT
UID:1620369e82258435231021196@hockeytech.com
TZID:UTC
DTSTART:20240915T010000Z
DTEND:20240915T040000Z
DTSTAMP:20240915T010000
DESCRIPTION:You have booked some WHL games
LOCATION:The Legends Centre - Warman, SK
SUMMARY:Prince Albert Raiders @ Saskatoon Blades
STATUS:CONFIRMED
END:VEVENT
END:VCALENDAR