BEGIN:VCALENDAR
VERSION:2.0
PRODID:-//Hockeytech//Leaguestat iCal//EN
BEGIN:VEVENT
UID:839769ecdfe2d01661021023@hockeytech.com
TZID:UTC
DTSTART:20240330T020000Z
DTEND:20240330T050000Z
DTSTAMP:20240330T020000
DESCRIPTION:You have booked some WHL games
LOCATION:Veterans Memorial Coliseum - Portland, OR
SUMMARY:Victoria Royals @ Portland Winterhawks
STATUS:CONFIRMED
END:VEVENT
BEGIN:VEVENT
UID:839769ecdfe2d01661021024@hockeytech.com
TZID:UTC
DTSTART:20240331T010000Z
DTEND:20240331T040000Z
DTSTAMP:20240331T010000
DESCRIPTION:You have booked some WHL games
LOCATION:Veterans Memorial Coliseum - Portland, OR
SUMMARY:Victoria Royals @ Portland Winterhawks
STATUS:CONFIRMED
END:VEVENT
BEGIN:VEVENT
UID:839769ecdfe2d01661021064@hockeytech.com
TZID:UTC
DTSTART:20240403T020500Z
DTEND:20240403T050500Z
DTSTAMP:20240403T020500
DESCRIPTION:You have booked some WHL games
LOCATION:Save-On-Foods Memorial Arena - Victoria, BC
SUMMARY:Portland Winterhawks @ Victoria Royals
STATUS:CONFIRMED
END:VEVENT
BEGIN:VEVENT
UID:839769ecdfe2d01661021065@hockeytech.com
TZID:UTC
DTSTART:20240404T020500Z
DTEND:20240404T050500Z
DTSTAMP:20240404T020500
DESCRIPTION:You have booked some WHL games
LOCATION:Save-On-Foods Memorial Arena - Victoria, BC
SUMMARY:Portland Winterhawks @ Victoria Royals
STATUS:CONFIRMED
END:VEVENT
BEGIN:VEVENT
UID:839769ecdfe2d01661021083@hockeytech.com
TZID:UTC
DTSTART:20240413T020000Z
DTEND:20240413T050000Z
DTSTAMP:20240413T020000
DESCRIPTION:You have booked some WHL games
LOCATION:Veterans Memorial Coliseum - Portland, OR
SUMMARY:Everett Silvertips @ Portland Winterhawks
STATUS:CONFIRMED
END:VEVENT
BEGIN:VEVENT
UID:839769ecdfe2d01661021084@hockeytech.com
TZID:UTC
DTSTART:20240414T010000Z
DTEND:20240414T040000Z
DTSTAMP:20240414T010000
DESCRIPTION:You have booked some WHL games
LOCATION:Veterans Memorial Coliseum - Portland, OR
SUMMARY:Everett Silvertips @ Portland Winterhawks
STATUS:CONFIRMED
END:VEVENT
BEGIN:VEVENT
UID:839769ecdfe2d01661021106@hockeytech.com
TZID:UTC
DTSTART:20240416T020500Z
DTEND:20240416T050500Z
DTSTAMP:20240416T020500
DESCRIPTION:You have booked some WHL games
LOCATION:Angel of the Winds Arena - Everett, WA
SUMMARY:Portland Winterhawks @ Everett Silvertips
STATUS:CONFIRMED
END:VEVENT
BEGIN:VEVENT
UID:839769ecdfe2d01661021107@hockeytech.com
TZID:UTC
DTSTART:20240420T020500Z
DTEND:20240420T050500Z
DTSTAMP:20240420T020500
DESCRIPTION:You have booked some WHL games
LOCATION:Angel of the Winds Arena - Everett, WA
SUMMARY:Portland Winterhawks @ Everett Silvertips
STATUS:CONFIRMED
END:VEVENT
BEGIN:VEVENT
UID:839769ecdfe2d01661021118@hockeytech.com
TZID:UTC
DTSTART:20240427T020000Z
DTEND:20240427T050000Z
DTSTAMP:20240427T020000
DESCRIPTION:You have booked some WHL games
LOCATION:CN Centre - Prince George, BC
SUMMARY:Portland Winterhawks @ Prince George Cougars
STATUS:CONFIRMED
END:VEVENT
BEGIN:VEVENT
UID:839769ecdfe2d01661021119@hockeytech.com
TZID:UTC
DTSTART:20240428T010000Z
DTEND:20240428T040000Z
DTSTAMP:20240428T010000
DESCRIPTION:You have booked some WHL games
LOCATION:CN Centre - Prince George, BC
SUMMARY:Portland Winterhawks @ Prince George Cougars
STATUS:CONFIRMED
END:VEVENT
BEGIN:VEVENT
UID:839769ecdfe2d01661021120@hockeytech.com
TZID:UTC
DTSTART:20240430T020000Z
DTEND:20240430T050000Z
DTSTAMP:20240430T020000
DESCRIPTION:You have booked some WHL games
LOCATION:Veterans Memorial Coliseum - Portland, OR
SUMMARY:Prince George Cougars @ Portland Winterhawks
STATUS:CONFIRMED
END:VEVENT
BEGIN:VEVENT
UID:839769ecdfe2d01661021121@hockeytech.com
TZID:UTC
DTSTART:20240502T020000Z
DTEND:20240502T050000Z
DTSTAMP:20240502T020000
DESCRIPTION:You have booked some WHL games
LOCATION:Veterans Memorial Coliseum - Portland, OR
SUMMARY:Prince George Cougars @ Portland Winterhawks
STATUS:CONFIRMED
END:VEVENT
BEGIN:VEVENT
UID:839769ecdfe2d01661021122@hockeytech.com
TZID:UTC
DTSTART:20240503T020000Z
DTEND:20240503T050000Z
DTSTAMP:20240503T020000
DESCRIPTION:You have booked some WHL games
LOCATION:Veterans Memorial Coliseum - Portland, OR
SUMMARY:Prince George Cougars @ Portland Winterhawks
STATUS:CONFIRMED
END:VEVENT
BEGIN:VEVENT
UID:839769ecdfe2d01661021123@hockeytech.com
TZID:UTC
DTSTART:20240507T020000Z
DTEND:20240507T050000Z
DTSTAMP:20240507T020000
DESCRIPTION:You have booked some WHL games
LOCATION:CN Centre - Prince George, BC
SUMMARY:Portland Winterhawks @ Prince George Cougars
STATUS:CONFIRMED
END:VEVENT
BEGIN:VEVENT
UID:839769ecdfe2d01661021125@hockeytech.com
TZID:UTC
DTSTART:20240511T020000Z
DTEND:20240511T050000Z
DTSTAMP:20240511T020000
DESCRIPTION:You have booked some WHL games
LOCATION:Veterans Memorial Coliseum - Portland, OR
SUMMARY:Moose Jaw Warriors @ Portland Winterhawks
STATUS:CONFIRMED
END:VEVENT
BEGIN:VEVENT
UID:839769ecdfe2d01661021126@hockeytech.com
TZID:UTC
DTSTART:20240512T020000Z
DTEND:20240512T050000Z
DTSTAMP:20240512T020000
DESCRIPTION:You have booked some WHL games
LOCATION:Veterans Memorial Coliseum - Portland, OR
SUMMARY:Moose Jaw Warriors @ Portland Winterhawks
STATUS:CONFIRMED
END:VEVENT
BEGIN:VEVENT
UID:839769ecdfe2d01661021127@hockeytech.com
TZID:UTC
DTSTART:20240515T020000Z
DTEND:20240515T050000Z
DTSTAMP:20240515T020000
DESCRIPTION:You have booked some WHL games
LOCATION:Temple Gardens Centre - Moose Jaw, SK
SUMMARY:Portland Winterhawks @ Moose Jaw Warriors
STATUS:CONFIRMED
END:VEVENT
BEGIN:VEVENT
UID:839769ecdfe2d01661021128@hockeytech.com
TZID:UTC
DTSTART:20240516T020000Z
DTEND:20240516T050000Z
DTSTAMP:20240516T020000
DESCRIPTION:You have booked some WHL games
LOCATION:Temple Gardens Centre - Moose Jaw, SK
SUMMARY:Portland Winterhawks @ Moose Jaw Warriors
STATUS:CONFIRMED
END:VEVENT
END:VCALENDAR