BEGIN:VCALENDAR
VERSION:2.0
PRODID:-//Hockeytech//Leaguestat iCal//EN
BEGIN:VEVENT
UID:2517569e5e5c09c1ff1020270@hockeytech.com
TZID:UTC
DTSTART:20230923T020000Z
DTEND:20230923T050000Z
DTSTAMP:20230923T020000
DESCRIPTION:You have booked some WHL games
LOCATION:Town Toyota Center - Wenatchee, WA
SUMMARY:Portland Winterhawks @ Wenatchee Wild
STATUS:CONFIRMED
END:VEVENT
BEGIN:VEVENT
UID:2517569e5e5c09c1ff1020279@hockeytech.com
TZID:UTC
DTSTART:20230924T010000Z
DTEND:20230924T040000Z
DTSTAMP:20230924T010000
DESCRIPTION:You have booked some WHL games
LOCATION:Town Toyota Center - Wenatchee, WA
SUMMARY:Seattle Thunderbirds @ Wenatchee Wild
STATUS:CONFIRMED
END:VEVENT
BEGIN:VEVENT
UID:2517569e5e5c09c1ff1020285@hockeytech.com
TZID:UTC
DTSTART:20230930T020500Z
DTEND:20230930T050500Z
DTSTAMP:20230930T020500
DESCRIPTION:You have booked some WHL games
LOCATION:Angel of the Winds Arena - Everett, WA
SUMMARY:Wenatchee Wild @ Everett Silvertips
STATUS:CONFIRMED
END:VEVENT
BEGIN:VEVENT
UID:2517569e5e5c09c1ff1020294@hockeytech.com
TZID:UTC
DTSTART:20231001T020500Z
DTEND:20231001T050500Z
DTSTAMP:20231001T020500
DESCRIPTION:You have booked some WHL games
LOCATION:Prospera Place - Kelowna, BC
SUMMARY:Wenatchee Wild @ Kelowna Rockets
STATUS:CONFIRMED
END:VEVENT
BEGIN:VEVENT
UID:2517569e5e5c09c1ff1020302@hockeytech.com
TZID:UTC
DTSTART:20231001T230000Z
DTEND:20231002T020000Z
DTSTAMP:20231001T230000
DESCRIPTION:You have booked some WHL games
LOCATION:Langley Events Centre - Langley, BC
SUMMARY:Wenatchee Wild @ Vancouver Giants
STATUS:CONFIRMED
END:VEVENT
BEGIN:VEVENT
UID:2517569e5e5c09c1ff1020312@hockeytech.com
TZID:UTC
DTSTART:20231007T020000Z
DTEND:20231007T050000Z
DTSTAMP:20231007T020000
DESCRIPTION:You have booked some WHL games
LOCATION:CN Centre - Prince George, BC
SUMMARY:Wenatchee Wild @ Prince George Cougars
STATUS:CONFIRMED
END:VEVENT
BEGIN:VEVENT
UID:2517569e5e5c09c1ff1020321@hockeytech.com
TZID:UTC
DTSTART:20231008T010000Z
DTEND:20231008T040000Z
DTSTAMP:20231008T010000
DESCRIPTION:You have booked some WHL games
LOCATION:CN Centre - Prince George, BC
SUMMARY:Wenatchee Wild @ Prince George Cougars
STATUS:CONFIRMED
END:VEVENT
BEGIN:VEVENT
UID:2517569e5e5c09c1ff1020325@hockeytech.com
TZID:UTC
DTSTART:20231008T230000Z
DTEND:20231009T020000Z
DTSTAMP:20231008T230000
DESCRIPTION:You have booked some WHL games
LOCATION:Sandman Centre - Kamloops, BC
SUMMARY:Wenatchee Wild @ Kamloops Blazers
STATUS:CONFIRMED
END:VEVENT
BEGIN:VEVENT
UID:2517569e5e5c09c1ff1020338@hockeytech.com
TZID:UTC
DTSTART:20231014T020500Z
DTEND:20231014T050500Z
DTSTAMP:20231014T020500
DESCRIPTION:You have booked some WHL games
LOCATION:accesso ShoWare Center - Kent, WA
SUMMARY:Wenatchee Wild @ Seattle Thunderbirds
STATUS:CONFIRMED
END:VEVENT
BEGIN:VEVENT
UID:2517569e5e5c09c1ff1020360@hockeytech.com
TZID:UTC
DTSTART:20231019T020500Z
DTEND:20231019T050500Z
DTSTAMP:20231019T020500
DESCRIPTION:You have booked some WHL games
LOCATION:Toyota Center - Kennewick, WA
SUMMARY:Wenatchee Wild @ Tri-City Americans
STATUS:CONFIRMED
END:VEVENT
BEGIN:VEVENT
UID:2517569e5e5c09c1ff1020370@hockeytech.com
TZID:UTC
DTSTART:20231021T020000Z
DTEND:20231021T050000Z
DTSTAMP:20231021T020000
DESCRIPTION:You have booked some WHL games
LOCATION:Town Toyota Center - Wenatchee, WA
SUMMARY:Vancouver Giants @ Wenatchee Wild
STATUS:CONFIRMED
END:VEVENT
BEGIN:VEVENT
UID:2517569e5e5c09c1ff1020377@hockeytech.com
TZID:UTC
DTSTART:20231022T010000Z
DTEND:20231022T040000Z
DTSTAMP:20231022T010000
DESCRIPTION:You have booked some WHL games
LOCATION:Town Toyota Center - Wenatchee, WA
SUMMARY:Brandon Wheat Kings @ Wenatchee Wild
STATUS:CONFIRMED
END:VEVENT
BEGIN:VEVENT
UID:2517569e5e5c09c1ff1020386@hockeytech.com
TZID:UTC
DTSTART:20231025T010000Z
DTEND:20231025T040000Z
DTSTAMP:20231025T010000
DESCRIPTION:You have booked some WHL games
LOCATION:Town Toyota Center - Wenatchee, WA
SUMMARY:Kamloops Blazers @ Wenatchee Wild
STATUS:CONFIRMED
END:VEVENT
BEGIN:VEVENT
UID:2517569e5e5c09c1ff1020392@hockeytech.com
TZID:UTC
DTSTART:20231028T020500Z
DTEND:20231028T050500Z
DTSTAMP:20231028T020500
DESCRIPTION:You have booked some WHL games
LOCATION:Angel of the Winds Arena - Everett, WA
SUMMARY:Wenatchee Wild @ Everett Silvertips
STATUS:CONFIRMED
END:VEVENT
BEGIN:VEVENT
UID:2517569e5e5c09c1ff1020410@hockeytech.com
TZID:UTC
DTSTART:20231029T010000Z
DTEND:20231029T040000Z
DTSTAMP:20231029T010000
DESCRIPTION:You have booked some WHL games
LOCATION:Town Toyota Center - Wenatchee, WA
SUMMARY:Kelowna Rockets @ Wenatchee Wild
STATUS:CONFIRMED
END:VEVENT
BEGIN:VEVENT
UID:2517569e5e5c09c1ff1020430@hockeytech.com
TZID:UTC
DTSTART:20231104T020000Z
DTEND:20231104T050000Z
DTSTAMP:20231104T020000
DESCRIPTION:You have booked some WHL games
LOCATION:Town Toyota Center - Wenatchee, WA
SUMMARY:Vancouver Giants @ Wenatchee Wild
STATUS:CONFIRMED
END:VEVENT
BEGIN:VEVENT
UID:2517569e5e5c09c1ff1020437@hockeytech.com
TZID:UTC
DTSTART:20231105T010000Z
DTEND:20231105T040000Z
DTSTAMP:20231105T010000
DESCRIPTION:You have booked some WHL games
LOCATION:Town Toyota Center - Wenatchee, WA
SUMMARY:Victoria Royals @ Wenatchee Wild
STATUS:CONFIRMED
END:VEVENT
BEGIN:VEVENT
UID:2517569e5e5c09c1ff1020447@hockeytech.com
TZID:UTC
DTSTART:20231109T010000Z
DTEND:20231109T040000Z
DTSTAMP:20231109T010000
DESCRIPTION:You have booked some WHL games
LOCATION:InnovationPlex - Swift Current, SK
SUMMARY:Wenatchee Wild @ Swift Current Broncos
STATUS:CONFIRMED
END:VEVENT
BEGIN:VEVENT
UID:2517569e5e5c09c1ff1020452@hockeytech.com
TZID:UTC
DTSTART:20231111T020000Z
DTEND:20231111T050000Z
DTSTAMP:20231111T020000
DESCRIPTION:You have booked some WHL games
LOCATION:Enmax Centre - Lethbridge, AB
SUMMARY:Wenatchee Wild @ Lethbridge Hurricanes
STATUS:CONFIRMED
END:VEVENT
BEGIN:VEVENT
UID:2517569e5e5c09c1ff1020463@hockeytech.com
TZID:UTC
DTSTART:20231112T020000Z
DTEND:20231112T050000Z
DTSTAMP:20231112T020000
DESCRIPTION:You have booked some WHL games
LOCATION:Co-op Place - Medicine Hat, AB
SUMMARY:Wenatchee Wild @ Medicine Hat Tigers
STATUS:CONFIRMED
END:VEVENT
BEGIN:VEVENT
UID:2517569e5e5c09c1ff1020477@hockeytech.com
TZID:UTC
DTSTART:20231116T020000Z
DTEND:20231116T050000Z
DTSTAMP:20231116T020000
DESCRIPTION:You have booked some WHL games
LOCATION:Town Toyota Center - Wenatchee, WA
SUMMARY:Tri-City Americans @ Wenatchee Wild
STATUS:CONFIRMED
END:VEVENT
BEGIN:VEVENT
UID:2517569e5e5c09c1ff1020484@hockeytech.com
TZID:UTC
DTSTART:20231118T030500Z
DTEND:20231118T060500Z
DTSTAMP:20231118T030500
DESCRIPTION:You have booked some WHL games
LOCATION:Toyota Center - Kennewick, WA
SUMMARY:Wenatchee Wild @ Tri-City Americans
STATUS:CONFIRMED
END:VEVENT
BEGIN:VEVENT
UID:2517569e5e5c09c1ff1020493@hockeytech.com
TZID:UTC
DTSTART:20231119T020500Z
DTEND:20231119T050500Z
DTSTAMP:20231119T020500
DESCRIPTION:You have booked some WHL games
LOCATION:Numerica Veterans Arena - Spokane, WA
SUMMARY:Wenatchee Wild @ Spokane Chiefs
STATUS:CONFIRMED
END:VEVENT
BEGIN:VEVENT
UID:2517569e5e5c09c1ff1020497@hockeytech.com
TZID:UTC
DTSTART:20231120T000000Z
DTEND:20231120T030000Z
DTSTAMP:20231120T000000
DESCRIPTION:You have booked some WHL games
LOCATION:Town Toyota Center - Wenatchee, WA
SUMMARY:Prince Albert Raiders @ Wenatchee Wild
STATUS:CONFIRMED
END:VEVENT
BEGIN:VEVENT
UID:2517569e5e5c09c1ff1020500@hockeytech.com
TZID:UTC
DTSTART:20231122T020000Z
DTEND:20231122T050000Z
DTSTAMP:20231122T020000
DESCRIPTION:You have booked some WHL games
LOCATION:Town Toyota Center - Wenatchee, WA
SUMMARY:Saskatoon Blades @ Wenatchee Wild
STATUS:CONFIRMED
END:VEVENT
BEGIN:VEVENT
UID:2517569e5e5c09c1ff1020516@hockeytech.com
TZID:UTC
DTSTART:20231125T030000Z
DTEND:20231125T060000Z
DTSTAMP:20231125T030000
DESCRIPTION:You have booked some WHL games
LOCATION:Town Toyota Center - Wenatchee, WA
SUMMARY:Spokane Chiefs @ Wenatchee Wild
STATUS:CONFIRMED
END:VEVENT
BEGIN:VEVENT
UID:2517569e5e5c09c1ff1020534@hockeytech.com
TZID:UTC
DTSTART:20231130T030500Z
DTEND:20231130T060500Z
DTSTAMP:20231130T030500
DESCRIPTION:You have booked some WHL games
LOCATION:Prospera Place - Kelowna, BC
SUMMARY:Wenatchee Wild @ Kelowna Rockets
STATUS:CONFIRMED
END:VEVENT
BEGIN:VEVENT
UID:2517569e5e5c09c1ff1020548@hockeytech.com
TZID:UTC
DTSTART:20231202T030000Z
DTEND:20231202T060000Z
DTSTAMP:20231202T030000
DESCRIPTION:You have booked some WHL games
LOCATION:Town Toyota Center - Wenatchee, WA
SUMMARY:Portland Winterhawks @ Wenatchee Wild
STATUS:CONFIRMED
END:VEVENT
BEGIN:VEVENT
UID:2517569e5e5c09c1ff1020550@hockeytech.com
TZID:UTC
DTSTART:20231203T020000Z
DTEND:20231203T050000Z
DTSTAMP:20231203T020000
DESCRIPTION:You have booked some WHL games
LOCATION:Veterans Memorial Coliseum - Portland, OR
SUMMARY:Wenatchee Wild @ Portland Winterhawks
STATUS:CONFIRMED
END:VEVENT
BEGIN:VEVENT
UID:2517569e5e5c09c1ff1020561@hockeytech.com
TZID:UTC
DTSTART:20231204T000000Z
DTEND:20231204T030000Z
DTSTAMP:20231204T000000
DESCRIPTION:You have booked some WHL games
LOCATION:Town Toyota Center - Wenatchee, WA
SUMMARY:Tri-City Americans @ Wenatchee Wild
STATUS:CONFIRMED
END:VEVENT
BEGIN:VEVENT
UID:2517569e5e5c09c1ff1020584@hockeytech.com
TZID:UTC
DTSTART:20231210T020500Z
DTEND:20231210T050500Z
DTSTAMP:20231210T020500
DESCRIPTION:You have booked some WHL games
LOCATION:Toyota Center - Kennewick, WA
SUMMARY:Wenatchee Wild @ Tri-City Americans
STATUS:CONFIRMED
END:VEVENT
BEGIN:VEVENT
UID:2517569e5e5c09c1ff1020588@hockeytech.com
TZID:UTC
DTSTART:20231211T010500Z
DTEND:20231211T040500Z
DTSTAMP:20231211T010500
DESCRIPTION:You have booked some WHL games
LOCATION:Numerica Veterans Arena - Spokane, WA
SUMMARY:Wenatchee Wild @ Spokane Chiefs
STATUS:CONFIRMED
END:VEVENT
BEGIN:VEVENT
UID:2517569e5e5c09c1ff1020595@hockeytech.com
TZID:UTC
DTSTART:20231214T030000Z
DTEND:20231214T060000Z
DTSTAMP:20231214T030000
DESCRIPTION:You have booked some WHL games
LOCATION:Veterans Memorial Coliseum - Portland, OR
SUMMARY:Wenatchee Wild @ Portland Winterhawks
STATUS:CONFIRMED
END:VEVENT
BEGIN:VEVENT
UID:2517569e5e5c09c1ff1020607@hockeytech.com
TZID:UTC
DTSTART:20231216T030000Z
DTEND:20231216T060000Z
DTSTAMP:20231216T030000
DESCRIPTION:You have booked some WHL games
LOCATION:Town Toyota Center - Wenatchee, WA
SUMMARY:Prince George Cougars @ Wenatchee Wild
STATUS:CONFIRMED
END:VEVENT
BEGIN:VEVENT
UID:2517569e5e5c09c1ff1020619@hockeytech.com
TZID:UTC
DTSTART:20231218T000000Z
DTEND:20231218T030000Z
DTSTAMP:20231218T000000
DESCRIPTION:You have booked some WHL games
LOCATION:Town Toyota Center - Wenatchee, WA
SUMMARY:Everett Silvertips @ Wenatchee Wild
STATUS:CONFIRMED
END:VEVENT
BEGIN:VEVENT
UID:2517569e5e5c09c1ff1020626@hockeytech.com
TZID:UTC
DTSTART:20231228T030500Z
DTEND:20231228T060500Z
DTSTAMP:20231228T030500
DESCRIPTION:You have booked some WHL games
LOCATION:Numerica Veterans Arena - Spokane, WA
SUMMARY:Wenatchee Wild @ Spokane Chiefs
STATUS:CONFIRMED
END:VEVENT
BEGIN:VEVENT
UID:2517569e5e5c09c1ff1020631@hockeytech.com
TZID:UTC
DTSTART:20231229T020000Z
DTEND:20231229T050000Z
DTSTAMP:20231229T020000
DESCRIPTION:You have booked some WHL games
LOCATION:Town Toyota Center - Wenatchee, WA
SUMMARY:Victoria Royals @ Wenatchee Wild
STATUS:CONFIRMED
END:VEVENT
BEGIN:VEVENT
UID:2517569e5e5c09c1ff1020649@hockeytech.com
TZID:UTC
DTSTART:20240101T000000Z
DTEND:20240101T030000Z
DTSTAMP:20240101T000000
DESCRIPTION:You have booked some WHL games
LOCATION:Town Toyota Center - Wenatchee, WA
SUMMARY:Seattle Thunderbirds @ Wenatchee Wild
STATUS:CONFIRMED
END:VEVENT
BEGIN:VEVENT
UID:2517569e5e5c09c1ff1020658@hockeytech.com
TZID:UTC
DTSTART:20240104T020000Z
DTEND:20240104T050000Z
DTSTAMP:20240104T020000
DESCRIPTION:You have booked some WHL games
LOCATION:Town Toyota Center - Wenatchee, WA
SUMMARY:Prince George Cougars @ Wenatchee Wild
STATUS:CONFIRMED
END:VEVENT
BEGIN:VEVENT
UID:2517569e5e5c09c1ff1020675@hockeytech.com
TZID:UTC
DTSTART:20240107T020000Z
DTEND:20240107T050000Z
DTSTAMP:20240107T020000
DESCRIPTION:You have booked some WHL games
LOCATION:Town Toyota Center - Wenatchee, WA
SUMMARY:Kelowna Rockets @ Wenatchee Wild
STATUS:CONFIRMED
END:VEVENT
BEGIN:VEVENT
UID:2517569e5e5c09c1ff1020709@hockeytech.com
TZID:UTC
DTSTART:20240115T000000Z
DTEND:20240115T030000Z
DTSTAMP:20240115T000000
DESCRIPTION:You have booked some WHL games
LOCATION:Town Toyota Center - Wenatchee, WA
SUMMARY:Everett Silvertips @ Wenatchee Wild
STATUS:CONFIRMED
END:VEVENT
BEGIN:VEVENT
UID:2517569e5e5c09c1ff1020712@hockeytech.com
TZID:UTC
DTSTART:20240117T020000Z
DTEND:20240117T050000Z
DTSTAMP:20240117T020000
DESCRIPTION:You have booked some WHL games
LOCATION:Town Toyota Center - Wenatchee, WA
SUMMARY:Kamloops Blazers @ Wenatchee Wild
STATUS:CONFIRMED
END:VEVENT
BEGIN:VEVENT
UID:2517569e5e5c09c1ff1020733@hockeytech.com
TZID:UTC
DTSTART:20240121T020000Z
DTEND:20240121T050000Z
DTSTAMP:20240121T020000
DESCRIPTION:You have booked some WHL games
LOCATION:Town Toyota Center - Wenatchee, WA
SUMMARY:Spokane Chiefs @ Wenatchee Wild
STATUS:CONFIRMED
END:VEVENT
BEGIN:VEVENT
UID:2517569e5e5c09c1ff1020738@hockeytech.com
TZID:UTC
DTSTART:20240122T010500Z
DTEND:20240122T040500Z
DTSTAMP:20240122T010500
DESCRIPTION:You have booked some WHL games
LOCATION:accesso ShoWare Center - Kent, WA
SUMMARY:Wenatchee Wild @ Seattle Thunderbirds
STATUS:CONFIRMED
END:VEVENT
BEGIN:VEVENT
UID:2517569e5e5c09c1ff1020741@hockeytech.com
TZID:UTC
DTSTART:20240125T020000Z
DTEND:20240125T050000Z
DTSTAMP:20240125T020000
DESCRIPTION:You have booked some WHL games
LOCATION:Town Toyota Center - Wenatchee, WA
SUMMARY:Tri-City Americans @ Wenatchee Wild
STATUS:CONFIRMED
END:VEVENT
BEGIN:VEVENT
UID:2517569e5e5c09c1ff1020751@hockeytech.com
TZID:UTC
DTSTART:20240127T030000Z
DTEND:20240127T060000Z
DTSTAMP:20240127T030000
DESCRIPTION:You have booked some WHL games
LOCATION:Town Toyota Center - Wenatchee, WA
SUMMARY:Seattle Thunderbirds @ Wenatchee Wild
STATUS:CONFIRMED
END:VEVENT
BEGIN:VEVENT
UID:2517569e5e5c09c1ff1020764@hockeytech.com
TZID:UTC
DTSTART:20240129T000000Z
DTEND:20240129T030000Z
DTSTAMP:20240129T000000
DESCRIPTION:You have booked some WHL games
LOCATION:Town Toyota Center - Wenatchee, WA
SUMMARY:Prince George Cougars @ Wenatchee Wild
STATUS:CONFIRMED
END:VEVENT
BEGIN:VEVENT
UID:2517569e5e5c09c1ff1020776@hockeytech.com
TZID:UTC
DTSTART:20240203T030000Z
DTEND:20240203T060000Z
DTSTAMP:20240203T030000
DESCRIPTION:You have booked some WHL games
LOCATION:Sandman Centre - Kamloops, BC
SUMMARY:Wenatchee Wild @ Kamloops Blazers
STATUS:CONFIRMED
END:VEVENT
BEGIN:VEVENT
UID:2517569e5e5c09c1ff1020791@hockeytech.com
TZID:UTC
DTSTART:20240205T000500Z
DTEND:20240205T030500Z
DTSTAMP:20240205T000500
DESCRIPTION:You have booked some WHL games
LOCATION:Angel of the Winds Arena - Everett, WA
SUMMARY:Wenatchee Wild @ Everett Silvertips
STATUS:CONFIRMED
END:VEVENT
BEGIN:VEVENT
UID:2517569e5e5c09c1ff1020807@hockeytech.com
TZID:UTC
DTSTART:20240208T020000Z
DTEND:20240208T050000Z
DTSTAMP:20240208T020000
DESCRIPTION:You have booked some WHL games
LOCATION:Town Toyota Center - Wenatchee, WA
SUMMARY:Tri-City Americans @ Wenatchee Wild
STATUS:CONFIRMED
END:VEVENT
BEGIN:VEVENT
UID:2517569e5e5c09c1ff1020817@hockeytech.com
TZID:UTC
DTSTART:20240210T030000Z
DTEND:20240210T060000Z
DTSTAMP:20240210T030000
DESCRIPTION:You have booked some WHL games
LOCATION:Town Toyota Center - Wenatchee, WA
SUMMARY:Everett Silvertips @ Wenatchee Wild
STATUS:CONFIRMED
END:VEVENT
BEGIN:VEVENT
UID:2517569e5e5c09c1ff1020827@hockeytech.com
TZID:UTC
DTSTART:20240211T030000Z
DTEND:20240211T060000Z
DTSTAMP:20240211T030000
DESCRIPTION:You have booked some WHL games
LOCATION:Langley Events Centre - Langley, BC
SUMMARY:Wenatchee Wild @ Vancouver Giants
STATUS:CONFIRMED
END:VEVENT
BEGIN:VEVENT
UID:2517569e5e5c09c1ff1020833@hockeytech.com
TZID:UTC
DTSTART:20240215T030500Z
DTEND:20240215T060500Z
DTSTAMP:20240215T030500
DESCRIPTION:You have booked some WHL games
LOCATION:accesso ShoWare Center - Kent, WA
SUMMARY:Wenatchee Wild @ Seattle Thunderbirds
STATUS:CONFIRMED
END:VEVENT
BEGIN:VEVENT
UID:2517569e5e5c09c1ff1020846@hockeytech.com
TZID:UTC
DTSTART:20240217T030000Z
DTEND:20240217T060000Z
DTSTAMP:20240217T030000
DESCRIPTION:You have booked some WHL games
LOCATION:Town Toyota Center - Wenatchee, WA
SUMMARY:Everett Silvertips @ Wenatchee Wild
STATUS:CONFIRMED
END:VEVENT
BEGIN:VEVENT
UID:2517569e5e5c09c1ff1020868@hockeytech.com
TZID:UTC
DTSTART:20240221T020000Z
DTEND:20240221T050000Z
DTSTAMP:20240221T020000
DESCRIPTION:You have booked some WHL games
LOCATION:Town Toyota Center - Wenatchee, WA
SUMMARY:Spokane Chiefs @ Wenatchee Wild
STATUS:CONFIRMED
END:VEVENT
BEGIN:VEVENT
UID:2517569e5e5c09c1ff1020872@hockeytech.com
TZID:UTC
DTSTART:20240224T020000Z
DTEND:20240224T050000Z
DTSTAMP:20240224T020000
DESCRIPTION:You have booked some WHL games
LOCATION:Scotiabank Saddledome - Calgary, AB
SUMMARY:Wenatchee Wild @ Calgary Hitmen
STATUS:CONFIRMED
END:VEVENT
BEGIN:VEVENT
UID:2517569e5e5c09c1ff1020884@hockeytech.com
TZID:UTC
DTSTART:20240225T020000Z
DTEND:20240225T050000Z
DTSTAMP:20240225T020000
DESCRIPTION:You have booked some WHL games
LOCATION:Marchant Crane Centrium - Red Deer, AB
SUMMARY:Wenatchee Wild @ Red Deer Rebels
STATUS:CONFIRMED
END:VEVENT
BEGIN:VEVENT
UID:2517569e5e5c09c1ff1020891@hockeytech.com
TZID:UTC
DTSTART:20240225T230000Z
DTEND:20240226T020000Z
DTSTAMP:20240225T230000
DESCRIPTION:You have booked some WHL games
LOCATION:Rogers Place - Edmonton, AB
SUMMARY:Wenatchee Wild @ Edmonton Oil Kings
STATUS:CONFIRMED
END:VEVENT
BEGIN:VEVENT
UID:2517569e5e5c09c1ff1020899@hockeytech.com
TZID:UTC
DTSTART:20240229T020000Z
DTEND:20240229T050000Z
DTSTAMP:20240229T020000
DESCRIPTION:You have booked some WHL games
LOCATION:Town Toyota Center - Wenatchee, WA
SUMMARY:Regina Pats @ Wenatchee Wild
STATUS:CONFIRMED
END:VEVENT
BEGIN:VEVENT
UID:2517569e5e5c09c1ff1020922@hockeytech.com
TZID:UTC
DTSTART:20240304T000000Z
DTEND:20240304T030000Z
DTSTAMP:20240304T000000
DESCRIPTION:You have booked some WHL games
LOCATION:Town Toyota Center - Wenatchee, WA
SUMMARY:Moose Jaw Warriors @ Wenatchee Wild
STATUS:CONFIRMED
END:VEVENT
BEGIN:VEVENT
UID:2517569e5e5c09c1ff1020939@hockeytech.com
TZID:UTC
DTSTART:20240309T030500Z
DTEND:20240309T060500Z
DTSTAMP:20240309T030500
DESCRIPTION:You have booked some WHL games
LOCATION:Toyota Center - Kennewick, WA
SUMMARY:Wenatchee Wild @ Tri-City Americans
STATUS:CONFIRMED
END:VEVENT
BEGIN:VEVENT
UID:2517569e5e5c09c1ff1020942@hockeytech.com
TZID:UTC
DTSTART:20240310T020000Z
DTEND:20240310T050000Z
DTSTAMP:20240310T020000
DESCRIPTION:You have booked some WHL games
LOCATION:Veterans Memorial Coliseum - Portland, OR
SUMMARY:Wenatchee Wild @ Portland Winterhawks
STATUS:CONFIRMED
END:VEVENT
BEGIN:VEVENT
UID:2517569e5e5c09c1ff1020966@hockeytech.com
TZID:UTC
DTSTART:20240316T020000Z
DTEND:20240316T050000Z
DTSTAMP:20240316T020000
DESCRIPTION:You have booked some WHL games
LOCATION:Town Toyota Center - Wenatchee, WA
SUMMARY:Spokane Chiefs @ Wenatchee Wild
STATUS:CONFIRMED
END:VEVENT
BEGIN:VEVENT
UID:2517569e5e5c09c1ff1020975@hockeytech.com
TZID:UTC
DTSTART:20240317T010000Z
DTEND:20240317T040000Z
DTSTAMP:20240317T010000
DESCRIPTION:You have booked some WHL games
LOCATION:Town Toyota Center - Wenatchee, WA
SUMMARY:Portland Winterhawks @ Wenatchee Wild
STATUS:CONFIRMED
END:VEVENT
BEGIN:VEVENT
UID:2517569e5e5c09c1ff1020980@hockeytech.com
TZID:UTC
DTSTART:20240318T000500Z
DTEND:20240318T030500Z
DTSTAMP:20240318T000500
DESCRIPTION:You have booked some WHL games
LOCATION:Numerica Veterans Arena - Spokane, WA
SUMMARY:Wenatchee Wild @ Spokane Chiefs
STATUS:CONFIRMED
END:VEVENT
BEGIN:VEVENT
UID:2517569e5e5c09c1ff1020986@hockeytech.com
TZID:UTC
DTSTART:20240321T020500Z
DTEND:20240321T050500Z
DTSTAMP:20240321T020500
DESCRIPTION:You have booked some WHL games
LOCATION:Save-On-Foods Memorial Arena - Victoria, BC
SUMMARY:Wenatchee Wild @ Victoria Royals
STATUS:CONFIRMED
END:VEVENT
BEGIN:VEVENT
UID:2517569e5e5c09c1ff1020996@hockeytech.com
TZID:UTC
DTSTART:20240323T020500Z
DTEND:20240323T050500Z
DTSTAMP:20240323T020500
DESCRIPTION:You have booked some WHL games
LOCATION:Save-On-Foods Memorial Arena - Victoria, BC
SUMMARY:Wenatchee Wild @ Victoria Royals
STATUS:CONFIRMED
END:VEVENT
BEGIN:VEVENT
UID:2517569e5e5c09c1ff1020997@hockeytech.com
TZID:UTC
DTSTART:20240324T010500Z
DTEND:20240324T040500Z
DTSTAMP:20240324T010500
DESCRIPTION:You have booked some WHL games
LOCATION:Angel of the Winds Arena - Everett, WA
SUMMARY:Wenatchee Wild @ Everett Silvertips
STATUS:CONFIRMED
END:VEVENT
END:VCALENDAR