BEGIN:VCALENDAR
VERSION:2.0
PRODID:-//Hockeytech//Leaguestat iCal//EN
BEGIN:VEVENT
UID:2245969ead6b6b71971020270@hockeytech.com
TZID:UTC
DTSTART:20230923T020000Z
DTEND:20230923T050000Z
DTSTAMP:20230923T020000
DESCRIPTION:You have booked some WHL games
LOCATION:Town Toyota Center - Wenatchee, WA
SUMMARY:Portland Winterhawks @ Wenatchee Wild
STATUS:CONFIRMED
END:VEVENT
BEGIN:VEVENT
UID:2245969ead6b6b71971020273@hockeytech.com
TZID:UTC
DTSTART:20230924T020500Z
DTEND:20230924T050500Z
DTSTAMP:20230924T020500
DESCRIPTION:You have booked some WHL games
LOCATION:Prospera Place - Kelowna, BC
SUMMARY:Portland Winterhawks @ Kelowna Rockets
STATUS:CONFIRMED
END:VEVENT
BEGIN:VEVENT
UID:2245969ead6b6b71971020297@hockeytech.com
TZID:UTC
DTSTART:20231001T010500Z
DTEND:20231001T040500Z
DTSTAMP:20231001T010500
DESCRIPTION:You have booked some WHL games
LOCATION:accesso ShoWare Center - Kent, WA
SUMMARY:Portland Winterhawks @ Seattle Thunderbirds
STATUS:CONFIRMED
END:VEVENT
BEGIN:VEVENT
UID:2245969ead6b6b71971020311@hockeytech.com
TZID:UTC
DTSTART:20231007T020000Z
DTEND:20231007T050000Z
DTSTAMP:20231007T020000
DESCRIPTION:You have booked some WHL games
LOCATION:Veterans Memorial Coliseum - Portland, OR
SUMMARY:Everett Silvertips @ Portland Winterhawks
STATUS:CONFIRMED
END:VEVENT
BEGIN:VEVENT
UID:2245969ead6b6b71971020320@hockeytech.com
TZID:UTC
DTSTART:20231008T010000Z
DTEND:20231008T040000Z
DTSTAMP:20231008T010000
DESCRIPTION:You have booked some WHL games
LOCATION:Veterans Memorial Coliseum - Portland, OR
SUMMARY:Vancouver Giants @ Portland Winterhawks
STATUS:CONFIRMED
END:VEVENT
BEGIN:VEVENT
UID:2245969ead6b6b71971020335@hockeytech.com
TZID:UTC
DTSTART:20231014T020000Z
DTEND:20231014T050000Z
DTSTAMP:20231014T020000
DESCRIPTION:You have booked some WHL games
LOCATION:Veterans Memorial Coliseum - Portland, OR
SUMMARY:Kamloops Blazers @ Portland Winterhawks
STATUS:CONFIRMED
END:VEVENT
BEGIN:VEVENT
UID:2245969ead6b6b71971020350@hockeytech.com
TZID:UTC
DTSTART:20231016T000000Z
DTEND:20231016T030000Z
DTSTAMP:20231016T000000
DESCRIPTION:You have booked some WHL games
LOCATION:Veterans Memorial Coliseum - Portland, OR
SUMMARY:Tri-City Americans @ Portland Winterhawks
STATUS:CONFIRMED
END:VEVENT
BEGIN:VEVENT
UID:2245969ead6b6b71971020359@hockeytech.com
TZID:UTC
DTSTART:20231019T020000Z
DTEND:20231019T050000Z
DTSTAMP:20231019T020000
DESCRIPTION:You have booked some WHL games
LOCATION:Veterans Memorial Coliseum - Portland, OR
SUMMARY:Brandon Wheat Kings @ Portland Winterhawks
STATUS:CONFIRMED
END:VEVENT
BEGIN:VEVENT
UID:2245969ead6b6b71971020371@hockeytech.com
TZID:UTC
DTSTART:20231022T010500Z
DTEND:20231022T040500Z
DTSTAMP:20231022T010500
DESCRIPTION:You have booked some WHL games
LOCATION:Angel of the Winds Arena - Everett, WA
SUMMARY:Portland Winterhawks @ Everett Silvertips
STATUS:CONFIRMED
END:VEVENT
BEGIN:VEVENT
UID:2245969ead6b6b71971020396@hockeytech.com
TZID:UTC
DTSTART:20231028T010000Z
DTEND:20231028T040000Z
DTSTAMP:20231028T010000
DESCRIPTION:You have booked some WHL games
LOCATION:Marchant Crane Centrium - Red Deer, AB
SUMMARY:Portland Winterhawks @ Red Deer Rebels
STATUS:CONFIRMED
END:VEVENT
BEGIN:VEVENT
UID:2245969ead6b6b71971020403@hockeytech.com
TZID:UTC
DTSTART:20231029T010000Z
DTEND:20231029T040000Z
DTSTAMP:20231029T010000
DESCRIPTION:You have booked some WHL games
LOCATION:Rogers Place - Edmonton, AB
SUMMARY:Portland Winterhawks @ Edmonton Oil Kings
STATUS:CONFIRMED
END:VEVENT
BEGIN:VEVENT
UID:2245969ead6b6b71971020411@hockeytech.com
TZID:UTC
DTSTART:20231030T000000Z
DTEND:20231030T030000Z
DTSTAMP:20231030T000000
DESCRIPTION:You have booked some WHL games
LOCATION:Scotiabank Saddledome - Calgary, AB
SUMMARY:Portland Winterhawks @ Calgary Hitmen
STATUS:CONFIRMED
END:VEVENT
BEGIN:VEVENT
UID:2245969ead6b6b71971020417@hockeytech.com
TZID:UTC
DTSTART:20231102T010000Z
DTEND:20231102T040000Z
DTSTAMP:20231102T010000
DESCRIPTION:You have booked some WHL games
LOCATION:Co-op Place - Medicine Hat, AB
SUMMARY:Portland Winterhawks @ Medicine Hat Tigers
STATUS:CONFIRMED
END:VEVENT
BEGIN:VEVENT
UID:2245969ead6b6b71971020429@hockeytech.com
TZID:UTC
DTSTART:20231104T010000Z
DTEND:20231104T040000Z
DTSTAMP:20231104T010000
DESCRIPTION:You have booked some WHL games
LOCATION:InnovationPlex - Swift Current, SK
SUMMARY:Portland Winterhawks @ Swift Current Broncos
STATUS:CONFIRMED
END:VEVENT
BEGIN:VEVENT
UID:2245969ead6b6b71971020432@hockeytech.com
TZID:UTC
DTSTART:20231105T000000Z
DTEND:20231105T030000Z
DTSTAMP:20231105T000000
DESCRIPTION:You have booked some WHL games
LOCATION:Enmax Centre - Lethbridge, AB
SUMMARY:Portland Winterhawks @ Lethbridge Hurricanes
STATUS:CONFIRMED
END:VEVENT
BEGIN:VEVENT
UID:2245969ead6b6b71971020444@hockeytech.com
TZID:UTC
DTSTART:20231109T030000Z
DTEND:20231109T060000Z
DTSTAMP:20231109T030000
DESCRIPTION:You have booked some WHL games
LOCATION:Sandman Centre - Kamloops, BC
SUMMARY:Portland Winterhawks @ Kamloops Blazers
STATUS:CONFIRMED
END:VEVENT
BEGIN:VEVENT
UID:2245969ead6b6b71971020458@hockeytech.com
TZID:UTC
DTSTART:20231111T030000Z
DTEND:20231111T060000Z
DTSTAMP:20231111T030000
DESCRIPTION:You have booked some WHL games
LOCATION:Langley Events Centre - Langley, BC
SUMMARY:Portland Winterhawks @ Vancouver Giants
STATUS:CONFIRMED
END:VEVENT
BEGIN:VEVENT
UID:2245969ead6b6b71971020481@hockeytech.com
TZID:UTC
DTSTART:20231118T030000Z
DTEND:20231118T060000Z
DTSTAMP:20231118T030000
DESCRIPTION:You have booked some WHL games
LOCATION:Veterans Memorial Coliseum - Portland, OR
SUMMARY:Prince Albert Raiders @ Portland Winterhawks
STATUS:CONFIRMED
END:VEVENT
BEGIN:VEVENT
UID:2245969ead6b6b71971020495@hockeytech.com
TZID:UTC
DTSTART:20231120T010000Z
DTEND:20231120T040000Z
DTSTAMP:20231120T010000
DESCRIPTION:You have booked some WHL games
LOCATION:Veterans Memorial Coliseum - Portland, OR
SUMMARY:Everett Silvertips @ Portland Winterhawks
STATUS:CONFIRMED
END:VEVENT
BEGIN:VEVENT
UID:2245969ead6b6b71971020505@hockeytech.com
TZID:UTC
DTSTART:20231123T030000Z
DTEND:20231123T060000Z
DTSTAMP:20231123T030000
DESCRIPTION:You have booked some WHL games
LOCATION:Veterans Memorial Coliseum - Portland, OR
SUMMARY:Victoria Royals @ Portland Winterhawks
STATUS:CONFIRMED
END:VEVENT
BEGIN:VEVENT
UID:2245969ead6b6b71971020509@hockeytech.com
TZID:UTC
DTSTART:20231125T030500Z
DTEND:20231125T060500Z
DTSTAMP:20231125T030500
DESCRIPTION:You have booked some WHL games
LOCATION:Angel of the Winds Arena - Everett, WA
SUMMARY:Portland Winterhawks @ Everett Silvertips
STATUS:CONFIRMED
END:VEVENT
BEGIN:VEVENT
UID:2245969ead6b6b71971020521@hockeytech.com
TZID:UTC
DTSTART:20231126T020000Z
DTEND:20231126T050000Z
DTSTAMP:20231126T020000
DESCRIPTION:You have booked some WHL games
LOCATION:Veterans Memorial Coliseum - Portland, OR
SUMMARY:Saskatoon Blades @ Portland Winterhawks
STATUS:CONFIRMED
END:VEVENT
BEGIN:VEVENT
UID:2245969ead6b6b71971020526@hockeytech.com
TZID:UTC
DTSTART:20231127T010000Z
DTEND:20231127T040000Z
DTSTAMP:20231127T010000
DESCRIPTION:You have booked some WHL games
LOCATION:Veterans Memorial Coliseum - Portland, OR
SUMMARY:Spokane Chiefs @ Portland Winterhawks
STATUS:CONFIRMED
END:VEVENT
BEGIN:VEVENT
UID:2245969ead6b6b71971020548@hockeytech.com
TZID:UTC
DTSTART:20231202T030000Z
DTEND:20231202T060000Z
DTSTAMP:20231202T030000
DESCRIPTION:You have booked some WHL games
LOCATION:Town Toyota Center - Wenatchee, WA
SUMMARY:Portland Winterhawks @ Wenatchee Wild
STATUS:CONFIRMED
END:VEVENT
BEGIN:VEVENT
UID:2245969ead6b6b71971020550@hockeytech.com
TZID:UTC
DTSTART:20231203T020000Z
DTEND:20231203T050000Z
DTSTAMP:20231203T020000
DESCRIPTION:You have booked some WHL games
LOCATION:Veterans Memorial Coliseum - Portland, OR
SUMMARY:Wenatchee Wild @ Portland Winterhawks
STATUS:CONFIRMED
END:VEVENT
BEGIN:VEVENT
UID:2245969ead6b6b71971020559@hockeytech.com
TZID:UTC
DTSTART:20231204T010000Z
DTEND:20231204T040000Z
DTSTAMP:20231204T010000
DESCRIPTION:You have booked some WHL games
LOCATION:Veterans Memorial Coliseum - Portland, OR
SUMMARY:Prince George Cougars @ Portland Winterhawks
STATUS:CONFIRMED
END:VEVENT
BEGIN:VEVENT
UID:2245969ead6b6b71971020570@hockeytech.com
TZID:UTC
DTSTART:20231209T030000Z
DTEND:20231209T060000Z
DTSTAMP:20231209T030000
DESCRIPTION:You have booked some WHL games
LOCATION:Veterans Memorial Coliseum - Portland, OR
SUMMARY:Spokane Chiefs @ Portland Winterhawks
STATUS:CONFIRMED
END:VEVENT
BEGIN:VEVENT
UID:2245969ead6b6b71971020579@hockeytech.com
TZID:UTC
DTSTART:20231210T020000Z
DTEND:20231210T050000Z
DTSTAMP:20231210T020000
DESCRIPTION:You have booked some WHL games
LOCATION:Veterans Memorial Coliseum - Portland, OR
SUMMARY:Seattle Thunderbirds @ Portland Winterhawks
STATUS:CONFIRMED
END:VEVENT
BEGIN:VEVENT
UID:2245969ead6b6b71971020586@hockeytech.com
TZID:UTC
DTSTART:20231211T000500Z
DTEND:20231211T030500Z
DTSTAMP:20231211T000500
DESCRIPTION:You have booked some WHL games
LOCATION:Angel of the Winds Arena - Everett, WA
SUMMARY:Portland Winterhawks @ Everett Silvertips
STATUS:CONFIRMED
END:VEVENT
BEGIN:VEVENT
UID:2245969ead6b6b71971020595@hockeytech.com
TZID:UTC
DTSTART:20231214T030000Z
DTEND:20231214T060000Z
DTSTAMP:20231214T030000
DESCRIPTION:You have booked some WHL games
LOCATION:Veterans Memorial Coliseum - Portland, OR
SUMMARY:Wenatchee Wild @ Portland Winterhawks
STATUS:CONFIRMED
END:VEVENT
BEGIN:VEVENT
UID:2245969ead6b6b71971020605@hockeytech.com
TZID:UTC
DTSTART:20231216T030500Z
DTEND:20231216T060500Z
DTSTAMP:20231216T030500
DESCRIPTION:You have booked some WHL games
LOCATION:Numerica Veterans Arena - Spokane, WA
SUMMARY:Portland Winterhawks @ Spokane Chiefs
STATUS:CONFIRMED
END:VEVENT
BEGIN:VEVENT
UID:2245969ead6b6b71971020611@hockeytech.com
TZID:UTC
DTSTART:20231217T020000Z
DTEND:20231217T050000Z
DTSTAMP:20231217T020000
DESCRIPTION:You have booked some WHL games
LOCATION:Veterans Memorial Coliseum - Portland, OR
SUMMARY:Spokane Chiefs @ Portland Winterhawks
STATUS:CONFIRMED
END:VEVENT
BEGIN:VEVENT
UID:2245969ead6b6b71971020627@hockeytech.com
TZID:UTC
DTSTART:20231228T030500Z
DTEND:20231228T060500Z
DTSTAMP:20231228T030500
DESCRIPTION:You have booked some WHL games
LOCATION:Toyota Center - Kennewick, WA
SUMMARY:Portland Winterhawks @ Tri-City Americans
STATUS:CONFIRMED
END:VEVENT
BEGIN:VEVENT
UID:2245969ead6b6b71971020629@hockeytech.com
TZID:UTC
DTSTART:20231229T030000Z
DTEND:20231229T060000Z
DTSTAMP:20231229T030000
DESCRIPTION:You have booked some WHL games
LOCATION:Veterans Memorial Coliseum - Portland, OR
SUMMARY:Seattle Thunderbirds @ Portland Winterhawks
STATUS:CONFIRMED
END:VEVENT
BEGIN:VEVENT
UID:2245969ead6b6b71971020647@hockeytech.com
TZID:UTC
DTSTART:20240101T010000Z
DTEND:20240101T040000Z
DTSTAMP:20240101T010000
DESCRIPTION:You have booked some WHL games
LOCATION:Veterans Memorial Coliseum - Portland, OR
SUMMARY:Vancouver Giants @ Portland Winterhawks
STATUS:CONFIRMED
END:VEVENT
BEGIN:VEVENT
UID:2245969ead6b6b71971020663@hockeytech.com
TZID:UTC
DTSTART:20240106T030000Z
DTEND:20240106T060000Z
DTSTAMP:20240106T030000
DESCRIPTION:You have booked some WHL games
LOCATION:Veterans Memorial Coliseum - Portland, OR
SUMMARY:Everett Silvertips @ Portland Winterhawks
STATUS:CONFIRMED
END:VEVENT
BEGIN:VEVENT
UID:2245969ead6b6b71971020671@hockeytech.com
TZID:UTC
DTSTART:20240107T020000Z
DTEND:20240107T050000Z
DTSTAMP:20240107T020000
DESCRIPTION:You have booked some WHL games
LOCATION:Veterans Memorial Coliseum - Portland, OR
SUMMARY:Prince George Cougars @ Portland Winterhawks
STATUS:CONFIRMED
END:VEVENT
BEGIN:VEVENT
UID:2245969ead6b6b71971020696@hockeytech.com
TZID:UTC
DTSTART:20240113T030500Z
DTEND:20240113T060500Z
DTSTAMP:20240113T030500
DESCRIPTION:You have booked some WHL games
LOCATION:accesso ShoWare Center - Kent, WA
SUMMARY:Portland Winterhawks @ Seattle Thunderbirds
STATUS:CONFIRMED
END:VEVENT
BEGIN:VEVENT
UID:2245969ead6b6b71971020700@hockeytech.com
TZID:UTC
DTSTART:20240129T010000Z
DTEND:20240129T040000Z
DTSTAMP:20240129T010000
DESCRIPTION:You have booked some WHL games
LOCATION:Veterans Memorial Coliseum - Portland, OR
SUMMARY:Seattle Thunderbirds @ Portland Winterhawks
STATUS:CONFIRMED
END:VEVENT
BEGIN:VEVENT
UID:2245969ead6b6b71971020710@hockeytech.com
TZID:UTC
DTSTART:20240115T220000Z
DTEND:20240116T010000Z
DTSTAMP:20240115T220000
DESCRIPTION:You have booked some WHL games
LOCATION:Veterans Memorial Coliseum - Portland, OR
SUMMARY:Kamloops Blazers @ Portland Winterhawks
STATUS:CONFIRMED
END:VEVENT
BEGIN:VEVENT
UID:2245969ead6b6b71971020713@hockeytech.com
TZID:UTC
DTSTART:20240118T030500Z
DTEND:20240118T060500Z
DTSTAMP:20240118T030500
DESCRIPTION:You have booked some WHL games
LOCATION:Prospera Place - Kelowna, BC
SUMMARY:Portland Winterhawks @ Kelowna Rockets
STATUS:CONFIRMED
END:VEVENT
BEGIN:VEVENT
UID:2245969ead6b6b71971020719@hockeytech.com
TZID:UTC
DTSTART:20240120T030000Z
DTEND:20240120T060000Z
DTSTAMP:20240120T030000
DESCRIPTION:You have booked some WHL games
LOCATION:CN Centre - Prince George, BC
SUMMARY:Portland Winterhawks @ Prince George Cougars
STATUS:CONFIRMED
END:VEVENT
BEGIN:VEVENT
UID:2245969ead6b6b71971020728@hockeytech.com
TZID:UTC
DTSTART:20240121T020000Z
DTEND:20240121T050000Z
DTSTAMP:20240121T020000
DESCRIPTION:You have booked some WHL games
LOCATION:CN Centre - Prince George, BC
SUMMARY:Portland Winterhawks @ Prince George Cougars
STATUS:CONFIRMED
END:VEVENT
BEGIN:VEVENT
UID:2245969ead6b6b71971020749@hockeytech.com
TZID:UTC
DTSTART:20240127T030500Z
DTEND:20240127T060500Z
DTSTAMP:20240127T030500
DESCRIPTION:You have booked some WHL games
LOCATION:Toyota Center - Kennewick, WA
SUMMARY:Portland Winterhawks @ Tri-City Americans
STATUS:CONFIRMED
END:VEVENT
BEGIN:VEVENT
UID:2245969ead6b6b71971020757@hockeytech.com
TZID:UTC
DTSTART:20240128T020500Z
DTEND:20240128T050500Z
DTSTAMP:20240128T020500
DESCRIPTION:You have booked some WHL games
LOCATION:Numerica Veterans Arena - Spokane, WA
SUMMARY:Portland Winterhawks @ Spokane Chiefs
STATUS:CONFIRMED
END:VEVENT
BEGIN:VEVENT
UID:2245969ead6b6b71971020768@hockeytech.com
TZID:UTC
DTSTART:20240201T030000Z
DTEND:20240201T060000Z
DTSTAMP:20240201T030000
DESCRIPTION:You have booked some WHL games
LOCATION:Veterans Memorial Coliseum - Portland, OR
SUMMARY:Kelowna Rockets @ Portland Winterhawks
STATUS:CONFIRMED
END:VEVENT
BEGIN:VEVENT
UID:2245969ead6b6b71971020778@hockeytech.com
TZID:UTC
DTSTART:20240203T030000Z
DTEND:20240203T060000Z
DTSTAMP:20240203T030000
DESCRIPTION:You have booked some WHL games
LOCATION:Veterans Memorial Coliseum - Portland, OR
SUMMARY:Kelowna Rockets @ Portland Winterhawks
STATUS:CONFIRMED
END:VEVENT
BEGIN:VEVENT
UID:2245969ead6b6b71971020786@hockeytech.com
TZID:UTC
DTSTART:20240204T020500Z
DTEND:20240204T050500Z
DTSTAMP:20240204T020500
DESCRIPTION:You have booked some WHL games
LOCATION:accesso ShoWare Center - Kent, WA
SUMMARY:Portland Winterhawks @ Seattle Thunderbirds
STATUS:CONFIRMED
END:VEVENT
BEGIN:VEVENT
UID:2245969ead6b6b71971020792@hockeytech.com
TZID:UTC
DTSTART:20240205T010000Z
DTEND:20240205T040000Z
DTSTAMP:20240205T010000
DESCRIPTION:You have booked some WHL games
LOCATION:Veterans Memorial Coliseum - Portland, OR
SUMMARY:Tri-City Americans @ Portland Winterhawks
STATUS:CONFIRMED
END:VEVENT
BEGIN:VEVENT
UID:2245969ead6b6b71971020822@hockeytech.com
TZID:UTC
DTSTART:20240211T020000Z
DTEND:20240211T050000Z
DTSTAMP:20240211T020000
DESCRIPTION:You have booked some WHL games
LOCATION:Veterans Memorial Coliseum - Portland, OR
SUMMARY:Seattle Thunderbirds @ Portland Winterhawks
STATUS:CONFIRMED
END:VEVENT
BEGIN:VEVENT
UID:2245969ead6b6b71971020829@hockeytech.com
TZID:UTC
DTSTART:20240214T030000Z
DTEND:20240214T060000Z
DTSTAMP:20240214T030000
DESCRIPTION:You have booked some WHL games
LOCATION:Veterans Memorial Coliseum - Portland, OR
SUMMARY:Everett Silvertips @ Portland Winterhawks
STATUS:CONFIRMED
END:VEVENT
BEGIN:VEVENT
UID:2245969ead6b6b71971020844@hockeytech.com
TZID:UTC
DTSTART:20240217T030000Z
DTEND:20240217T060000Z
DTSTAMP:20240217T030000
DESCRIPTION:You have booked some WHL games
LOCATION:Langley Events Centre - Langley, BC
SUMMARY:Portland Winterhawks @ Vancouver Giants
STATUS:CONFIRMED
END:VEVENT
BEGIN:VEVENT
UID:2245969ead6b6b71971020853@hockeytech.com
TZID:UTC
DTSTART:20240218T020000Z
DTEND:20240218T050000Z
DTSTAMP:20240218T020000
DESCRIPTION:You have booked some WHL games
LOCATION:Veterans Memorial Coliseum - Portland, OR
SUMMARY:Vancouver Giants @ Portland Winterhawks
STATUS:CONFIRMED
END:VEVENT
BEGIN:VEVENT
UID:2245969ead6b6b71971020857@hockeytech.com
TZID:UTC
DTSTART:20240219T000500Z
DTEND:20240219T030500Z
DTSTAMP:20240219T000500
DESCRIPTION:You have booked some WHL games
LOCATION:Angel of the Winds Arena - Everett, WA
SUMMARY:Portland Winterhawks @ Everett Silvertips
STATUS:CONFIRMED
END:VEVENT
BEGIN:VEVENT
UID:2245969ead6b6b71971020880@hockeytech.com
TZID:UTC
DTSTART:20240224T030500Z
DTEND:20240224T060500Z
DTSTAMP:20240224T030500
DESCRIPTION:You have booked some WHL games
LOCATION:Save-On-Foods Memorial Arena - Victoria, BC
SUMMARY:Portland Winterhawks @ Victoria Royals
STATUS:CONFIRMED
END:VEVENT
BEGIN:VEVENT
UID:2245969ead6b6b71971020889@hockeytech.com
TZID:UTC
DTSTART:20240225T020500Z
DTEND:20240225T050500Z
DTSTAMP:20240225T020500
DESCRIPTION:You have booked some WHL games
LOCATION:Save-On-Foods Memorial Arena - Victoria, BC
SUMMARY:Portland Winterhawks @ Victoria Royals
STATUS:CONFIRMED
END:VEVENT
BEGIN:VEVENT
UID:2245969ead6b6b71971020897@hockeytech.com
TZID:UTC
DTSTART:20240229T030000Z
DTEND:20240229T060000Z
DTSTAMP:20240229T030000
DESCRIPTION:You have booked some WHL games
LOCATION:Veterans Memorial Coliseum - Portland, OR
SUMMARY:Moose Jaw Warriors @ Portland Winterhawks
STATUS:CONFIRMED
END:VEVENT
BEGIN:VEVENT
UID:2245969ead6b6b71971020904@hockeytech.com
TZID:UTC
DTSTART:20240302T030000Z
DTEND:20240302T060000Z
DTSTAMP:20240302T030000
DESCRIPTION:You have booked some WHL games
LOCATION:Veterans Memorial Coliseum - Portland, OR
SUMMARY:Regina Pats @ Portland Winterhawks
STATUS:CONFIRMED
END:VEVENT
BEGIN:VEVENT
UID:2245969ead6b6b71971020914@hockeytech.com
TZID:UTC
DTSTART:20240303T020000Z
DTEND:20240303T050000Z
DTSTAMP:20240303T020000
DESCRIPTION:You have booked some WHL games
LOCATION:Veterans Memorial Coliseum - Portland, OR
SUMMARY:Victoria Royals @ Portland Winterhawks
STATUS:CONFIRMED
END:VEVENT
BEGIN:VEVENT
UID:2245969ead6b6b71971020926@hockeytech.com
TZID:UTC
DTSTART:20240307T030000Z
DTEND:20240307T060000Z
DTSTAMP:20240307T030000
DESCRIPTION:You have booked some WHL games
LOCATION:Sandman Centre - Kamloops, BC
SUMMARY:Portland Winterhawks @ Kamloops Blazers
STATUS:CONFIRMED
END:VEVENT
BEGIN:VEVENT
UID:2245969ead6b6b71971020942@hockeytech.com
TZID:UTC
DTSTART:20240310T020000Z
DTEND:20240310T050000Z
DTSTAMP:20240310T020000
DESCRIPTION:You have booked some WHL games
LOCATION:Veterans Memorial Coliseum - Portland, OR
SUMMARY:Wenatchee Wild @ Portland Winterhawks
STATUS:CONFIRMED
END:VEVENT
BEGIN:VEVENT
UID:2245969ead6b6b71971020953@hockeytech.com
TZID:UTC
DTSTART:20240313T020500Z
DTEND:20240313T050500Z
DTSTAMP:20240313T020500
DESCRIPTION:You have booked some WHL games
LOCATION:Numerica Veterans Arena - Spokane, WA
SUMMARY:Portland Winterhawks @ Spokane Chiefs
STATUS:CONFIRMED
END:VEVENT
BEGIN:VEVENT
UID:2245969ead6b6b71971020960@hockeytech.com
TZID:UTC
DTSTART:20240316T020000Z
DTEND:20240316T050000Z
DTSTAMP:20240316T020000
DESCRIPTION:You have booked some WHL games
LOCATION:Veterans Memorial Coliseum - Portland, OR
SUMMARY:Tri-City Americans @ Portland Winterhawks
STATUS:CONFIRMED
END:VEVENT
BEGIN:VEVENT
UID:2245969ead6b6b71971020975@hockeytech.com
TZID:UTC
DTSTART:20240317T010000Z
DTEND:20240317T040000Z
DTSTAMP:20240317T010000
DESCRIPTION:You have booked some WHL games
LOCATION:Town Toyota Center - Wenatchee, WA
SUMMARY:Portland Winterhawks @ Wenatchee Wild
STATUS:CONFIRMED
END:VEVENT
BEGIN:VEVENT
UID:2245969ead6b6b71971020979@hockeytech.com
TZID:UTC
DTSTART:20240318T000500Z
DTEND:20240318T030500Z
DTSTAMP:20240318T000500
DESCRIPTION:You have booked some WHL games
LOCATION:Climate Pledge Arena, Seattle - WA
SUMMARY:Portland Winterhawks @ Seattle Thunderbirds
STATUS:CONFIRMED
END:VEVENT
BEGIN:VEVENT
UID:2245969ead6b6b71971020994@hockeytech.com
TZID:UTC
DTSTART:20240323T020500Z
DTEND:20240323T050500Z
DTSTAMP:20240323T020500
DESCRIPTION:You have booked some WHL games
LOCATION:Toyota Center - Kennewick, WA
SUMMARY:Portland Winterhawks @ Tri-City Americans
STATUS:CONFIRMED
END:VEVENT
BEGIN:VEVENT
UID:2245969ead6b6b71971021001@hockeytech.com
TZID:UTC
DTSTART:20240324T010000Z
DTEND:20240324T040000Z
DTSTAMP:20240324T010000
DESCRIPTION:You have booked some WHL games
LOCATION:Veterans Memorial Coliseum - Portland, OR
SUMMARY:Seattle Thunderbirds @ Portland Winterhawks
STATUS:CONFIRMED
END:VEVENT
BEGIN:VEVENT
UID:2245969ead6b6b71971021009@hockeytech.com
TZID:UTC
DTSTART:20240325T000500Z
DTEND:20240325T030500Z
DTSTAMP:20240325T000500
DESCRIPTION:You have booked some WHL games
LOCATION:accesso ShoWare Center - Kent, WA
SUMMARY:Portland Winterhawks @ Seattle Thunderbirds
STATUS:CONFIRMED
END:VEVENT
END:VCALENDAR