BEGIN:VCALENDAR
VERSION:2.0
PRODID:-//Hockeytech//Leaguestat iCal//EN
BEGIN:VEVENT
UID:91169e6d3d7a39b31019416@hockeytech.com
TZID:UTC
DTSTART:20230401T000500Z
DTEND:20230401T030500Z
DTSTAMP:20230401T000500
DESCRIPTION:You have booked some WHL games
LOCATION:Wayne Fleming Arena - Winnipeg, MB
SUMMARY:Medicine Hat Tigers @ Winnipeg ICE
STATUS:CONFIRMED
END:VEVENT
BEGIN:VEVENT
UID:91169e6d3d7a39b31019417@hockeytech.com
TZID:UTC
DTSTART:20230401T230500Z
DTEND:20230402T020500Z
DTSTAMP:20230401T230500
DESCRIPTION:You have booked some WHL games
LOCATION:Wayne Fleming Arena - Winnipeg, MB
SUMMARY:Medicine Hat Tigers @ Winnipeg ICE
STATUS:CONFIRMED
END:VEVENT
BEGIN:VEVENT
UID:91169e6d3d7a39b31019418@hockeytech.com
TZID:UTC
DTSTART:20230405T010000Z
DTEND:20230405T040000Z
DTSTAMP:20230405T010000
DESCRIPTION:You have booked some WHL games
LOCATION:Co-op Place - Medicine Hat, AB
SUMMARY:Winnipeg ICE @ Medicine Hat Tigers
STATUS:CONFIRMED
END:VEVENT
BEGIN:VEVENT
UID:91169e6d3d7a39b31019419@hockeytech.com
TZID:UTC
DTSTART:20230406T010000Z
DTEND:20230406T040000Z
DTSTAMP:20230406T010000
DESCRIPTION:You have booked some WHL games
LOCATION:Co-op Place - Medicine Hat, AB
SUMMARY:Winnipeg ICE @ Medicine Hat Tigers
STATUS:CONFIRMED
END:VEVENT
END:VCALENDAR