BEGIN:VCALENDAR
VERSION:2.0
PRODID:-//Hockeytech//Leaguestat iCal//EN
BEGIN:VEVENT
UID:1440169e5f2ed5220c1016514@hockeytech.com
TZID:UTC
DTSTART:20190922T020500Z
DTEND:20190922T050500Z
DTSTAMP:20190922T020500
DESCRIPTION:You have booked some WHL games
LOCATION:Angel of the Winds Arena - Everett, WA
SUMMARY:Victoria Royals @ Everett Silvertips
STATUS:CONFIRMED
END:VEVENT
BEGIN:VEVENT
UID:1440169e5f2ed5220c1016536@hockeytech.com
TZID:UTC
DTSTART:20190928T020500Z
DTEND:20190928T050500Z
DTSTAMP:20190928T020500
DESCRIPTION:You have booked some WHL games
LOCATION:Save-On-Foods Memorial Arena - Victoria, BC
SUMMARY:Prince George Cougars @ Victoria Royals
STATUS:CONFIRMED
END:VEVENT
BEGIN:VEVENT
UID:1440169e5f2ed5220c1016544@hockeytech.com
TZID:UTC
DTSTART:20190929T020500Z
DTEND:20190929T050500Z
DTSTAMP:20190929T020500
DESCRIPTION:You have booked some WHL games
LOCATION:Save-On-Foods Memorial Arena - Victoria, BC
SUMMARY:Prince George Cougars @ Victoria Royals
STATUS:CONFIRMED
END:VEVENT
BEGIN:VEVENT
UID:1440169e5f2ed5220c1016567@hockeytech.com
TZID:UTC
DTSTART:20191006T010500Z
DTEND:20191006T040500Z
DTSTAMP:20191006T010500
DESCRIPTION:You have booked some WHL games
LOCATION:accesso ShoWare Center - Kent, WA
SUMMARY:Victoria Royals @ Seattle Thunderbirds
STATUS:CONFIRMED
END:VEVENT
BEGIN:VEVENT
UID:1440169e5f2ed5220c1016580@hockeytech.com
TZID:UTC
DTSTART:20191010T020500Z
DTEND:20191010T050500Z
DTSTAMP:20191010T020500
DESCRIPTION:You have booked some WHL games
LOCATION:Save-On-Foods Memorial Arena - Victoria, BC
SUMMARY:Everett Silvertips @ Victoria Royals
STATUS:CONFIRMED
END:VEVENT
BEGIN:VEVENT
UID:1440169e5f2ed5220c1016589@hockeytech.com
TZID:UTC
DTSTART:20191012T020500Z
DTEND:20191012T050500Z
DTSTAMP:20191012T020500
DESCRIPTION:You have booked some WHL games
LOCATION:Toyota Center - Kennewick, WA
SUMMARY:Victoria Royals @ Tri-City Americans
STATUS:CONFIRMED
END:VEVENT
BEGIN:VEVENT
UID:1440169e5f2ed5220c1016597@hockeytech.com
TZID:UTC
DTSTART:20191013T020500Z
DTEND:20191013T050500Z
DTSTAMP:20191013T020500
DESCRIPTION:You have booked some WHL games
LOCATION:Numerica Veterans Arena - Spokane, WA
SUMMARY:Victoria Royals @ Spokane Chiefs
STATUS:CONFIRMED
END:VEVENT
BEGIN:VEVENT
UID:1440169e5f2ed5220c1016615@hockeytech.com
TZID:UTC
DTSTART:20191019T020500Z
DTEND:20191019T050500Z
DTSTAMP:20191019T020500
DESCRIPTION:You have booked some WHL games
LOCATION:Save-On-Foods Memorial Arena - Victoria, BC
SUMMARY:Swift Current Broncos @ Victoria Royals
STATUS:CONFIRMED
END:VEVENT
BEGIN:VEVENT
UID:1440169e5f2ed5220c1016626@hockeytech.com
TZID:UTC
DTSTART:20191020T230000Z
DTEND:20191021T020000Z
DTSTAMP:20191020T230000
DESCRIPTION:You have booked some WHL games
LOCATION:Langley Events Centre - Langley, BC
SUMMARY:Victoria Royals @ Vancouver Giants
STATUS:CONFIRMED
END:VEVENT
BEGIN:VEVENT
UID:1440169e5f2ed5220c1016643@hockeytech.com
TZID:UTC
DTSTART:20191026T020500Z
DTEND:20191026T050500Z
DTSTAMP:20191026T020500
DESCRIPTION:You have booked some WHL games
LOCATION:Save-On-Foods Memorial Arena - Victoria, BC
SUMMARY:Kamloops Blazers @ Victoria Royals
STATUS:CONFIRMED
END:VEVENT
BEGIN:VEVENT
UID:1440169e5f2ed5220c1016649@hockeytech.com
TZID:UTC
DTSTART:20191027T020500Z
DTEND:20191027T050500Z
DTSTAMP:20191027T020500
DESCRIPTION:You have booked some WHL games
LOCATION:Save-On-Foods Memorial Arena - Victoria, BC
SUMMARY:Kamloops Blazers @ Victoria Royals
STATUS:CONFIRMED
END:VEVENT
BEGIN:VEVENT
UID:1440169e5f2ed5220c1016654@hockeytech.com
TZID:UTC
DTSTART:20191030T020500Z
DTEND:20191030T050500Z
DTSTAMP:20191030T020500
DESCRIPTION:You have booked some WHL games
LOCATION:Save-On-Foods Memorial Arena - Victoria, BC
SUMMARY:Kelowna Rockets @ Victoria Royals
STATUS:CONFIRMED
END:VEVENT
BEGIN:VEVENT
UID:1440169e5f2ed5220c1016655@hockeytech.com
TZID:UTC
DTSTART:20191031T020500Z
DTEND:20191031T050500Z
DTSTAMP:20191031T020500
DESCRIPTION:You have booked some WHL games
LOCATION:Save-On-Foods Memorial Arena - Victoria, BC
SUMMARY:Kelowna Rockets @ Victoria Royals
STATUS:CONFIRMED
END:VEVENT
BEGIN:VEVENT
UID:1440169e5f2ed5220c1016672@hockeytech.com
TZID:UTC
DTSTART:20191103T020500Z
DTEND:20191103T050500Z
DTSTAMP:20191103T020500
DESCRIPTION:You have booked some WHL games
LOCATION:Save-On-Foods Memorial Arena - Victoria, BC
SUMMARY:Medicine Hat Tigers @ Victoria Royals
STATUS:CONFIRMED
END:VEVENT
BEGIN:VEVENT
UID:1440169e5f2ed5220c1016682@hockeytech.com
TZID:UTC
DTSTART:20191107T030500Z
DTEND:20191107T060500Z
DTSTAMP:20191107T030500
DESCRIPTION:You have booked some WHL games
LOCATION:Prospera Place - Kelowna, BC
SUMMARY:Victoria Royals @ Kelowna Rockets
STATUS:CONFIRMED
END:VEVENT
BEGIN:VEVENT
UID:1440169e5f2ed5220c1016691@hockeytech.com
TZID:UTC
DTSTART:20191109T030000Z
DTEND:20191109T060000Z
DTSTAMP:20191109T030000
DESCRIPTION:You have booked some WHL games
LOCATION:CN Centre - Prince George, BC
SUMMARY:Victoria Royals @ Prince George Cougars
STATUS:CONFIRMED
END:VEVENT
BEGIN:VEVENT
UID:1440169e5f2ed5220c1016703@hockeytech.com
TZID:UTC
DTSTART:20191110T030000Z
DTEND:20191110T060000Z
DTSTAMP:20191110T030000
DESCRIPTION:You have booked some WHL games
LOCATION:CN Centre - Prince George, BC
SUMMARY:Victoria Royals @ Prince George Cougars
STATUS:CONFIRMED
END:VEVENT
BEGIN:VEVENT
UID:1440169e5f2ed5220c1016714@hockeytech.com
TZID:UTC
DTSTART:20191116T030500Z
DTEND:20191116T060500Z
DTSTAMP:20191116T030500
DESCRIPTION:You have booked some WHL games
LOCATION:Save-On-Foods Memorial Arena - Victoria, BC
SUMMARY:Lethbridge Hurricanes @ Victoria Royals
STATUS:CONFIRMED
END:VEVENT
BEGIN:VEVENT
UID:1440169e5f2ed5220c1016735@hockeytech.com
TZID:UTC
DTSTART:20191121T030500Z
DTEND:20191121T060500Z
DTSTAMP:20191121T030500
DESCRIPTION:You have booked some WHL games
LOCATION:Prospera Place - Kelowna, BC
SUMMARY:Victoria Royals @ Kelowna Rockets
STATUS:CONFIRMED
END:VEVENT
BEGIN:VEVENT
UID:1440169e5f2ed5220c1016749@hockeytech.com
TZID:UTC
DTSTART:20191123T030500Z
DTEND:20191123T060500Z
DTSTAMP:20191123T030500
DESCRIPTION:You have booked some WHL games
LOCATION:Save-On-Foods Memorial Arena - Victoria, BC
SUMMARY:Edmonton Oil Kings @ Victoria Royals
STATUS:CONFIRMED
END:VEVENT
BEGIN:VEVENT
UID:1440169e5f2ed5220c1016767@hockeytech.com
TZID:UTC
DTSTART:20191128T030500Z
DTEND:20191128T060500Z
DTSTAMP:20191128T030500
DESCRIPTION:You have booked some WHL games
LOCATION:accesso ShoWare Center - Kent, WA
SUMMARY:Victoria Royals @ Seattle Thunderbirds
STATUS:CONFIRMED
END:VEVENT
BEGIN:VEVENT
UID:1440169e5f2ed5220c1016776@hockeytech.com
TZID:UTC
DTSTART:20191130T030500Z
DTEND:20191130T060500Z
DTSTAMP:20191130T030500
DESCRIPTION:You have booked some WHL games
LOCATION:Toyota Center - Kennewick, WA
SUMMARY:Victoria Royals @ Tri-City Americans
STATUS:CONFIRMED
END:VEVENT
BEGIN:VEVENT
UID:1440169e5f2ed5220c1016783@hockeytech.com
TZID:UTC
DTSTART:20191201T030500Z
DTEND:20191201T060500Z
DTSTAMP:20191201T030500
DESCRIPTION:You have booked some WHL games
LOCATION:Numerica Veterans Arena - Spokane, WA
SUMMARY:Victoria Royals @ Spokane Chiefs
STATUS:CONFIRMED
END:VEVENT
BEGIN:VEVENT
UID:1440169e5f2ed5220c1016797@hockeytech.com
TZID:UTC
DTSTART:20191205T030500Z
DTEND:20191205T060500Z
DTSTAMP:20191205T030500
DESCRIPTION:You have booked some WHL games
LOCATION:Save-On-Foods Memorial Arena - Victoria, BC
SUMMARY:Vancouver Giants @ Victoria Royals
STATUS:CONFIRMED
END:VEVENT
BEGIN:VEVENT
UID:1440169e5f2ed5220c1016806@hockeytech.com
TZID:UTC
DTSTART:20191207T030500Z
DTEND:20191207T060500Z
DTSTAMP:20191207T030500
DESCRIPTION:You have booked some WHL games
LOCATION:Save-On-Foods Memorial Arena - Victoria, BC
SUMMARY:Seattle Thunderbirds @ Victoria Royals
STATUS:CONFIRMED
END:VEVENT
BEGIN:VEVENT
UID:1440169e5f2ed5220c1016816@hockeytech.com
TZID:UTC
DTSTART:20191208T030500Z
DTEND:20191208T060500Z
DTSTAMP:20191208T030500
DESCRIPTION:You have booked some WHL games
LOCATION:Save-On-Foods Memorial Arena - Victoria, BC
SUMMARY:Seattle Thunderbirds @ Victoria Royals
STATUS:CONFIRMED
END:VEVENT
BEGIN:VEVENT
UID:1440169e5f2ed5220c1016834@hockeytech.com
TZID:UTC
DTSTART:20191214T030000Z
DTEND:20191214T060000Z
DTSTAMP:20191214T030000
DESCRIPTION:You have booked some WHL games
LOCATION:CN Centre - Prince George, BC
SUMMARY:Victoria Royals @ Prince George Cougars
STATUS:CONFIRMED
END:VEVENT
BEGIN:VEVENT
UID:1440169e5f2ed5220c1016844@hockeytech.com
TZID:UTC
DTSTART:20191215T030000Z
DTEND:20191215T060000Z
DTSTAMP:20191215T030000
DESCRIPTION:You have booked some WHL games
LOCATION:CN Centre - Prince George, BC
SUMMARY:Victoria Royals @ Prince George Cougars
STATUS:CONFIRMED
END:VEVENT
BEGIN:VEVENT
UID:1440169e5f2ed5220c1016855@hockeytech.com
TZID:UTC
DTSTART:20191218T030500Z
DTEND:20191218T060500Z
DTSTAMP:20191218T030500
DESCRIPTION:You have booked some WHL games
LOCATION:Save-On-Foods Memorial Arena - Victoria, BC
SUMMARY:Spokane Chiefs @ Victoria Royals
STATUS:CONFIRMED
END:VEVENT
BEGIN:VEVENT
UID:1440169e5f2ed5220c1016859@hockeytech.com
TZID:UTC
DTSTART:20191219T030500Z
DTEND:20191219T060500Z
DTSTAMP:20191219T030500
DESCRIPTION:You have booked some WHL games
LOCATION:Save-On-Foods Memorial Arena - Victoria, BC
SUMMARY:Spokane Chiefs @ Victoria Royals
STATUS:CONFIRMED
END:VEVENT
BEGIN:VEVENT
UID:1440169e5f2ed5220c1016870@hockeytech.com
TZID:UTC
DTSTART:20191228T030500Z
DTEND:20191228T060500Z
DTSTAMP:20191228T030500
DESCRIPTION:You have booked some WHL games
LOCATION:Save-On-Foods Memorial Arena - Victoria, BC
SUMMARY:Vancouver Giants @ Victoria Royals
STATUS:CONFIRMED
END:VEVENT
BEGIN:VEVENT
UID:1440169e5f2ed5220c1016880@hockeytech.com
TZID:UTC
DTSTART:20191229T030500Z
DTEND:20191229T060500Z
DTSTAMP:20191229T030500
DESCRIPTION:You have booked some WHL games
LOCATION:Save-On-Foods Memorial Arena - Victoria, BC
SUMMARY:Prince George Cougars @ Victoria Royals
STATUS:CONFIRMED
END:VEVENT
BEGIN:VEVENT
UID:1440169e5f2ed5220c1016884@hockeytech.com
TZID:UTC
DTSTART:20191231T030000Z
DTEND:20191231T060000Z
DTSTAMP:20191231T030000
DESCRIPTION:You have booked some WHL games
LOCATION:Sandman Centre - Kamloops, BC
SUMMARY:Victoria Royals @ Kamloops Blazers
STATUS:CONFIRMED
END:VEVENT
BEGIN:VEVENT
UID:1440169e5f2ed5220c1016896@hockeytech.com
TZID:UTC
DTSTART:20200101T220000Z
DTEND:20200102T010000Z
DTSTAMP:20200101T220000
DESCRIPTION:You have booked some WHL games
LOCATION:Langley Events Centre - Langley, BC
SUMMARY:Victoria Royals @ Vancouver Giants
STATUS:CONFIRMED
END:VEVENT
BEGIN:VEVENT
UID:1440169e5f2ed5220c1016900@hockeytech.com
TZID:UTC
DTSTART:20200104T030500Z
DTEND:20200104T060500Z
DTSTAMP:20200104T030500
DESCRIPTION:You have booked some WHL games
LOCATION:Prospera Place - Kelowna, BC
SUMMARY:Victoria Royals @ Kelowna Rockets
STATUS:CONFIRMED
END:VEVENT
BEGIN:VEVENT
UID:1440169e5f2ed5220c1016907@hockeytech.com
TZID:UTC
DTSTART:20200105T030000Z
DTEND:20200105T060000Z
DTSTAMP:20200105T030000
DESCRIPTION:You have booked some WHL games
LOCATION:Sandman Centre - Kamloops, BC
SUMMARY:Victoria Royals @ Kamloops Blazers
STATUS:CONFIRMED
END:VEVENT
BEGIN:VEVENT
UID:1440169e5f2ed5220c1016925@hockeytech.com
TZID:UTC
DTSTART:20200109T030500Z
DTEND:20200109T060500Z
DTSTAMP:20200109T030500
DESCRIPTION:You have booked some WHL games
LOCATION:Prospera Place - Kelowna, BC
SUMMARY:Victoria Royals @ Kelowna Rockets
STATUS:CONFIRMED
END:VEVENT
BEGIN:VEVENT
UID:1440169e5f2ed5220c1016938@hockeytech.com
TZID:UTC
DTSTART:20200111T030500Z
DTEND:20200111T060500Z
DTSTAMP:20200111T030500
DESCRIPTION:You have booked some WHL games
LOCATION:Save-On-Foods Memorial Arena - Victoria, BC
SUMMARY:Portland Winterhawks @ Victoria Royals
STATUS:CONFIRMED
END:VEVENT
BEGIN:VEVENT
UID:1440169e5f2ed5220c1016947@hockeytech.com
TZID:UTC
DTSTART:20200112T030500Z
DTEND:20200112T060500Z
DTSTAMP:20200112T030500
DESCRIPTION:You have booked some WHL games
LOCATION:Save-On-Foods Memorial Arena - Victoria, BC
SUMMARY:Portland Winterhawks @ Victoria Royals
STATUS:CONFIRMED
END:VEVENT
BEGIN:VEVENT
UID:1440169e5f2ed5220c1016953@hockeytech.com
TZID:UTC
DTSTART:20200115T030500Z
DTEND:20200115T060500Z
DTSTAMP:20200115T030500
DESCRIPTION:You have booked some WHL games
LOCATION:Save-On-Foods Memorial Arena - Victoria, BC
SUMMARY:Tri-City Americans @ Victoria Royals
STATUS:CONFIRMED
END:VEVENT
BEGIN:VEVENT
UID:1440169e5f2ed5220c1016957@hockeytech.com
TZID:UTC
DTSTART:20200116T030500Z
DTEND:20200116T060500Z
DTSTAMP:20200116T030500
DESCRIPTION:You have booked some WHL games
LOCATION:Save-On-Foods Memorial Arena - Victoria, BC
SUMMARY:Tri-City Americans @ Victoria Royals
STATUS:CONFIRMED
END:VEVENT
BEGIN:VEVENT
UID:1440169e5f2ed5220c1016967@hockeytech.com
TZID:UTC
DTSTART:20200118T033000Z
DTEND:20200118T063000Z
DTSTAMP:20200118T033000
DESCRIPTION:You have booked some WHL games
LOCATION:Langley Events Centre - Langley, BC
SUMMARY:Victoria Royals @ Vancouver Giants
STATUS:CONFIRMED
END:VEVENT
BEGIN:VEVENT
UID:1440169e5f2ed5220c1016976@hockeytech.com
TZID:UTC
DTSTART:20200119T030500Z
DTEND:20200119T060500Z
DTSTAMP:20200119T030500
DESCRIPTION:You have booked some WHL games
LOCATION:Save-On-Foods Memorial Arena - Victoria, BC
SUMMARY:Vancouver Giants @ Victoria Royals
STATUS:CONFIRMED
END:VEVENT
BEGIN:VEVENT
UID:1440169e5f2ed5220c1016987@hockeytech.com
TZID:UTC
DTSTART:20200125T013000Z
DTEND:20200125T043000Z
DTSTAMP:20200125T013000
DESCRIPTION:You have booked some WHL games
LOCATION:Assiniboine Credit Union Place - Brandon, MB
SUMMARY:Victoria Royals @ Brandon Wheat Kings
STATUS:CONFIRMED
END:VEVENT
BEGIN:VEVENT
UID:1440169e5f2ed5220c1017004@hockeytech.com
TZID:UTC
DTSTART:20200126T013000Z
DTEND:20200126T043000Z
DTSTAMP:20200126T013000
DESCRIPTION:You have booked some WHL games
LOCATION:Wayne Fleming Arena - Winnipeg, MB
SUMMARY:Victoria Royals @ Winnipeg ICE
STATUS:CONFIRMED
END:VEVENT
BEGIN:VEVENT
UID:1440169e5f2ed5220c1017012@hockeytech.com
TZID:UTC
DTSTART:20200129T010000Z
DTEND:20200129T040000Z
DTSTAMP:20200129T010000
DESCRIPTION:You have booked some WHL games
LOCATION:SaskTel Centre - Saskatoon, SK
SUMMARY:Victoria Royals @ Saskatoon Blades
STATUS:CONFIRMED
END:VEVENT
BEGIN:VEVENT
UID:1440169e5f2ed5220c1017016@hockeytech.com
TZID:UTC
DTSTART:20200130T010000Z
DTEND:20200130T040000Z
DTSTAMP:20200130T010000
DESCRIPTION:You have booked some WHL games
LOCATION:Art Hauser Centre - Prince Albert, SK
SUMMARY:Victoria Royals @ Prince Albert Raiders
STATUS:CONFIRMED
END:VEVENT
BEGIN:VEVENT
UID:1440169e5f2ed5220c1017025@hockeytech.com
TZID:UTC
DTSTART:20200201T010000Z
DTEND:20200201T040000Z
DTSTAMP:20200201T010000
DESCRIPTION:You have booked some WHL games
LOCATION:Brandt Centre - Regina, SK
SUMMARY:Victoria Royals @ Regina Pats
STATUS:CONFIRMED
END:VEVENT
BEGIN:VEVENT
UID:1440169e5f2ed5220c1017031@hockeytech.com
TZID:UTC
DTSTART:20200202T010000Z
DTEND:20200202T040000Z
DTSTAMP:20200202T010000
DESCRIPTION:You have booked some WHL games
LOCATION:Temple Gardens Centre - Moose Jaw, SK
SUMMARY:Victoria Royals @ Moose Jaw Warriors
STATUS:CONFIRMED
END:VEVENT
BEGIN:VEVENT
UID:1440169e5f2ed5220c1017052@hockeytech.com
TZID:UTC
DTSTART:20200208T030500Z
DTEND:20200208T060500Z
DTSTAMP:20200208T030500
DESCRIPTION:You have booked some WHL games
LOCATION:Save-On-Foods Memorial Arena - Victoria, BC
SUMMARY:Kamloops Blazers @ Victoria Royals
STATUS:CONFIRMED
END:VEVENT
BEGIN:VEVENT
UID:1440169e5f2ed5220c1017061@hockeytech.com
TZID:UTC
DTSTART:20200209T030500Z
DTEND:20200209T060500Z
DTSTAMP:20200209T030500
DESCRIPTION:You have booked some WHL games
LOCATION:Save-On-Foods Memorial Arena - Victoria, BC
SUMMARY:Kamloops Blazers @ Victoria Royals
STATUS:CONFIRMED
END:VEVENT
BEGIN:VEVENT
UID:1440169e5f2ed5220c1017069@hockeytech.com
TZID:UTC
DTSTART:20200212T030500Z
DTEND:20200212T060500Z
DTSTAMP:20200212T030500
DESCRIPTION:You have booked some WHL games
LOCATION:Save-On-Foods Memorial Arena - Victoria, BC
SUMMARY:Red Deer Rebels @ Victoria Royals
STATUS:CONFIRMED
END:VEVENT
BEGIN:VEVENT
UID:1440169e5f2ed5220c1017084@hockeytech.com
TZID:UTC
DTSTART:20200215T033000Z
DTEND:20200215T063000Z
DTSTAMP:20200215T033000
DESCRIPTION:You have booked some WHL games
LOCATION:Langley Events Centre - Langley, BC
SUMMARY:Victoria Royals @ Vancouver Giants
STATUS:CONFIRMED
END:VEVENT
BEGIN:VEVENT
UID:1440169e5f2ed5220c1017087@hockeytech.com
TZID:UTC
DTSTART:20200216T030000Z
DTEND:20200216T060000Z
DTSTAMP:20200216T030000
DESCRIPTION:You have booked some WHL games
LOCATION:Sandman Centre - Kamloops, BC
SUMMARY:Victoria Royals @ Kamloops Blazers
STATUS:CONFIRMED
END:VEVENT
BEGIN:VEVENT
UID:1440169e5f2ed5220c1017097@hockeytech.com
TZID:UTC
DTSTART:20200217T220000Z
DTEND:20200218T010000Z
DTSTAMP:20200217T220000
DESCRIPTION:You have booked some WHL games
LOCATION:Sandman Centre - Kamloops, BC
SUMMARY:Victoria Royals @ Kamloops Blazers
STATUS:CONFIRMED
END:VEVENT
BEGIN:VEVENT
UID:1440169e5f2ed5220c1017108@hockeytech.com
TZID:UTC
DTSTART:20200220T030500Z
DTEND:20200220T060500Z
DTSTAMP:20200220T030500
DESCRIPTION:You have booked some WHL games
LOCATION:Save-On-Foods Memorial Arena - Victoria, BC
SUMMARY:Calgary Hitmen @ Victoria Royals
STATUS:CONFIRMED
END:VEVENT
BEGIN:VEVENT
UID:1440169e5f2ed5220c1017118@hockeytech.com
TZID:UTC
DTSTART:20200222T030500Z
DTEND:20200222T060500Z
DTSTAMP:20200222T030500
DESCRIPTION:You have booked some WHL games
LOCATION:Save-On-Foods Memorial Arena - Victoria, BC
SUMMARY:Kelowna Rockets @ Victoria Royals
STATUS:CONFIRMED
END:VEVENT
BEGIN:VEVENT
UID:1440169e5f2ed5220c1017127@hockeytech.com
TZID:UTC
DTSTART:20200223T030500Z
DTEND:20200223T060500Z
DTSTAMP:20200223T030500
DESCRIPTION:You have booked some WHL games
LOCATION:Save-On-Foods Memorial Arena - Victoria, BC
SUMMARY:Kelowna Rockets @ Victoria Royals
STATUS:CONFIRMED
END:VEVENT
BEGIN:VEVENT
UID:1440169e5f2ed5220c1017147@hockeytech.com
TZID:UTC
DTSTART:20200229T033000Z
DTEND:20200229T063000Z
DTSTAMP:20200229T033000
DESCRIPTION:You have booked some WHL games
LOCATION:Langley Events Centre - Langley, BC
SUMMARY:Victoria Royals @ Vancouver Giants
STATUS:CONFIRMED
END:VEVENT
BEGIN:VEVENT
UID:1440169e5f2ed5220c1017157@hockeytech.com
TZID:UTC
DTSTART:20200301T030500Z
DTEND:20200301T060500Z
DTSTAMP:20200301T030500
DESCRIPTION:You have booked some WHL games
LOCATION:Save-On-Foods Memorial Arena - Victoria, BC
SUMMARY:Vancouver Giants @ Victoria Royals
STATUS:CONFIRMED
END:VEVENT
BEGIN:VEVENT
UID:1440169e5f2ed5220c1017161@hockeytech.com
TZID:UTC
DTSTART:20200301T230500Z
DTEND:20200302T020500Z
DTSTAMP:20200301T230500
DESCRIPTION:You have booked some WHL games
LOCATION:Save-On-Foods Memorial Arena - Victoria, BC
SUMMARY:Vancouver Giants @ Victoria Royals
STATUS:CONFIRMED
END:VEVENT
BEGIN:VEVENT
UID:1440169e5f2ed5220c1017185@hockeytech.com
TZID:UTC
DTSTART:20200308T020000Z
DTEND:20200308T050000Z
DTSTAMP:20200308T020000
DESCRIPTION:You have booked some WHL games
LOCATION:Veterans Memorial Coliseum - Portland, OR
SUMMARY:Victoria Royals @ Portland Winterhawks
STATUS:CONFIRMED
END:VEVENT
BEGIN:VEVENT
UID:1440169e5f2ed5220c1017191@hockeytech.com
TZID:UTC
DTSTART:20200309T000000Z
DTEND:20200309T030000Z
DTSTAMP:20200309T000000
DESCRIPTION:You have booked some WHL games
LOCATION:Moda Center - Portland, OR
SUMMARY:Victoria Royals @ Portland Winterhawks
STATUS:CONFIRMED
END:VEVENT
BEGIN:VEVENT
UID:1440169e5f2ed5220c1017198@hockeytech.com
TZID:UTC
DTSTART:20200312T020500Z
DTEND:20200312T050500Z
DTSTAMP:20200312T020500
DESCRIPTION:You have booked some WHL games
LOCATION:Prospera Place - Kelowna, BC
SUMMARY:Victoria Royals @ Kelowna Rockets
STATUS:CONFIRMED
END:VEVENT
BEGIN:VEVENT
UID:1440169e5f2ed5220c1017209@hockeytech.com
TZID:UTC
DTSTART:20200314T020500Z
DTEND:20200314T050500Z
DTSTAMP:20200314T020500
DESCRIPTION:You have booked some WHL games
LOCATION:Save-On-Foods Memorial Arena - Victoria, BC
SUMMARY:Prince George Cougars @ Victoria Royals
STATUS:CONFIRMED
END:VEVENT
BEGIN:VEVENT
UID:1440169e5f2ed5220c1017219@hockeytech.com
TZID:UTC
DTSTART:20200315T020500Z
DTEND:20200315T050500Z
DTSTAMP:20200315T020500
DESCRIPTION:You have booked some WHL games
LOCATION:Save-On-Foods Memorial Arena - Victoria, BC
SUMMARY:Prince George Cougars @ Victoria Royals
STATUS:CONFIRMED
END:VEVENT
BEGIN:VEVENT
UID:1440169e5f2ed5220c1017233@hockeytech.com
TZID:UTC
DTSTART:20200321T023500Z
DTEND:20200321T053500Z
DTSTAMP:20200321T023500
DESCRIPTION:You have booked some WHL games
LOCATION:Angel of the Winds Arena - Everett, WA
SUMMARY:Victoria Royals @ Everett Silvertips
STATUS:CONFIRMED
END:VEVENT
BEGIN:VEVENT
UID:1440169e5f2ed5220c1017252@hockeytech.com
TZID:UTC
DTSTART:20200322T020500Z
DTEND:20200322T050500Z
DTSTAMP:20200322T020500
DESCRIPTION:You have booked some WHL games
LOCATION:Save-On-Foods Memorial Arena - Victoria, BC
SUMMARY:Everett Silvertips @ Victoria Royals
STATUS:CONFIRMED
END:VEVENT
END:VCALENDAR