BEGIN:VCALENDAR
VERSION:2.0
PRODID:-//Hockeytech//Leaguestat iCal//EN
BEGIN:VEVENT
UID:642569ecbbdfcc2f21014625@hockeytech.com
TZID:UTC
DTSTART:20170923T010500Z
DTEND:20170923T040500Z
DTSTAMP:20170923T010500
DESCRIPTION:You have booked some WHL games
LOCATION:SaskTel Centre - Saskatoon, SK
SUMMARY:Swift Current Broncos @ Saskatoon Blades
STATUS:CONFIRMED
END:VEVENT
BEGIN:VEVENT
UID:642569ecbbdfcc2f21014641@hockeytech.com
TZID:UTC
DTSTART:20170928T010000Z
DTEND:20170928T040000Z
DTSTAMP:20170928T010000
DESCRIPTION:You have booked some WHL games
LOCATION:Brandt Centre - Regina, SK
SUMMARY:Swift Current Broncos @ Regina Pats
STATUS:CONFIRMED
END:VEVENT
BEGIN:VEVENT
UID:642569ecbbdfcc2f21014651@hockeytech.com
TZID:UTC
DTSTART:20171001T003000Z
DTEND:20171001T033000Z
DTSTAMP:20171001T003000
DESCRIPTION:You have booked some WHL games
LOCATION:Westman Place - Brandon, MB
SUMMARY:Swift Current Broncos @ Brandon Wheat Kings
STATUS:CONFIRMED
END:VEVENT
BEGIN:VEVENT
UID:642569ecbbdfcc2f21014672@hockeytech.com
TZID:UTC
DTSTART:20171007T010500Z
DTEND:20171007T040500Z
DTSTAMP:20171007T010500
DESCRIPTION:You have booked some WHL games
LOCATION:SaskTel Centre - Saskatoon, SK
SUMMARY:Swift Current Broncos @ Saskatoon Blades
STATUS:CONFIRMED
END:VEVENT
BEGIN:VEVENT
UID:642569ecbbdfcc2f21014680@hockeytech.com
TZID:UTC
DTSTART:20171008T010000Z
DTEND:20171008T040000Z
DTSTAMP:20171008T010000
DESCRIPTION:You have booked some WHL games
LOCATION:InnovationPlex - Swift Current, SK
SUMMARY:Kootenay ICE @ Swift Current Broncos
STATUS:CONFIRMED
END:VEVENT
BEGIN:VEVENT
UID:642569ecbbdfcc2f21014687@hockeytech.com
TZID:UTC
DTSTART:20171008T220000Z
DTEND:20171009T010000Z
DTSTAMP:20171008T220000
DESCRIPTION:You have booked some WHL games
LOCATION:Temple Gardens Centre - Moose Jaw, SK
SUMMARY:Swift Current Broncos @ Moose Jaw Warriors
STATUS:CONFIRMED
END:VEVENT
BEGIN:VEVENT
UID:642569ecbbdfcc2f21014691@hockeytech.com
TZID:UTC
DTSTART:20171011T010000Z
DTEND:20171011T040000Z
DTSTAMP:20171011T010000
DESCRIPTION:You have booked some WHL games
LOCATION:InnovationPlex - Swift Current, SK
SUMMARY:Lethbridge Hurricanes @ Swift Current Broncos
STATUS:CONFIRMED
END:VEVENT
BEGIN:VEVENT
UID:642569ecbbdfcc2f21014703@hockeytech.com
TZID:UTC
DTSTART:20171014T010000Z
DTEND:20171014T040000Z
DTSTAMP:20171014T010000
DESCRIPTION:You have booked some WHL games
LOCATION:InnovationPlex - Swift Current, SK
SUMMARY:Vancouver Giants @ Swift Current Broncos
STATUS:CONFIRMED
END:VEVENT
BEGIN:VEVENT
UID:642569ecbbdfcc2f21014714@hockeytech.com
TZID:UTC
DTSTART:20171015T010000Z
DTEND:20171015T040000Z
DTSTAMP:20171015T010000
DESCRIPTION:You have booked some WHL games
LOCATION:InnovationPlex - Swift Current, SK
SUMMARY:Edmonton Oil Kings @ Swift Current Broncos
STATUS:CONFIRMED
END:VEVENT
BEGIN:VEVENT
UID:642569ecbbdfcc2f21014734@hockeytech.com
TZID:UTC
DTSTART:20171021T010000Z
DTEND:20171021T040000Z
DTSTAMP:20171021T010000
DESCRIPTION:You have booked some WHL games
LOCATION:Enmax Centre - Lethbridge, AB
SUMMARY:Swift Current Broncos @ Lethbridge Hurricanes
STATUS:CONFIRMED
END:VEVENT
BEGIN:VEVENT
UID:642569ecbbdfcc2f21014742@hockeytech.com
TZID:UTC
DTSTART:20171022T010000Z
DTEND:20171022T040000Z
DTSTAMP:20171022T010000
DESCRIPTION:You have booked some WHL games
LOCATION:Western Financial Place - Cranbrook, BC 
SUMMARY:Swift Current Broncos @ Kootenay ICE
STATUS:CONFIRMED
END:VEVENT
BEGIN:VEVENT
UID:642569ecbbdfcc2f21014765@hockeytech.com
TZID:UTC
DTSTART:20171028T010000Z
DTEND:20171028T040000Z
DTSTAMP:20171028T010000
DESCRIPTION:You have booked some WHL games
LOCATION:InnovationPlex - Swift Current, SK
SUMMARY:Saskatoon Blades @ Swift Current Broncos
STATUS:CONFIRMED
END:VEVENT
BEGIN:VEVENT
UID:642569ecbbdfcc2f21014772@hockeytech.com
TZID:UTC
DTSTART:20171029T010000Z
DTEND:20171029T040000Z
DTSTAMP:20171029T010000
DESCRIPTION:You have booked some WHL games
LOCATION:InnovationPlex - Swift Current, SK
SUMMARY:Medicine Hat Tigers @ Swift Current Broncos
STATUS:CONFIRMED
END:VEVENT
BEGIN:VEVENT
UID:642569ecbbdfcc2f21014792@hockeytech.com
TZID:UTC
DTSTART:20171104T010000Z
DTEND:20171104T040000Z
DTSTAMP:20171104T010000
DESCRIPTION:You have booked some WHL games
LOCATION:Art Hauser Centre - Prince Albert, SK
SUMMARY:Swift Current Broncos @ Prince Albert Raiders
STATUS:CONFIRMED
END:VEVENT
BEGIN:VEVENT
UID:642569ecbbdfcc2f21014801@hockeytech.com
TZID:UTC
DTSTART:20171105T010000Z
DTEND:20171105T040000Z
DTSTAMP:20171105T010000
DESCRIPTION:You have booked some WHL games
LOCATION:InnovationPlex - Swift Current, SK
SUMMARY:Red Deer Rebels @ Swift Current Broncos
STATUS:CONFIRMED
END:VEVENT
BEGIN:VEVENT
UID:642569ecbbdfcc2f21014812@hockeytech.com
TZID:UTC
DTSTART:20171111T010500Z
DTEND:20171111T040500Z
DTSTAMP:20171111T010500
DESCRIPTION:You have booked some WHL games
LOCATION:SaskTel Centre - Saskatoon, SK
SUMMARY:Swift Current Broncos @ Saskatoon Blades
STATUS:CONFIRMED
END:VEVENT
BEGIN:VEVENT
UID:642569ecbbdfcc2f21014818@hockeytech.com
TZID:UTC
DTSTART:20171112T010000Z
DTEND:20171112T040000Z
DTSTAMP:20171112T010000
DESCRIPTION:You have booked some WHL games
LOCATION:InnovationPlex - Swift Current, SK
SUMMARY:Lethbridge Hurricanes @ Swift Current Broncos
STATUS:CONFIRMED
END:VEVENT
BEGIN:VEVENT
UID:642569ecbbdfcc2f21014831@hockeytech.com
TZID:UTC
DTSTART:20171115T010000Z
DTEND:20171115T040000Z
DTSTAMP:20171115T010000
DESCRIPTION:You have booked some WHL games
LOCATION:InnovationPlex - Swift Current, SK
SUMMARY:Moose Jaw Warriors @ Swift Current Broncos
STATUS:CONFIRMED
END:VEVENT
BEGIN:VEVENT
UID:642569ecbbdfcc2f21014843@hockeytech.com
TZID:UTC
DTSTART:20171118T023000Z
DTEND:20171118T053000Z
DTSTAMP:20171118T023000
DESCRIPTION:You have booked some WHL games
LOCATION:Co-op Place - Medicine Hat, AB
SUMMARY:Swift Current Broncos @ Medicine Hat Tigers
STATUS:CONFIRMED
END:VEVENT
BEGIN:VEVENT
UID:642569ecbbdfcc2f21014851@hockeytech.com
TZID:UTC
DTSTART:20171119T010000Z
DTEND:20171119T040000Z
DTSTAMP:20171119T010000
DESCRIPTION:You have booked some WHL games
LOCATION:InnovationPlex - Swift Current, SK
SUMMARY:Calgary Hitmen @ Swift Current Broncos
STATUS:CONFIRMED
END:VEVENT
BEGIN:VEVENT
UID:642569ecbbdfcc2f21014861@hockeytech.com
TZID:UTC
DTSTART:20171119T220000Z
DTEND:20171120T010000Z
DTSTAMP:20171119T220000
DESCRIPTION:You have booked some WHL games
LOCATION:Westman Place - Brandon, MB
SUMMARY:Swift Current Broncos @ Brandon Wheat Kings
STATUS:CONFIRMED
END:VEVENT
BEGIN:VEVENT
UID:642569ecbbdfcc2f21014867@hockeytech.com
TZID:UTC
DTSTART:20171123T010000Z
DTEND:20171123T040000Z
DTSTAMP:20171123T010000
DESCRIPTION:You have booked some WHL games
LOCATION:InnovationPlex - Swift Current, SK
SUMMARY:Saskatoon Blades @ Swift Current Broncos
STATUS:CONFIRMED
END:VEVENT
BEGIN:VEVENT
UID:642569ecbbdfcc2f21014874@hockeytech.com
TZID:UTC
DTSTART:20171125T010000Z
DTEND:20171125T040000Z
DTSTAMP:20171125T010000
DESCRIPTION:You have booked some WHL games
LOCATION:Art Hauser Centre - Prince Albert, SK
SUMMARY:Swift Current Broncos @ Prince Albert Raiders
STATUS:CONFIRMED
END:VEVENT
BEGIN:VEVENT
UID:642569ecbbdfcc2f21014885@hockeytech.com
TZID:UTC
DTSTART:20171126T010000Z
DTEND:20171126T040000Z
DTSTAMP:20171126T010000
DESCRIPTION:You have booked some WHL games
LOCATION:InnovationPlex - Swift Current, SK
SUMMARY:Brandon Wheat Kings @ Swift Current Broncos
STATUS:CONFIRMED
END:VEVENT
BEGIN:VEVENT
UID:642569ecbbdfcc2f21014901@hockeytech.com
TZID:UTC
DTSTART:20171130T010000Z
DTEND:20171130T040000Z
DTSTAMP:20171130T010000
DESCRIPTION:You have booked some WHL games
LOCATION:InnovationPlex - Swift Current, SK
SUMMARY:Victoria Royals @ Swift Current Broncos
STATUS:CONFIRMED
END:VEVENT
BEGIN:VEVENT
UID:642569ecbbdfcc2f21014905@hockeytech.com
TZID:UTC
DTSTART:20171202T010000Z
DTEND:20171202T040000Z
DTSTAMP:20171202T010000
DESCRIPTION:You have booked some WHL games
LOCATION:Temple Gardens Centre - Moose Jaw, SK
SUMMARY:Swift Current Broncos @ Moose Jaw Warriors
STATUS:CONFIRMED
END:VEVENT
BEGIN:VEVENT
UID:642569ecbbdfcc2f21014914@hockeytech.com
TZID:UTC
DTSTART:20171203T010000Z
DTEND:20171203T040000Z
DTSTAMP:20171203T010000
DESCRIPTION:You have booked some WHL games
LOCATION:InnovationPlex - Swift Current, SK
SUMMARY:Moose Jaw Warriors @ Swift Current Broncos
STATUS:CONFIRMED
END:VEVENT
BEGIN:VEVENT
UID:642569ecbbdfcc2f21014929@hockeytech.com
TZID:UTC
DTSTART:20171206T010000Z
DTEND:20171206T040000Z
DTSTAMP:20171206T010000
DESCRIPTION:You have booked some WHL games
LOCATION:InnovationPlex - Swift Current, SK
SUMMARY:Prince Albert Raiders @ Swift Current Broncos
STATUS:CONFIRMED
END:VEVENT
BEGIN:VEVENT
UID:642569ecbbdfcc2f21014942@hockeytech.com
TZID:UTC
DTSTART:20171209T020000Z
DTEND:20171209T050000Z
DTSTAMP:20171209T020000
DESCRIPTION:You have booked some WHL games
LOCATION:Scotiabank Saddledome - Calgary, AB
SUMMARY:Swift Current Broncos @ Calgary Hitmen
STATUS:CONFIRMED
END:VEVENT
BEGIN:VEVENT
UID:642569ecbbdfcc2f21014951@hockeytech.com
TZID:UTC
DTSTART:20171210T020000Z
DTEND:20171210T050000Z
DTSTAMP:20171210T020000
DESCRIPTION:You have booked some WHL games
LOCATION:Marchant Crane Centrium - Red Deer, AB
SUMMARY:Swift Current Broncos @ Red Deer Rebels
STATUS:CONFIRMED
END:VEVENT
BEGIN:VEVENT
UID:642569ecbbdfcc2f21014958@hockeytech.com
TZID:UTC
DTSTART:20171210T230000Z
DTEND:20171211T020000Z
DTSTAMP:20171210T230000
DESCRIPTION:You have booked some WHL games
LOCATION:Rogers Place - Edmonton, AB
SUMMARY:Swift Current Broncos @ Edmonton Oil Kings
STATUS:CONFIRMED
END:VEVENT
BEGIN:VEVENT
UID:642569ecbbdfcc2f21014962@hockeytech.com
TZID:UTC
DTSTART:20171213T010000Z
DTEND:20171213T040000Z
DTSTAMP:20171213T010000
DESCRIPTION:You have booked some WHL games
LOCATION:InnovationPlex - Swift Current, SK
SUMMARY:Prince Albert Raiders @ Swift Current Broncos
STATUS:CONFIRMED
END:VEVENT
BEGIN:VEVENT
UID:642569ecbbdfcc2f21014968@hockeytech.com
TZID:UTC
DTSTART:20171214T010000Z
DTEND:20171214T040000Z
DTSTAMP:20171214T010000
DESCRIPTION:You have booked some WHL games
LOCATION:InnovationPlex - Swift Current, SK
SUMMARY:Kelowna Rockets @ Swift Current Broncos
STATUS:CONFIRMED
END:VEVENT
BEGIN:VEVENT
UID:642569ecbbdfcc2f21014982@hockeytech.com
TZID:UTC
DTSTART:20171217T010000Z
DTEND:20171217T040000Z
DTSTAMP:20171217T010000
DESCRIPTION:You have booked some WHL games
LOCATION:InnovationPlex - Swift Current, SK
SUMMARY:Kamloops Blazers @ Swift Current Broncos
STATUS:CONFIRMED
END:VEVENT
BEGIN:VEVENT
UID:642569ecbbdfcc2f21014997@hockeytech.com
TZID:UTC
DTSTART:20171228T010000Z
DTEND:20171228T040000Z
DTSTAMP:20171228T010000
DESCRIPTION:You have booked some WHL games
LOCATION:InnovationPlex - Swift Current, SK
SUMMARY:Moose Jaw Warriors @ Swift Current Broncos
STATUS:CONFIRMED
END:VEVENT
BEGIN:VEVENT
UID:642569ecbbdfcc2f21015008@hockeytech.com
TZID:UTC
DTSTART:20171229T010000Z
DTEND:20171229T040000Z
DTSTAMP:20171229T010000
DESCRIPTION:You have booked some WHL games
LOCATION:Temple Gardens Centre - Moose Jaw, SK
SUMMARY:Swift Current Broncos @ Moose Jaw Warriors
STATUS:CONFIRMED
END:VEVENT
BEGIN:VEVENT
UID:642569ecbbdfcc2f21015018@hockeytech.com
TZID:UTC
DTSTART:20171231T010000Z
DTEND:20171231T040000Z
DTSTAMP:20171231T010000
DESCRIPTION:You have booked some WHL games
LOCATION:InnovationPlex - Swift Current, SK
SUMMARY:Saskatoon Blades @ Swift Current Broncos
STATUS:CONFIRMED
END:VEVENT
BEGIN:VEVENT
UID:642569ecbbdfcc2f21015031@hockeytech.com
TZID:UTC
DTSTART:20180101T200000Z
DTEND:20180101T230000Z
DTSTAMP:20180101T200000
DESCRIPTION:You have booked some WHL games
LOCATION:SaskTel Centre - Saskatoon, SK
SUMMARY:Swift Current Broncos @ Saskatoon Blades
STATUS:CONFIRMED
END:VEVENT
BEGIN:VEVENT
UID:642569ecbbdfcc2f21015039@hockeytech.com
TZID:UTC
DTSTART:20180104T010000Z
DTEND:20180104T040000Z
DTSTAMP:20180104T010000
DESCRIPTION:You have booked some WHL games
LOCATION:InnovationPlex - Swift Current, SK
SUMMARY:Kootenay ICE @ Swift Current Broncos
STATUS:CONFIRMED
END:VEVENT
BEGIN:VEVENT
UID:642569ecbbdfcc2f21015046@hockeytech.com
TZID:UTC
DTSTART:20180106T013000Z
DTEND:20180106T043000Z
DTSTAMP:20180106T013000
DESCRIPTION:You have booked some WHL games
LOCATION:Westman Place - Brandon, MB
SUMMARY:Swift Current Broncos @ Brandon Wheat Kings
STATUS:CONFIRMED
END:VEVENT
BEGIN:VEVENT
UID:642569ecbbdfcc2f21015055@hockeytech.com
TZID:UTC
DTSTART:20180107T010000Z
DTEND:20180107T040000Z
DTSTAMP:20180107T010000
DESCRIPTION:You have booked some WHL games
LOCATION:InnovationPlex - Swift Current, SK
SUMMARY:Regina Pats @ Swift Current Broncos
STATUS:CONFIRMED
END:VEVENT
BEGIN:VEVENT
UID:642569ecbbdfcc2f21015065@hockeytech.com
TZID:UTC
DTSTART:20180107T220000Z
DTEND:20180108T010000Z
DTSTAMP:20180107T220000
DESCRIPTION:You have booked some WHL games
LOCATION:InnovationPlex - Swift Current, SK
SUMMARY:Red Deer Rebels @ Swift Current Broncos
STATUS:CONFIRMED
END:VEVENT
BEGIN:VEVENT
UID:642569ecbbdfcc2f21015082@hockeytech.com
TZID:UTC
DTSTART:20180113T010000Z
DTEND:20180113T040000Z
DTSTAMP:20180113T010000
DESCRIPTION:You have booked some WHL games
LOCATION:Art Hauser Centre - Prince Albert, SK
SUMMARY:Swift Current Broncos @ Prince Albert Raiders
STATUS:CONFIRMED
END:VEVENT
BEGIN:VEVENT
UID:642569ecbbdfcc2f21015092@hockeytech.com
TZID:UTC
DTSTART:20180114T010000Z
DTEND:20180114T040000Z
DTSTAMP:20180114T010000
DESCRIPTION:You have booked some WHL games
LOCATION:InnovationPlex - Swift Current, SK
SUMMARY:Edmonton Oil Kings @ Swift Current Broncos
STATUS:CONFIRMED
END:VEVENT
BEGIN:VEVENT
UID:642569ecbbdfcc2f21015114@hockeytech.com
TZID:UTC
DTSTART:20180118T030500Z
DTEND:20180118T060500Z
DTSTAMP:20180118T030500
DESCRIPTION:You have booked some WHL games
LOCATION:Toyota Center - Kennewick, WA
SUMMARY:Swift Current Broncos @ Tri-City Americans
STATUS:CONFIRMED
END:VEVENT
BEGIN:VEVENT
UID:642569ecbbdfcc2f21015119@hockeytech.com
TZID:UTC
DTSTART:20180120T030000Z
DTEND:20180120T060000Z
DTSTAMP:20180120T030000
DESCRIPTION:You have booked some WHL games
LOCATION:Veterans Memorial Coliseum - Portland, OR
SUMMARY:Swift Current Broncos @ Portland Winterhawks
STATUS:CONFIRMED
END:VEVENT
BEGIN:VEVENT
UID:642569ecbbdfcc2f21015131@hockeytech.com
TZID:UTC
DTSTART:20180121T030500Z
DTEND:20180121T060500Z
DTSTAMP:20180121T030500
DESCRIPTION:You have booked some WHL games
LOCATION:accesso ShoWare Center - Kent, WA
SUMMARY:Swift Current Broncos @ Seattle Thunderbirds
STATUS:CONFIRMED
END:VEVENT
BEGIN:VEVENT
UID:642569ecbbdfcc2f21015136@hockeytech.com
TZID:UTC
DTSTART:20180122T000500Z
DTEND:20180122T030500Z
DTSTAMP:20180122T000500
DESCRIPTION:You have booked some WHL games
LOCATION:XFINITY Arena - Everett, WA
SUMMARY:Swift Current Broncos @ Everett Silvertips
STATUS:CONFIRMED
END:VEVENT
BEGIN:VEVENT
UID:642569ecbbdfcc2f21015141@hockeytech.com
TZID:UTC
DTSTART:20180124T030500Z
DTEND:20180124T060500Z
DTSTAMP:20180124T030500
DESCRIPTION:You have booked some WHL games
LOCATION:Numerica Veterans Arena - Spokane, WA
SUMMARY:Swift Current Broncos @ Spokane Chiefs
STATUS:CONFIRMED
END:VEVENT
BEGIN:VEVENT
UID:642569ecbbdfcc2f21015155@hockeytech.com
TZID:UTC
DTSTART:20180127T203000Z
DTEND:20180127T233000Z
DTSTAMP:20180127T203000
DESCRIPTION:You have booked some WHL games
LOCATION:InnovationPlex - Swift Current, SK
SUMMARY:Regina Pats @ Swift Current Broncos
STATUS:CONFIRMED
END:VEVENT
BEGIN:VEVENT
UID:642569ecbbdfcc2f21015164@hockeytech.com
TZID:UTC
DTSTART:20180128T220000Z
DTEND:20180129T010000Z
DTSTAMP:20180128T220000
DESCRIPTION:You have booked some WHL games
LOCATION:Brandt Centre - Regina, SK
SUMMARY:Swift Current Broncos @ Regina Pats
STATUS:CONFIRMED
END:VEVENT
BEGIN:VEVENT
UID:642569ecbbdfcc2f21015171@hockeytech.com
TZID:UTC
DTSTART:20180131T010000Z
DTEND:20180131T040000Z
DTSTAMP:20180131T010000
DESCRIPTION:You have booked some WHL games
LOCATION:InnovationPlex - Swift Current, SK
SUMMARY:Prince George Cougars @ Swift Current Broncos
STATUS:CONFIRMED
END:VEVENT
BEGIN:VEVENT
UID:642569ecbbdfcc2f21015183@hockeytech.com
TZID:UTC
DTSTART:20180203T020000Z
DTEND:20180203T050000Z
DTSTAMP:20180203T020000
DESCRIPTION:You have booked some WHL games
LOCATION:Enmax Centre - Lethbridge, AB
SUMMARY:Swift Current Broncos @ Lethbridge Hurricanes
STATUS:CONFIRMED
END:VEVENT
BEGIN:VEVENT
UID:642569ecbbdfcc2f21015192@hockeytech.com
TZID:UTC
DTSTART:20180204T020000Z
DTEND:20180204T050000Z
DTSTAMP:20180204T020000
DESCRIPTION:You have booked some WHL games
LOCATION:Western Financial Place - Cranbrook, BC 
SUMMARY:Swift Current Broncos @ Kootenay ICE
STATUS:CONFIRMED
END:VEVENT
BEGIN:VEVENT
UID:642569ecbbdfcc2f21015210@hockeytech.com
TZID:UTC
DTSTART:20180210T010000Z
DTEND:20180210T040000Z
DTSTAMP:20180210T010000
DESCRIPTION:You have booked some WHL games
LOCATION:InnovationPlex - Swift Current, SK
SUMMARY:Prince Albert Raiders @ Swift Current Broncos
STATUS:CONFIRMED
END:VEVENT
BEGIN:VEVENT
UID:642569ecbbdfcc2f21015222@hockeytech.com
TZID:UTC
DTSTART:20180211T010000Z
DTEND:20180211T040000Z
DTSTAMP:20180211T010000
DESCRIPTION:You have booked some WHL games
LOCATION:InnovationPlex - Swift Current, SK
SUMMARY:Brandon Wheat Kings @ Swift Current Broncos
STATUS:CONFIRMED
END:VEVENT
BEGIN:VEVENT
UID:642569ecbbdfcc2f21015230@hockeytech.com
TZID:UTC
DTSTART:20180211T220000Z
DTEND:20180212T010000Z
DTSTAMP:20180211T220000
DESCRIPTION:You have booked some WHL games
LOCATION:Art Hauser Centre - Prince Albert, SK
SUMMARY:Swift Current Broncos @ Prince Albert Raiders
STATUS:CONFIRMED
END:VEVENT
BEGIN:VEVENT
UID:642569ecbbdfcc2f21015240@hockeytech.com
TZID:UTC
DTSTART:20180215T010000Z
DTEND:20180215T040000Z
DTSTAMP:20180215T010000
DESCRIPTION:You have booked some WHL games
LOCATION:InnovationPlex - Swift Current, SK
SUMMARY:Brandon Wheat Kings @ Swift Current Broncos
STATUS:CONFIRMED
END:VEVENT
BEGIN:VEVENT
UID:642569ecbbdfcc2f21015249@hockeytech.com
TZID:UTC
DTSTART:20180217T010000Z
DTEND:20180217T040000Z
DTSTAMP:20180217T010000
DESCRIPTION:You have booked some WHL games
LOCATION:InnovationPlex - Swift Current, SK
SUMMARY:Medicine Hat Tigers @ Swift Current Broncos
STATUS:CONFIRMED
END:VEVENT
BEGIN:VEVENT
UID:642569ecbbdfcc2f21015258@hockeytech.com
TZID:UTC
DTSTART:20180218T023000Z
DTEND:20180218T053000Z
DTSTAMP:20180218T023000
DESCRIPTION:You have booked some WHL games
LOCATION:Co-op Place - Medicine Hat, AB
SUMMARY:Swift Current Broncos @ Medicine Hat Tigers
STATUS:CONFIRMED
END:VEVENT
BEGIN:VEVENT
UID:642569ecbbdfcc2f21015275@hockeytech.com
TZID:UTC
DTSTART:20180222T010000Z
DTEND:20180222T040000Z
DTSTAMP:20180222T010000
DESCRIPTION:You have booked some WHL games
LOCATION:InnovationPlex - Swift Current, SK
SUMMARY:Moose Jaw Warriors @ Swift Current Broncos
STATUS:CONFIRMED
END:VEVENT
BEGIN:VEVENT
UID:642569ecbbdfcc2f21015292@hockeytech.com
TZID:UTC
DTSTART:20180225T020000Z
DTEND:20180225T050000Z
DTSTAMP:20180225T020000
DESCRIPTION:You have booked some WHL games
LOCATION:Marchant Crane Centrium - Red Deer, AB
SUMMARY:Swift Current Broncos @ Red Deer Rebels
STATUS:CONFIRMED
END:VEVENT
BEGIN:VEVENT
UID:642569ecbbdfcc2f21015301@hockeytech.com
TZID:UTC
DTSTART:20180225T230000Z
DTEND:20180226T020000Z
DTSTAMP:20180225T230000
DESCRIPTION:You have booked some WHL games
LOCATION:Rogers Place - Edmonton, AB
SUMMARY:Swift Current Broncos @ Edmonton Oil Kings
STATUS:CONFIRMED
END:VEVENT
BEGIN:VEVENT
UID:642569ecbbdfcc2f21015304@hockeytech.com
TZID:UTC
DTSTART:20180227T180000Z
DTEND:20180227T210000Z
DTSTAMP:20180227T180000
DESCRIPTION:You have booked some WHL games
LOCATION:Scotiabank Saddledome - Calgary, AB
SUMMARY:Swift Current Broncos @ Calgary Hitmen
STATUS:CONFIRMED
END:VEVENT
BEGIN:VEVENT
UID:642569ecbbdfcc2f21015316@hockeytech.com
TZID:UTC
DTSTART:20180303T010000Z
DTEND:20180303T040000Z
DTSTAMP:20180303T010000
DESCRIPTION:You have booked some WHL games
LOCATION:InnovationPlex - Swift Current, SK
SUMMARY:Prince Albert Raiders @ Swift Current Broncos
STATUS:CONFIRMED
END:VEVENT
BEGIN:VEVENT
UID:642569ecbbdfcc2f21015328@hockeytech.com
TZID:UTC
DTSTART:20180304T010000Z
DTEND:20180304T040000Z
DTSTAMP:20180304T010000
DESCRIPTION:You have booked some WHL games
LOCATION:InnovationPlex - Swift Current, SK
SUMMARY:Brandon Wheat Kings @ Swift Current Broncos
STATUS:CONFIRMED
END:VEVENT
BEGIN:VEVENT
UID:642569ecbbdfcc2f21015349@hockeytech.com
TZID:UTC
DTSTART:20180308T010000Z
DTEND:20180308T040000Z
DTSTAMP:20180308T010000
DESCRIPTION:You have booked some WHL games
LOCATION:InnovationPlex - Swift Current, SK
SUMMARY:Calgary Hitmen @ Swift Current Broncos
STATUS:CONFIRMED
END:VEVENT
BEGIN:VEVENT
UID:642569ecbbdfcc2f21015354@hockeytech.com
TZID:UTC
DTSTART:20180310T013000Z
DTEND:20180310T043000Z
DTSTAMP:20180310T013000
DESCRIPTION:You have booked some WHL games
LOCATION:Assiniboine Credit Union Place - Brandon, MB
SUMMARY:Swift Current Broncos @ Brandon Wheat Kings
STATUS:CONFIRMED
END:VEVENT
BEGIN:VEVENT
UID:642569ecbbdfcc2f21015363@hockeytech.com
TZID:UTC
DTSTART:20180311T010000Z
DTEND:20180311T040000Z
DTSTAMP:20180311T010000
DESCRIPTION:You have booked some WHL games
LOCATION:Temple Gardens Centre - Moose Jaw, SK
SUMMARY:Swift Current Broncos @ Moose Jaw Warriors
STATUS:CONFIRMED
END:VEVENT
BEGIN:VEVENT
UID:642569ecbbdfcc2f21015383@hockeytech.com
TZID:UTC
DTSTART:20180315T010000Z
DTEND:20180315T040000Z
DTSTAMP:20180315T010000
DESCRIPTION:You have booked some WHL games
LOCATION:InnovationPlex - Swift Current, SK
SUMMARY:Saskatoon Blades @ Swift Current Broncos
STATUS:CONFIRMED
END:VEVENT
BEGIN:VEVENT
UID:642569ecbbdfcc2f21015390@hockeytech.com
TZID:UTC
DTSTART:20180317T010000Z
DTEND:20180317T040000Z
DTSTAMP:20180317T010000
DESCRIPTION:You have booked some WHL games
LOCATION:Brandt Centre - Regina, SK
SUMMARY:Swift Current Broncos @ Regina Pats
STATUS:CONFIRMED
END:VEVENT
BEGIN:VEVENT
UID:642569ecbbdfcc2f21015399@hockeytech.com
TZID:UTC
DTSTART:20180318T010000Z
DTEND:20180318T040000Z
DTSTAMP:20180318T010000
DESCRIPTION:You have booked some WHL games
LOCATION:InnovationPlex - Swift Current, SK
SUMMARY:Regina Pats @ Swift Current Broncos
STATUS:CONFIRMED
END:VEVENT
END:VCALENDAR