BEGIN:VCALENDAR
VERSION:2.0
PRODID:-//Hockeytech//Leaguestat iCal//EN
BEGIN:VEVENT
UID:892369ecdd01c614f1006960@hockeytech.com
TZID:UTC
DTSTART:20100321T020000Z
DTEND:20100321T050000Z
DTSTAMP:20100321T020000
DESCRIPTION:You have booked some WHL games
LOCATION:Moda Center - Portland, OR
SUMMARY:Spokane Chiefs @ Portland Winterhawks
STATUS:CONFIRMED
END:VEVENT
BEGIN:VEVENT
UID:892369ecdd01c614f1006962@hockeytech.com
TZID:UTC
DTSTART:20100322T000000Z
DTEND:20100322T030000Z
DTSTAMP:20100322T000000
DESCRIPTION:You have booked some WHL games
LOCATION:Moda Center - Portland, OR
SUMMARY:Spokane Chiefs @ Portland Winterhawks
STATUS:CONFIRMED
END:VEVENT
BEGIN:VEVENT
UID:892369ecdd01c614f1006963@hockeytech.com
TZID:UTC
DTSTART:20100325T020000Z
DTEND:20100325T050000Z
DTSTAMP:20100325T020000
DESCRIPTION:You have booked some WHL games
LOCATION:Numerica Veterans Arena - Spokane, WA
SUMMARY:Portland Winterhawks @ Spokane Chiefs
STATUS:CONFIRMED
END:VEVENT
BEGIN:VEVENT
UID:892369ecdd01c614f1006966@hockeytech.com
TZID:UTC
DTSTART:20100327T020000Z
DTEND:20100327T050000Z
DTSTAMP:20100327T020000
DESCRIPTION:You have booked some WHL games
LOCATION:Numerica Veterans Arena - Spokane, WA
SUMMARY:Portland Winterhawks @ Spokane Chiefs
STATUS:CONFIRMED
END:VEVENT
BEGIN:VEVENT
UID:892369ecdd01c614f1006968@hockeytech.com
TZID:UTC
DTSTART:20100328T020000Z
DTEND:20100328T050000Z
DTSTAMP:20100328T020000
DESCRIPTION:You have booked some WHL games
LOCATION:Numerica Veterans Arena - Spokane, WA
SUMMARY:Portland Winterhawks @ Spokane Chiefs
STATUS:CONFIRMED
END:VEVENT
BEGIN:VEVENT
UID:892369ecdd01c614f1006970@hockeytech.com
TZID:UTC
DTSTART:20100330T020000Z
DTEND:20100330T050000Z
DTSTAMP:20100330T020000
DESCRIPTION:You have booked some WHL games
LOCATION:Moda Center - Portland, OR
SUMMARY:Spokane Chiefs @ Portland Winterhawks
STATUS:CONFIRMED
END:VEVENT
BEGIN:VEVENT
UID:892369ecdd01c614f1006972@hockeytech.com
TZID:UTC
DTSTART:20100401T020000Z
DTEND:20100401T050000Z
DTSTAMP:20100401T020000
DESCRIPTION:You have booked some WHL games
LOCATION:Numerica Veterans Arena - Spokane, WA
SUMMARY:Portland Winterhawks @ Spokane Chiefs
STATUS:CONFIRMED
END:VEVENT
END:VCALENDAR