BEGIN:VCALENDAR
VERSION:2.0
PRODID:-//Hockeytech//Leaguestat iCal//EN
BEGIN:VEVENT
UID:1440069e5e506caafb1001802@hockeytech.com
TZID:UTC
DTSTART:20060325T023000Z
DTEND:20060325T053000Z
DTSTAMP:20060325T023000
DESCRIPTION:You have booked some WHL games
LOCATION:Medicine Hat Arena - Medicine Hat, AB
SUMMARY:Swift Current Broncos @ Medicine Hat Tigers
STATUS:CONFIRMED
END:VEVENT
BEGIN:VEVENT
UID:1440069e5e506caafb1001803@hockeytech.com
TZID:UTC
DTSTART:20060326T023000Z
DTEND:20060326T053000Z
DTSTAMP:20060326T023000
DESCRIPTION:You have booked some WHL games
LOCATION:Medicine Hat Arena - Medicine Hat, AB
SUMMARY:Swift Current Broncos @ Medicine Hat Tigers
STATUS:CONFIRMED
END:VEVENT
BEGIN:VEVENT
UID:1440069e5e506caafb1001804@hockeytech.com
TZID:UTC
DTSTART:20060329T013000Z
DTEND:20060329T043000Z
DTSTAMP:20060329T013000
DESCRIPTION:You have booked some WHL games
LOCATION:Centennial Civic Centre
SUMMARY:Medicine Hat Tigers @ Swift Current Broncos
STATUS:CONFIRMED
END:VEVENT
BEGIN:VEVENT
UID:1440069e5e506caafb1001805@hockeytech.com
TZID:UTC
DTSTART:20060330T013000Z
DTEND:20060330T043000Z
DTSTAMP:20060330T013000
DESCRIPTION:You have booked some WHL games
LOCATION:Centennial Civic Centre
SUMMARY:Medicine Hat Tigers @ Swift Current Broncos
STATUS:CONFIRMED
END:VEVENT
END:VCALENDAR