BEGIN:VCALENDAR
VERSION:2.0
PRODID:-//Hockeytech//Leaguestat iCal//EN
BEGIN:VEVENT
UID:12869e7e71b435034596@hockeytech.com
TZID:UTC
DTSTART:20020519T170000Z
DTEND:20020519T200000Z
DTSTAMP:20020519T170000
DESCRIPTION:You have booked some CHL games
LOCATION:Guelph Sports and Entertainment Centre
SUMMARY:Erie Otters @ Kootenay Ice
STATUS:CONFIRMED
END:VEVENT
BEGIN:VEVENT
UID:12869e7e71b435034598@hockeytech.com
TZID:UTC
DTSTART:20020521T230000Z
DTEND:20020522T020000Z
DTSTAMP:20020521T230000
DESCRIPTION:You have booked some CHL games
LOCATION:Guelph Sports and Entertainment Centre
SUMMARY:Victoriaville Tigres @ Erie Otters
STATUS:CONFIRMED
END:VEVENT
BEGIN:VEVENT
UID:12869e7e71b435034600@hockeytech.com
TZID:UTC
DTSTART:20020523T230000Z
DTEND:20020524T020000Z
DTSTAMP:20020523T230000
DESCRIPTION:You have booked some CHL games
LOCATION:Guelph Sports and Entertainment Centre
SUMMARY:Erie Otters @ Guelph Storm
STATUS:CONFIRMED
END:VEVENT
BEGIN:VEVENT
UID:12869e7e71b435034602@hockeytech.com
TZID:UTC
DTSTART:20020525T160000Z
DTEND:20020525T190000Z
DTSTAMP:20020525T160000
DESCRIPTION:You have booked some CHL games
LOCATION:Guelph Sports and Entertainment Centre
SUMMARY:Victoriaville Tigres @ Erie Otters
STATUS:CONFIRMED
END:VEVENT
END:VCALENDAR