BEGIN:VCALENDAR
VERSION:2.0
PRODID:-//Hockeytech//Leaguestat iCal//EN
BEGIN:VEVENT
UID:668069e5c7a7c314828158@hockeytech.com
TZID:UTC
DTSTART:20250919T230700Z
DTEND:20250920T020700Z
DTSTAMP:20250919T230700
DESCRIPTION:You have booked some OHL games
LOCATION:GFL Memorial Gardens
SUMMARY:Saginaw Spirit @ Soo Greyhounds
STATUS:CONFIRMED
END:VEVENT
BEGIN:VEVENT
UID:668069e5c7a7c314828163@hockeytech.com
TZID:UTC
DTSTART:20250920T230500Z
DTEND:20250921T020500Z
DTSTAMP:20250920T230500
DESCRIPTION:You have booked some OHL games
LOCATION:Dow Event Center
SUMMARY:Flint Firebirds @ Saginaw Spirit
STATUS:CONFIRMED
END:VEVENT
BEGIN:VEVENT
UID:668069e5c7a7c314828176@hockeytech.com
TZID:UTC
DTSTART:20250926T230500Z
DTEND:20250927T020500Z
DTSTAMP:20250926T230500
DESCRIPTION:You have booked some OHL games
LOCATION:Dow Event Center
SUMMARY:Niagara IceDogs @ Saginaw Spirit
STATUS:CONFIRMED
END:VEVENT
BEGIN:VEVENT
UID:668069e5c7a7c314828184@hockeytech.com
TZID:UTC
DTSTART:20250927T230500Z
DTEND:20250928T020500Z
DTSTAMP:20250927T230500
DESCRIPTION:You have booked some OHL games
LOCATION:Dow Event Center
SUMMARY:Guelph Storm @ Saginaw Spirit
STATUS:CONFIRMED
END:VEVENT
BEGIN:VEVENT
UID:668069e5c7a7c314828195@hockeytech.com
TZID:UTC
DTSTART:20251003T230700Z
DTEND:20251004T020700Z
DTSTAMP:20251003T230700
DESCRIPTION:You have booked some OHL games
LOCATION:Sleeman Centre
SUMMARY:Saginaw Spirit @ Guelph Storm
STATUS:CONFIRMED
END:VEVENT
BEGIN:VEVENT
UID:668069e5c7a7c314828206@hockeytech.com
TZID:UTC
DTSTART:20251004T200000Z
DTEND:20251004T230000Z
DTSTAMP:20251004T200000
DESCRIPTION:You have booked some OHL games
LOCATION:Harry Lumley Bayshore Community Centre
SUMMARY:Saginaw Spirit @ Owen Sound Attack
STATUS:CONFIRMED
END:VEVENT
BEGIN:VEVENT
UID:668069e5c7a7c314828210@hockeytech.com
TZID:UTC
DTSTART:20251005T220500Z
DTEND:20251006T010500Z
DTSTAMP:20251005T220500
DESCRIPTION:You have booked some OHL games
LOCATION:Tribute Communities Centre
SUMMARY:Saginaw Spirit @ Oshawa Generals
STATUS:CONFIRMED
END:VEVENT
BEGIN:VEVENT
UID:668069e5c7a7c314828229@hockeytech.com
TZID:UTC
DTSTART:20251011T230500Z
DTEND:20251012T020500Z
DTSTAMP:20251011T230500
DESCRIPTION:You have booked some OHL games
LOCATION:Dow Event Center
SUMMARY:Kitchener Rangers @ Saginaw Spirit
STATUS:CONFIRMED
END:VEVENT
BEGIN:VEVENT
UID:668069e5c7a7c314828237@hockeytech.com
TZID:UTC
DTSTART:20251015T230700Z
DTEND:20251016T020700Z
DTSTAMP:20251015T230700
DESCRIPTION:You have booked some OHL games
LOCATION:GFL Memorial Gardens
SUMMARY:Saginaw Spirit @ Soo Greyhounds
STATUS:CONFIRMED
END:VEVENT
BEGIN:VEVENT
UID:668069e5c7a7c314828248@hockeytech.com
TZID:UTC
DTSTART:20251018T230000Z
DTEND:20251019T020000Z
DTSTAMP:20251018T230000
DESCRIPTION:You have booked some OHL games
LOCATION:Dort Financial Center
SUMMARY:Saginaw Spirit @ Flint Firebirds
STATUS:CONFIRMED
END:VEVENT
BEGIN:VEVENT
UID:668069e5c7a7c314828260@hockeytech.com
TZID:UTC
DTSTART:20251019T213000Z
DTEND:20251020T003000Z
DTSTAMP:20251019T213000
DESCRIPTION:You have booked some OHL games
LOCATION:Dow Event Center
SUMMARY:Flint Firebirds @ Saginaw Spirit
STATUS:CONFIRMED
END:VEVENT
BEGIN:VEVENT
UID:668069e5c7a7c314828268@hockeytech.com
TZID:UTC
DTSTART:20251024T230500Z
DTEND:20251025T020500Z
DTSTAMP:20251024T230500
DESCRIPTION:You have booked some OHL games
LOCATION:Dow Event Center
SUMMARY:Erie Otters @ Saginaw Spirit
STATUS:CONFIRMED
END:VEVENT
BEGIN:VEVENT
UID:668069e5c7a7c314828278@hockeytech.com
TZID:UTC
DTSTART:20251025T230500Z
DTEND:20251026T020500Z
DTSTAMP:20251025T230500
DESCRIPTION:You have booked some OHL games
LOCATION:Dow Event Center
SUMMARY:Owen Sound Attack @ Saginaw Spirit
STATUS:CONFIRMED
END:VEVENT
BEGIN:VEVENT
UID:668069e5c7a7c314828286@hockeytech.com
TZID:UTC
DTSTART:20251026T200500Z
DTEND:20251026T230500Z
DTSTAMP:20251026T200500
DESCRIPTION:You have booked some OHL games
LOCATION:WFCU Centre
SUMMARY:Saginaw Spirit @ Windsor Spitfires
STATUS:CONFIRMED
END:VEVENT
BEGIN:VEVENT
UID:668069e5c7a7c314828295@hockeytech.com
TZID:UTC
DTSTART:20251030T230500Z
DTEND:20251031T020500Z
DTSTAMP:20251030T230500
DESCRIPTION:You have booked some OHL games
LOCATION:Dow Event Center
SUMMARY:Flint Firebirds @ Saginaw Spirit
STATUS:CONFIRMED
END:VEVENT
BEGIN:VEVENT
UID:668069e5c7a7c314828305@hockeytech.com
TZID:UTC
DTSTART:20251101T230500Z
DTEND:20251102T020500Z
DTSTAMP:20251101T230500
DESCRIPTION:You have booked some OHL games
LOCATION:Dow Event Center
SUMMARY:Windsor Spitfires @ Saginaw Spirit
STATUS:CONFIRMED
END:VEVENT
BEGIN:VEVENT
UID:668069e5c7a7c314828311@hockeytech.com
TZID:UTC
DTSTART:20251102T223000Z
DTEND:20251103T013000Z
DTSTAMP:20251102T223000
DESCRIPTION:You have booked some OHL games
LOCATION:Dow Event Center
SUMMARY:Brantford Bulldogs @ Saginaw Spirit
STATUS:CONFIRMED
END:VEVENT
BEGIN:VEVENT
UID:668069e5c7a7c314828322@hockeytech.com
TZID:UTC
DTSTART:20251108T000000Z
DTEND:20251108T030000Z
DTSTAMP:20251108T000000
DESCRIPTION:You have booked some OHL games
LOCATION:Kitchener Memorial Auditorium
SUMMARY:Saginaw Spirit @ Kitchener Rangers
STATUS:CONFIRMED
END:VEVENT
BEGIN:VEVENT
UID:668069e5c7a7c314828331@hockeytech.com
TZID:UTC
DTSTART:20251109T000500Z
DTEND:20251109T030500Z
DTSTAMP:20251109T000500
DESCRIPTION:You have booked some OHL games
LOCATION:Dow Event Center
SUMMARY:North Bay Battalion @ Saginaw Spirit
STATUS:CONFIRMED
END:VEVENT
BEGIN:VEVENT
UID:668069e5c7a7c314828342@hockeytech.com
TZID:UTC
DTSTART:20251114T000000Z
DTEND:20251114T030000Z
DTSTAMP:20251114T000000
DESCRIPTION:You have booked some OHL games
LOCATION:Sadlon Arena
SUMMARY:Saginaw Spirit @ Barrie Colts
STATUS:CONFIRMED
END:VEVENT
BEGIN:VEVENT
UID:668069e5c7a7c314828359@hockeytech.com
TZID:UTC
DTSTART:20251116T000500Z
DTEND:20251116T030500Z
DTSTAMP:20251116T000500
DESCRIPTION:You have booked some OHL games
LOCATION:Sudbury Community Arena
SUMMARY:Saginaw Spirit @ Sudbury Wolves
STATUS:CONFIRMED
END:VEVENT
BEGIN:VEVENT
UID:668069e5c7a7c314828362@hockeytech.com
TZID:UTC
DTSTART:20251116T200000Z
DTEND:20251116T230000Z
DTSTAMP:20251116T200000
DESCRIPTION:You have booked some OHL games
LOCATION:Boart Longyear Memorial Gardens
SUMMARY:Saginaw Spirit @ North Bay Battalion
STATUS:CONFIRMED
END:VEVENT
BEGIN:VEVENT
UID:668069e5c7a7c314828378@hockeytech.com
TZID:UTC
DTSTART:20251122T000500Z
DTEND:20251122T030500Z
DTSTAMP:20251122T000500
DESCRIPTION:You have booked some OHL games
LOCATION:WFCU Centre
SUMMARY:Saginaw Spirit @ Windsor Spitfires
STATUS:CONFIRMED
END:VEVENT
BEGIN:VEVENT
UID:668069e5c7a7c314828384@hockeytech.com
TZID:UTC
DTSTART:20251123T000500Z
DTEND:20251123T030500Z
DTSTAMP:20251123T000500
DESCRIPTION:You have booked some OHL games
LOCATION:Dow Event Center
SUMMARY:Windsor Spitfires @ Saginaw Spirit
STATUS:CONFIRMED
END:VEVENT
BEGIN:VEVENT
UID:668069e5c7a7c314828391@hockeytech.com
TZID:UTC
DTSTART:20251127T000000Z
DTEND:20251127T030000Z
DTSTAMP:20251127T000000
DESCRIPTION:You have booked some OHL games
LOCATION:Dort Financial Center
SUMMARY:Saginaw Spirit @ Flint Firebirds
STATUS:CONFIRMED
END:VEVENT
BEGIN:VEVENT
UID:668069e5c7a7c314828398@hockeytech.com
TZID:UTC
DTSTART:20251129T000000Z
DTEND:20251129T030000Z
DTSTAMP:20251129T000000
DESCRIPTION:You have booked some OHL games
LOCATION:Canada Life Place
SUMMARY:Saginaw Spirit @ London Knights
STATUS:CONFIRMED
END:VEVENT
BEGIN:VEVENT
UID:668069e5c7a7c314828408@hockeytech.com
TZID:UTC
DTSTART:20251130T000500Z
DTEND:20251130T030500Z
DTSTAMP:20251130T000500
DESCRIPTION:You have booked some OHL games
LOCATION:Dow Event Center
SUMMARY:London Knights @ Saginaw Spirit
STATUS:CONFIRMED
END:VEVENT
BEGIN:VEVENT
UID:668069e5c7a7c314828422@hockeytech.com
TZID:UTC
DTSTART:20251206T000700Z
DTEND:20251206T030700Z
DTSTAMP:20251206T000700
DESCRIPTION:You have booked some OHL games
LOCATION:Sleeman Centre
SUMMARY:Saginaw Spirit @ Guelph Storm
STATUS:CONFIRMED
END:VEVENT
BEGIN:VEVENT
UID:668069e5c7a7c314828430@hockeytech.com
TZID:UTC
DTSTART:20251206T210000Z
DTEND:20251207T000000Z
DTSTAMP:20251206T210000
DESCRIPTION:You have booked some OHL games
LOCATION:CAA Centre
SUMMARY:Saginaw Spirit @ Brampton Steelheads
STATUS:CONFIRMED
END:VEVENT
BEGIN:VEVENT
UID:668069e5c7a7c314828452@hockeytech.com
TZID:UTC
DTSTART:20251213T000000Z
DTEND:20251213T030000Z
DTSTAMP:20251213T000000
DESCRIPTION:You have booked some OHL games
LOCATION:Canada Life Place
SUMMARY:Saginaw Spirit @ London Knights
STATUS:CONFIRMED
END:VEVENT
BEGIN:VEVENT
UID:668069e5c7a7c314828460@hockeytech.com
TZID:UTC
DTSTART:20251214T000500Z
DTEND:20251214T030500Z
DTSTAMP:20251214T000500
DESCRIPTION:You have booked some OHL games
LOCATION:Dow Event Center
SUMMARY:Kitchener Rangers @ Saginaw Spirit
STATUS:CONFIRMED
END:VEVENT
BEGIN:VEVENT
UID:668069e5c7a7c314828469@hockeytech.com
TZID:UTC
DTSTART:20251218T000500Z
DTEND:20251218T030500Z
DTSTAMP:20251218T000500
DESCRIPTION:You have booked some OHL games
LOCATION:Dow Event Center
SUMMARY:Soo Greyhounds @ Saginaw Spirit
STATUS:CONFIRMED
END:VEVENT
BEGIN:VEVENT
UID:668069e5c7a7c314828488@hockeytech.com
TZID:UTC
DTSTART:20251221T000500Z
DTEND:20251221T030500Z
DTSTAMP:20251221T000500
DESCRIPTION:You have booked some OHL games
LOCATION:Dow Event Center
SUMMARY:Oshawa Generals @ Saginaw Spirit
STATUS:CONFIRMED
END:VEVENT
BEGIN:VEVENT
UID:668069e5c7a7c314828497@hockeytech.com
TZID:UTC
DTSTART:20251228T190700Z
DTEND:20251228T220700Z
DTSTAMP:20251228T190700
DESCRIPTION:You have booked some OHL games
LOCATION:GFL Memorial Gardens
SUMMARY:Saginaw Spirit @ Soo Greyhounds
STATUS:CONFIRMED
END:VEVENT
BEGIN:VEVENT
UID:668069e5c7a7c314828501@hockeytech.com
TZID:UTC
DTSTART:20251231T000500Z
DTEND:20251231T030500Z
DTSTAMP:20251231T000500
DESCRIPTION:You have booked some OHL games
LOCATION:Dow Event Center
SUMMARY:Sarnia Sting @ Saginaw Spirit
STATUS:CONFIRMED
END:VEVENT
BEGIN:VEVENT
UID:668069e5c7a7c314828511@hockeytech.com
TZID:UTC
DTSTART:20251231T190500Z
DTEND:20251231T220500Z
DTSTAMP:20251231T190500
DESCRIPTION:You have booked some OHL games
LOCATION:WFCU Centre
SUMMARY:Saginaw Spirit @ Windsor Spitfires
STATUS:CONFIRMED
END:VEVENT
BEGIN:VEVENT
UID:668069e5c7a7c314828525@hockeytech.com
TZID:UTC
DTSTART:20260104T000500Z
DTEND:20260104T030500Z
DTSTAMP:20260104T000500
DESCRIPTION:You have booked some OHL games
LOCATION:Dow Event Center
SUMMARY:Soo Greyhounds @ Saginaw Spirit
STATUS:CONFIRMED
END:VEVENT
BEGIN:VEVENT
UID:668069e5c7a7c314828529@hockeytech.com
TZID:UTC
DTSTART:20260104T223000Z
DTEND:20260105T013000Z
DTSTAMP:20260104T223000
DESCRIPTION:You have booked some OHL games
LOCATION:Dow Event Center
SUMMARY:Brampton Steelheads @ Saginaw Spirit
STATUS:CONFIRMED
END:VEVENT
BEGIN:VEVENT
UID:668069e5c7a7c314828536@hockeytech.com
TZID:UTC
DTSTART:20260109T000500Z
DTEND:20260109T030500Z
DTSTAMP:20260109T000500
DESCRIPTION:You have booked some OHL games
LOCATION:Dow Event Center
SUMMARY:Kingston Frontenacs @ Saginaw Spirit
STATUS:CONFIRMED
END:VEVENT
BEGIN:VEVENT
UID:668069e5c7a7c314828539@hockeytech.com
TZID:UTC
DTSTART:20260110T000000Z
DTEND:20260110T030000Z
DTSTAMP:20260110T000000
DESCRIPTION:You have booked some OHL games
LOCATION:Dort Financial Center
SUMMARY:Saginaw Spirit @ Flint Firebirds
STATUS:CONFIRMED
END:VEVENT
BEGIN:VEVENT
UID:668069e5c7a7c314828551@hockeytech.com
TZID:UTC
DTSTART:20260111T000500Z
DTEND:20260111T030500Z
DTSTAMP:20260111T000500
DESCRIPTION:You have booked some OHL games
LOCATION:Dow Event Center
SUMMARY:Windsor Spitfires @ Saginaw Spirit
STATUS:CONFIRMED
END:VEVENT
BEGIN:VEVENT
UID:668069e5c7a7c314828565@hockeytech.com
TZID:UTC
DTSTART:20260117T000000Z
DTEND:20260117T030000Z
DTSTAMP:20260117T000000
DESCRIPTION:You have booked some OHL games
LOCATION:Kitchener Memorial Auditorium
SUMMARY:Saginaw Spirit @ Kitchener Rangers
STATUS:CONFIRMED
END:VEVENT
BEGIN:VEVENT
UID:668069e5c7a7c314828573@hockeytech.com
TZID:UTC
DTSTART:20260118T000000Z
DTEND:20260118T030000Z
DTSTAMP:20260118T000000
DESCRIPTION:You have booked some OHL games
LOCATION:Erie Insurance Arena
SUMMARY:Saginaw Spirit @ Erie Otters
STATUS:CONFIRMED
END:VEVENT
BEGIN:VEVENT
UID:668069e5c7a7c314828588@hockeytech.com
TZID:UTC
DTSTART:20260123T000500Z
DTEND:20260123T030500Z
DTSTAMP:20260123T000500
DESCRIPTION:You have booked some OHL games
LOCATION:Peterborough Memorial Centre
SUMMARY:Saginaw Spirit @ Peterborough Petes
STATUS:CONFIRMED
END:VEVENT
BEGIN:VEVENT
UID:668069e5c7a7c314828590@hockeytech.com
TZID:UTC
DTSTART:20260124T000500Z
DTEND:20260124T030500Z
DTSTAMP:20260124T000500
DESCRIPTION:You have booked some OHL games
LOCATION:Slush Puppie Place
SUMMARY:Saginaw Spirit @ Kingston Frontenacs
STATUS:CONFIRMED
END:VEVENT
BEGIN:VEVENT
UID:668069e5c7a7c314828606@hockeytech.com
TZID:UTC
DTSTART:20260125T200000Z
DTEND:20260125T230000Z
DTSTAMP:20260125T200000
DESCRIPTION:You have booked some OHL games
LOCATION:TD Place
SUMMARY:Saginaw Spirit @ Ottawa 67's
STATUS:CONFIRMED
END:VEVENT
BEGIN:VEVENT
UID:668069e5c7a7c314828623@hockeytech.com
TZID:UTC
DTSTART:20260131T000500Z
DTEND:20260131T030500Z
DTSTAMP:20260131T000500
DESCRIPTION:You have booked some OHL games
LOCATION:Progressive Auto Sales Arena
SUMMARY:Saginaw Spirit @ Sarnia Sting
STATUS:CONFIRMED
END:VEVENT
BEGIN:VEVENT
UID:668069e5c7a7c314828628@hockeytech.com
TZID:UTC
DTSTART:20260201T000500Z
DTEND:20260201T030500Z
DTSTAMP:20260201T000500
DESCRIPTION:You have booked some OHL games
LOCATION:Dow Event Center
SUMMARY:Barrie Colts @ Saginaw Spirit
STATUS:CONFIRMED
END:VEVENT
BEGIN:VEVENT
UID:668069e5c7a7c314828637@hockeytech.com
TZID:UTC
DTSTART:20260205T000500Z
DTEND:20260205T030500Z
DTSTAMP:20260205T000500
DESCRIPTION:You have booked some OHL games
LOCATION:Dow Event Center
SUMMARY:Soo Greyhounds @ Saginaw Spirit
STATUS:CONFIRMED
END:VEVENT
BEGIN:VEVENT
UID:668069e5c7a7c314828647@hockeytech.com
TZID:UTC
DTSTART:20260207T000500Z
DTEND:20260207T030500Z
DTSTAMP:20260207T000500
DESCRIPTION:You have booked some OHL games
LOCATION:Dow Event Center
SUMMARY:Erie Otters @ Saginaw Spirit
STATUS:CONFIRMED
END:VEVENT
BEGIN:VEVENT
UID:668069e5c7a7c314828656@hockeytech.com
TZID:UTC
DTSTART:20260208T000500Z
DTEND:20260208T030500Z
DTSTAMP:20260208T000500
DESCRIPTION:You have booked some OHL games
LOCATION:Dow Event Center
SUMMARY:London Knights @ Saginaw Spirit
STATUS:CONFIRMED
END:VEVENT
BEGIN:VEVENT
UID:668069e5c7a7c314828664@hockeytech.com
TZID:UTC
DTSTART:20260212T000000Z
DTEND:20260212T030000Z
DTSTAMP:20260212T000000
DESCRIPTION:You have booked some OHL games
LOCATION:Dort Financial Center
SUMMARY:Saginaw Spirit @ Flint Firebirds
STATUS:CONFIRMED
END:VEVENT
BEGIN:VEVENT
UID:668069e5c7a7c314828678@hockeytech.com
TZID:UTC
DTSTART:20260214T000500Z
DTEND:20260214T030500Z
DTSTAMP:20260214T000500
DESCRIPTION:You have booked some OHL games
LOCATION:Progressive Auto Sales Arena
SUMMARY:Saginaw Spirit @ Sarnia Sting
STATUS:CONFIRMED
END:VEVENT
BEGIN:VEVENT
UID:668069e5c7a7c314828684@hockeytech.com
TZID:UTC
DTSTART:20260215T000500Z
DTEND:20260215T030500Z
DTSTAMP:20260215T000500
DESCRIPTION:You have booked some OHL games
LOCATION:Dow Event Center
SUMMARY:Windsor Spitfires @ Saginaw Spirit
STATUS:CONFIRMED
END:VEVENT
BEGIN:VEVENT
UID:668069e5c7a7c314828695@hockeytech.com
TZID:UTC
DTSTART:20260216T190500Z
DTEND:20260216T220500Z
DTSTAMP:20260216T190500
DESCRIPTION:You have booked some OHL games
LOCATION:WFCU Centre
SUMMARY:Saginaw Spirit @ Windsor Spitfires
STATUS:CONFIRMED
END:VEVENT
BEGIN:VEVENT
UID:668069e5c7a7c314828700@hockeytech.com
TZID:UTC
DTSTART:20260220T000500Z
DTEND:20260220T030500Z
DTSTAMP:20260220T000500
DESCRIPTION:You have booked some OHL games
LOCATION:Dow Event Center
SUMMARY:Sudbury Wolves @ Saginaw Spirit
STATUS:CONFIRMED
END:VEVENT
BEGIN:VEVENT
UID:668069e5c7a7c314828713@hockeytech.com
TZID:UTC
DTSTART:20260222T000500Z
DTEND:20260222T030500Z
DTSTAMP:20260222T000500
DESCRIPTION:You have booked some OHL games
LOCATION:Dow Event Center
SUMMARY:Sarnia Sting @ Saginaw Spirit
STATUS:CONFIRMED
END:VEVENT
BEGIN:VEVENT
UID:668069e5c7a7c314828719@hockeytech.com
TZID:UTC
DTSTART:20260222T223000Z
DTEND:20260223T013000Z
DTSTAMP:20260222T223000
DESCRIPTION:You have booked some OHL games
LOCATION:Dow Event Center
SUMMARY:Guelph Storm @ Saginaw Spirit
STATUS:CONFIRMED
END:VEVENT
BEGIN:VEVENT
UID:668069e5c7a7c314828727@hockeytech.com
TZID:UTC
DTSTART:20260227T000500Z
DTEND:20260227T030500Z
DTSTAMP:20260227T000500
DESCRIPTION:You have booked some OHL games
LOCATION:Dow Event Center
SUMMARY:Ottawa 67's @ Saginaw Spirit
STATUS:CONFIRMED
END:VEVENT
BEGIN:VEVENT
UID:668069e5c7a7c314828739@hockeytech.com
TZID:UTC
DTSTART:20260301T000500Z
DTEND:20260301T030500Z
DTSTAMP:20260301T000500
DESCRIPTION:You have booked some OHL games
LOCATION:Dow Event Center
SUMMARY:Peterborough Petes @ Saginaw Spirit
STATUS:CONFIRMED
END:VEVENT
BEGIN:VEVENT
UID:668069e5c7a7c314828753@hockeytech.com
TZID:UTC
DTSTART:20260306T000000Z
DTEND:20260306T030000Z
DTSTAMP:20260306T000000
DESCRIPTION:You have booked some OHL games
LOCATION:Meridian Centre
SUMMARY:Saginaw Spirit @ Niagara IceDogs
STATUS:CONFIRMED
END:VEVENT
BEGIN:VEVENT
UID:668069e5c7a7c314828756@hockeytech.com
TZID:UTC
DTSTART:20260307T000000Z
DTEND:20260307T030000Z
DTSTAMP:20260307T000000
DESCRIPTION:You have booked some OHL games
LOCATION:TD Civic Centre
SUMMARY:Saginaw Spirit @ Brantford Bulldogs
STATUS:CONFIRMED
END:VEVENT
BEGIN:VEVENT
UID:668069e5c7a7c314828771@hockeytech.com
TZID:UTC
DTSTART:20260308T200000Z
DTEND:20260308T230000Z
DTSTAMP:20260308T200000
DESCRIPTION:You have booked some OHL games
LOCATION:Erie Insurance Arena
SUMMARY:Saginaw Spirit @ Erie Otters
STATUS:CONFIRMED
END:VEVENT
BEGIN:VEVENT
UID:668069e5c7a7c314828792@hockeytech.com
TZID:UTC
DTSTART:20260314T230500Z
DTEND:20260315T020500Z
DTSTAMP:20260314T230500
DESCRIPTION:You have booked some OHL games
LOCATION:Dow Event Center
SUMMARY:Flint Firebirds @ Saginaw Spirit
STATUS:CONFIRMED
END:VEVENT
BEGIN:VEVENT
UID:668069e5c7a7c314828798@hockeytech.com
TZID:UTC
DTSTART:20260315T180500Z
DTEND:20260315T210500Z
DTSTAMP:20260315T180500
DESCRIPTION:You have booked some OHL games
LOCATION:Progressive Auto Sales Arena
SUMMARY:Saginaw Spirit @ Sarnia Sting
STATUS:CONFIRMED
END:VEVENT
BEGIN:VEVENT
UID:668069e5c7a7c314828809@hockeytech.com
TZID:UTC
DTSTART:20260318T230500Z
DTEND:20260319T020500Z
DTSTAMP:20260318T230500
DESCRIPTION:You have booked some OHL games
LOCATION:Dow Event Center
SUMMARY:Soo Greyhounds @ Saginaw Spirit
STATUS:CONFIRMED
END:VEVENT
BEGIN:VEVENT
UID:668069e5c7a7c314828819@hockeytech.com
TZID:UTC
DTSTART:20260320T230700Z
DTEND:20260321T020700Z
DTSTAMP:20260320T230700
DESCRIPTION:You have booked some OHL games
LOCATION:GFL Memorial Gardens
SUMMARY:Saginaw Spirit @ Soo Greyhounds
STATUS:CONFIRMED
END:VEVENT
BEGIN:VEVENT
UID:668069e5c7a7c314828826@hockeytech.com
TZID:UTC
DTSTART:20260321T230500Z
DTEND:20260322T020500Z
DTSTAMP:20260321T230500
DESCRIPTION:You have booked some OHL games
LOCATION:Dow Event Center
SUMMARY:Sarnia Sting @ Saginaw Spirit
STATUS:CONFIRMED
END:VEVENT
END:VCALENDAR