BEGIN:VCALENDAR
VERSION:2.0
PRODID:-//Hockeytech//Leaguestat iCal//EN
BEGIN:VEVENT
UID:1411269ea484573a6228156@hockeytech.com
TZID:UTC
DTSTART:20250919T230000Z
DTEND:20250920T020000Z
DTSTAMP:20250919T230000
DESCRIPTION:You have booked some OHL games
LOCATION:Canada Life Place
SUMMARY:Owen Sound Attack @ London Knights
STATUS:CONFIRMED
END:VEVENT
BEGIN:VEVENT
UID:1411269ea484573a6228164@hockeytech.com
TZID:UTC
DTSTART:20250920T230500Z
DTEND:20250921T020500Z
DTSTAMP:20250920T230500
DESCRIPTION:You have booked some OHL games
LOCATION:WFCU Centre
SUMMARY:London Knights @ Windsor Spitfires
STATUS:CONFIRMED
END:VEVENT
BEGIN:VEVENT
UID:1411269ea484573a6228174@hockeytech.com
TZID:UTC
DTSTART:20250926T230000Z
DTEND:20250927T020000Z
DTSTAMP:20250926T230000
DESCRIPTION:You have booked some OHL games
LOCATION:Canada Life Place
SUMMARY:Brampton Steelheads @ London Knights
STATUS:CONFIRMED
END:VEVENT
BEGIN:VEVENT
UID:1411269ea484573a6228181@hockeytech.com
TZID:UTC
DTSTART:20250927T230000Z
DTEND:20250928T020000Z
DTSTAMP:20250927T230000
DESCRIPTION:You have booked some OHL games
LOCATION:Erie Insurance Arena
SUMMARY:London Knights @ Erie Otters
STATUS:CONFIRMED
END:VEVENT
BEGIN:VEVENT
UID:1411269ea484573a6228198@hockeytech.com
TZID:UTC
DTSTART:20251003T230000Z
DTEND:20251004T020000Z
DTSTAMP:20251003T230000
DESCRIPTION:You have booked some OHL games
LOCATION:Canada Life Place
SUMMARY:Flint Firebirds @ London Knights
STATUS:CONFIRMED
END:VEVENT
BEGIN:VEVENT
UID:1411269ea484573a6228204@hockeytech.com
TZID:UTC
DTSTART:20251004T200700Z
DTEND:20251004T230700Z
DTSTAMP:20251004T200700
DESCRIPTION:You have booked some OHL games
LOCATION:Sleeman Centre
SUMMARY:London Knights @ Guelph Storm
STATUS:CONFIRMED
END:VEVENT
BEGIN:VEVENT
UID:1411269ea484573a6228221@hockeytech.com
TZID:UTC
DTSTART:20251010T230000Z
DTEND:20251011T020000Z
DTSTAMP:20251010T230000
DESCRIPTION:You have booked some OHL games
LOCATION:Canada Life Place
SUMMARY:Erie Otters @ London Knights
STATUS:CONFIRMED
END:VEVENT
BEGIN:VEVENT
UID:1411269ea484573a6228227@hockeytech.com
TZID:UTC
DTSTART:20251011T230000Z
DTEND:20251012T020000Z
DTSTAMP:20251011T230000
DESCRIPTION:You have booked some OHL games
LOCATION:Canada Life Place
SUMMARY:Sarnia Sting @ London Knights
STATUS:CONFIRMED
END:VEVENT
BEGIN:VEVENT
UID:1411269ea484573a6228243@hockeytech.com
TZID:UTC
DTSTART:20251017T230000Z
DTEND:20251018T020000Z
DTSTAMP:20251017T230000
DESCRIPTION:You have booked some OHL games
LOCATION:Kitchener Memorial Auditorium
SUMMARY:London Knights @ Kitchener Rangers
STATUS:CONFIRMED
END:VEVENT
BEGIN:VEVENT
UID:1411269ea484573a6228256@hockeytech.com
TZID:UTC
DTSTART:20251019T180000Z
DTEND:20251019T210000Z
DTSTAMP:20251019T180000
DESCRIPTION:You have booked some OHL games
LOCATION:Canada Life Place
SUMMARY:Kitchener Rangers @ London Knights
STATUS:CONFIRMED
END:VEVENT
BEGIN:VEVENT
UID:1411269ea484573a6228266@hockeytech.com
TZID:UTC
DTSTART:20251024T230000Z
DTEND:20251025T020000Z
DTSTAMP:20251024T230000
DESCRIPTION:You have booked some OHL games
LOCATION:Canada Life Place
SUMMARY:Ottawa 67's @ London Knights
STATUS:CONFIRMED
END:VEVENT
BEGIN:VEVENT
UID:1411269ea484573a6228284@hockeytech.com
TZID:UTC
DTSTART:20251026T180500Z
DTEND:20251026T210500Z
DTSTAMP:20251026T180500
DESCRIPTION:You have booked some OHL games
LOCATION:Progressive Auto Sales Arena
SUMMARY:London Knights @ Sarnia Sting
STATUS:CONFIRMED
END:VEVENT
BEGIN:VEVENT
UID:1411269ea484573a6228294@hockeytech.com
TZID:UTC
DTSTART:20251030T230500Z
DTEND:20251031T020500Z
DTSTAMP:20251030T230500
DESCRIPTION:You have booked some OHL games
LOCATION:Peterborough Memorial Centre
SUMMARY:London Knights @ Peterborough Petes
STATUS:CONFIRMED
END:VEVENT
BEGIN:VEVENT
UID:1411269ea484573a6228298@hockeytech.com
TZID:UTC
DTSTART:20251031T230000Z
DTEND:20251101T020000Z
DTSTAMP:20251031T230000
DESCRIPTION:You have booked some OHL games
LOCATION:TD Place
SUMMARY:London Knights @ Ottawa 67's
STATUS:CONFIRMED
END:VEVENT
BEGIN:VEVENT
UID:1411269ea484573a6228307@hockeytech.com
TZID:UTC
DTSTART:20251102T210500Z
DTEND:20251103T000500Z
DTSTAMP:20251102T210500
DESCRIPTION:You have booked some OHL games
LOCATION:Slush Puppie Place
SUMMARY:London Knights @ Kingston Frontenacs
STATUS:CONFIRMED
END:VEVENT
BEGIN:VEVENT
UID:1411269ea484573a6228313@hockeytech.com
TZID:UTC
DTSTART:20251105T233700Z
DTEND:20251106T023700Z
DTSTAMP:20251105T233700
DESCRIPTION:You have booked some OHL games
LOCATION:Sleeman Centre
SUMMARY:London Knights @ Guelph Storm
STATUS:CONFIRMED
END:VEVENT
BEGIN:VEVENT
UID:1411269ea484573a6228323@hockeytech.com
TZID:UTC
DTSTART:20251108T000000Z
DTEND:20251108T030000Z
DTSTAMP:20251108T000000
DESCRIPTION:You have booked some OHL games
LOCATION:Canada Life Place
SUMMARY:Kingston Frontenacs @ London Knights
STATUS:CONFIRMED
END:VEVENT
BEGIN:VEVENT
UID:1411269ea484573a6228330@hockeytech.com
TZID:UTC
DTSTART:20251109T000000Z
DTEND:20251109T030000Z
DTSTAMP:20251109T000000
DESCRIPTION:You have booked some OHL games
LOCATION:Harry Lumley Bayshore Community Centre
SUMMARY:London Knights @ Owen Sound Attack
STATUS:CONFIRMED
END:VEVENT
BEGIN:VEVENT
UID:1411269ea484573a6228340@hockeytech.com
TZID:UTC
DTSTART:20251113T000000Z
DTEND:20251113T030000Z
DTSTAMP:20251113T000000
DESCRIPTION:You have booked some OHL games
LOCATION:Dort Financial Center
SUMMARY:London Knights @ Flint Firebirds
STATUS:CONFIRMED
END:VEVENT
BEGIN:VEVENT
UID:1411269ea484573a6228351@hockeytech.com
TZID:UTC
DTSTART:20251115T000000Z
DTEND:20251115T030000Z
DTSTAMP:20251115T000000
DESCRIPTION:You have booked some OHL games
LOCATION:Canada Life Place
SUMMARY:Owen Sound Attack @ London Knights
STATUS:CONFIRMED
END:VEVENT
BEGIN:VEVENT
UID:1411269ea484573a6228361@hockeytech.com
TZID:UTC
DTSTART:20251116T190000Z
DTEND:20251116T220000Z
DTSTAMP:20251116T190000
DESCRIPTION:You have booked some OHL games
LOCATION:Canada Life Place
SUMMARY:Soo Greyhounds @ London Knights
STATUS:CONFIRMED
END:VEVENT
BEGIN:VEVENT
UID:1411269ea484573a6228368@hockeytech.com
TZID:UTC
DTSTART:20251121T000000Z
DTEND:20251121T030000Z
DTSTAMP:20251121T000000
DESCRIPTION:You have booked some OHL games
LOCATION:Boart Longyear Memorial Gardens
SUMMARY:London Knights @ North Bay Battalion
STATUS:CONFIRMED
END:VEVENT
BEGIN:VEVENT
UID:1411269ea484573a6228377@hockeytech.com
TZID:UTC
DTSTART:20251122T000500Z
DTEND:20251122T030500Z
DTSTAMP:20251122T000500
DESCRIPTION:You have booked some OHL games
LOCATION:Sudbury Community Arena
SUMMARY:London Knights @ Sudbury Wolves
STATUS:CONFIRMED
END:VEVENT
BEGIN:VEVENT
UID:1411269ea484573a6228385@hockeytech.com
TZID:UTC
DTSTART:20251123T000700Z
DTEND:20251123T030700Z
DTSTAMP:20251123T000700
DESCRIPTION:You have booked some OHL games
LOCATION:GFL Memorial Gardens
SUMMARY:London Knights @ Soo Greyhounds
STATUS:CONFIRMED
END:VEVENT
BEGIN:VEVENT
UID:1411269ea484573a6228398@hockeytech.com
TZID:UTC
DTSTART:20251129T000000Z
DTEND:20251129T030000Z
DTSTAMP:20251129T000000
DESCRIPTION:You have booked some OHL games
LOCATION:Canada Life Place
SUMMARY:Saginaw Spirit @ London Knights
STATUS:CONFIRMED
END:VEVENT
BEGIN:VEVENT
UID:1411269ea484573a6228408@hockeytech.com
TZID:UTC
DTSTART:20251130T000500Z
DTEND:20251130T030500Z
DTSTAMP:20251130T000500
DESCRIPTION:You have booked some OHL games
LOCATION:Dow Event Center
SUMMARY:London Knights @ Saginaw Spirit
STATUS:CONFIRMED
END:VEVENT
BEGIN:VEVENT
UID:1411269ea484573a6228418@hockeytech.com
TZID:UTC
DTSTART:20251203T233000Z
DTEND:20251204T023000Z
DTSTAMP:20251203T233000
DESCRIPTION:You have booked some OHL games
LOCATION:Canada Life Place
SUMMARY:Kitchener Rangers @ London Knights
STATUS:CONFIRMED
END:VEVENT
BEGIN:VEVENT
UID:1411269ea484573a6228425@hockeytech.com
TZID:UTC
DTSTART:20251206T000000Z
DTEND:20251206T030000Z
DTSTAMP:20251206T000000
DESCRIPTION:You have booked some OHL games
LOCATION:Canada Life Place
SUMMARY:Windsor Spitfires @ London Knights
STATUS:CONFIRMED
END:VEVENT
BEGIN:VEVENT
UID:1411269ea484573a6228435@hockeytech.com
TZID:UTC
DTSTART:20251207T000500Z
DTEND:20251207T030500Z
DTSTAMP:20251207T000500
DESCRIPTION:You have booked some OHL games
LOCATION:WFCU Centre
SUMMARY:London Knights @ Windsor Spitfires
STATUS:CONFIRMED
END:VEVENT
BEGIN:VEVENT
UID:1411269ea484573a6228446@hockeytech.com
TZID:UTC
DTSTART:20251212T000000Z
DTEND:20251212T030000Z
DTSTAMP:20251212T000000
DESCRIPTION:You have booked some OHL games
LOCATION:Meridian Centre
SUMMARY:London Knights @ Niagara IceDogs
STATUS:CONFIRMED
END:VEVENT
BEGIN:VEVENT
UID:1411269ea484573a6228452@hockeytech.com
TZID:UTC
DTSTART:20251213T000000Z
DTEND:20251213T030000Z
DTSTAMP:20251213T000000
DESCRIPTION:You have booked some OHL games
LOCATION:Canada Life Place
SUMMARY:Saginaw Spirit @ London Knights
STATUS:CONFIRMED
END:VEVENT
BEGIN:VEVENT
UID:1411269ea484573a6228461@hockeytech.com
TZID:UTC
DTSTART:20251214T193000Z
DTEND:20251214T223000Z
DTSTAMP:20251214T193000
DESCRIPTION:You have booked some OHL games
LOCATION:TD Civic Centre
SUMMARY:London Knights @ Brantford Bulldogs
STATUS:CONFIRMED
END:VEVENT
BEGIN:VEVENT
UID:1411269ea484573a6228468@hockeytech.com
TZID:UTC
DTSTART:20251218T000000Z
DTEND:20251218T030000Z
DTSTAMP:20251218T000000
DESCRIPTION:You have booked some OHL games
LOCATION:Harry Lumley Bayshore Community Centre
SUMMARY:London Knights @ Owen Sound Attack
STATUS:CONFIRMED
END:VEVENT
BEGIN:VEVENT
UID:1411269ea484573a6228479@hockeytech.com
TZID:UTC
DTSTART:20251220T000000Z
DTEND:20251220T030000Z
DTSTAMP:20251220T000000
DESCRIPTION:You have booked some OHL games
LOCATION:Canada Life Place
SUMMARY:Oshawa Generals @ London Knights
STATUS:CONFIRMED
END:VEVENT
BEGIN:VEVENT
UID:1411269ea484573a6228483@hockeytech.com
TZID:UTC
DTSTART:20251221T003000Z
DTEND:20251221T033000Z
DTSTAMP:20251221T003000
DESCRIPTION:You have booked some OHL games
LOCATION:Sadlon Arena
SUMMARY:London Knights @ Barrie Colts
STATUS:CONFIRMED
END:VEVENT
BEGIN:VEVENT
UID:1411269ea484573a6228496@hockeytech.com
TZID:UTC
DTSTART:20251229T000500Z
DTEND:20251229T030500Z
DTSTAMP:20251229T000500
DESCRIPTION:You have booked some OHL games
LOCATION:Progressive Auto Sales Arena
SUMMARY:London Knights @ Sarnia Sting
STATUS:CONFIRMED
END:VEVENT
BEGIN:VEVENT
UID:1411269ea484573a6228507@hockeytech.com
TZID:UTC
DTSTART:20251231T210000Z
DTEND:20260101T000000Z
DTSTAMP:20251231T210000
DESCRIPTION:You have booked some OHL games
LOCATION:Canada Life Place
SUMMARY:Sarnia Sting @ London Knights
STATUS:CONFIRMED
END:VEVENT
BEGIN:VEVENT
UID:1411269ea484573a6228517@hockeytech.com
TZID:UTC
DTSTART:20260103T000000Z
DTEND:20260103T030000Z
DTSTAMP:20260103T000000
DESCRIPTION:You have booked some OHL games
LOCATION:Canada Life Place
SUMMARY:Flint Firebirds @ London Knights
STATUS:CONFIRMED
END:VEVENT
BEGIN:VEVENT
UID:1411269ea484573a6228528@hockeytech.com
TZID:UTC
DTSTART:20260104T190500Z
DTEND:20260104T220500Z
DTSTAMP:20260104T190500
DESCRIPTION:You have booked some OHL games
LOCATION:Tribute Communities Centre
SUMMARY:London Knights @ Oshawa Generals
STATUS:CONFIRMED
END:VEVENT
BEGIN:VEVENT
UID:1411269ea484573a6228542@hockeytech.com
TZID:UTC
DTSTART:20260110T000000Z
DTEND:20260110T030000Z
DTSTAMP:20260110T000000
DESCRIPTION:You have booked some OHL games
LOCATION:Canada Life Place
SUMMARY:Brantford Bulldogs @ London Knights
STATUS:CONFIRMED
END:VEVENT
BEGIN:VEVENT
UID:1411269ea484573a6228548@hockeytech.com
TZID:UTC
DTSTART:20260110T210000Z
DTEND:20260111T000000Z
DTSTAMP:20260110T210000
DESCRIPTION:You have booked some OHL games
LOCATION:Canada Life Place
SUMMARY:Erie Otters @ London Knights
STATUS:CONFIRMED
END:VEVENT
BEGIN:VEVENT
UID:1411269ea484573a6228568@hockeytech.com
TZID:UTC
DTSTART:20260117T000500Z
DTEND:20260117T030500Z
DTSTAMP:20260117T000500
DESCRIPTION:You have booked some OHL games
LOCATION:Progressive Auto Sales Arena
SUMMARY:London Knights @ Sarnia Sting
STATUS:CONFIRMED
END:VEVENT
BEGIN:VEVENT
UID:1411269ea484573a6228575@hockeytech.com
TZID:UTC
DTSTART:20260117T210000Z
DTEND:20260118T000000Z
DTSTAMP:20260117T210000
DESCRIPTION:You have booked some OHL games
LOCATION:Harry Lumley Bayshore Community Centre
SUMMARY:London Knights @ Owen Sound Attack
STATUS:CONFIRMED
END:VEVENT
BEGIN:VEVENT
UID:1411269ea484573a6228584@hockeytech.com
TZID:UTC
DTSTART:20260122T000700Z
DTEND:20260122T030700Z
DTSTAMP:20260122T000700
DESCRIPTION:You have booked some OHL games
LOCATION:GFL Memorial Gardens
SUMMARY:London Knights @ Soo Greyhounds
STATUS:CONFIRMED
END:VEVENT
BEGIN:VEVENT
UID:1411269ea484573a6228592@hockeytech.com
TZID:UTC
DTSTART:20260124T000000Z
DTEND:20260124T030000Z
DTSTAMP:20260124T000000
DESCRIPTION:You have booked some OHL games
LOCATION:Canada Life Place
SUMMARY:Sarnia Sting @ London Knights
STATUS:CONFIRMED
END:VEVENT
BEGIN:VEVENT
UID:1411269ea484573a6228603@hockeytech.com
TZID:UTC
DTSTART:20260125T190000Z
DTEND:20260125T220000Z
DTSTAMP:20260125T190000
DESCRIPTION:You have booked some OHL games
LOCATION:Canada Life Place
SUMMARY:Peterborough Petes @ London Knights
STATUS:CONFIRMED
END:VEVENT
BEGIN:VEVENT
UID:1411269ea484573a6228620@hockeytech.com
TZID:UTC
DTSTART:20260131T000000Z
DTEND:20260131T030000Z
DTSTAMP:20260131T000000
DESCRIPTION:You have booked some OHL games
LOCATION:Canada Life Place
SUMMARY:North Bay Battalion @ London Knights
STATUS:CONFIRMED
END:VEVENT
BEGIN:VEVENT
UID:1411269ea484573a6228625@hockeytech.com
TZID:UTC
DTSTART:20260201T000000Z
DTEND:20260201T030000Z
DTSTAMP:20260201T000000
DESCRIPTION:You have booked some OHL games
LOCATION:Erie Insurance Arena
SUMMARY:London Knights @ Erie Otters
STATUS:CONFIRMED
END:VEVENT
BEGIN:VEVENT
UID:1411269ea484573a6228636@hockeytech.com
TZID:UTC
DTSTART:20260204T233000Z
DTEND:20260205T023000Z
DTSTAMP:20260204T233000
DESCRIPTION:You have booked some OHL games
LOCATION:Canada Life Place
SUMMARY:Kitchener Rangers @ London Knights
STATUS:CONFIRMED
END:VEVENT
BEGIN:VEVENT
UID:1411269ea484573a6228645@hockeytech.com
TZID:UTC
DTSTART:20260207T000000Z
DTEND:20260207T030000Z
DTSTAMP:20260207T000000
DESCRIPTION:You have booked some OHL games
LOCATION:Canada Life Place
SUMMARY:Niagara IceDogs @ London Knights
STATUS:CONFIRMED
END:VEVENT
BEGIN:VEVENT
UID:1411269ea484573a6228656@hockeytech.com
TZID:UTC
DTSTART:20260208T000500Z
DTEND:20260208T030500Z
DTSTAMP:20260208T000500
DESCRIPTION:You have booked some OHL games
LOCATION:Dow Event Center
SUMMARY:London Knights @ Saginaw Spirit
STATUS:CONFIRMED
END:VEVENT
BEGIN:VEVENT
UID:1411269ea484573a6228662@hockeytech.com
TZID:UTC
DTSTART:20260211T000000Z
DTEND:20260211T030000Z
DTSTAMP:20260211T000000
DESCRIPTION:You have booked some OHL games
LOCATION:Kitchener Memorial Auditorium
SUMMARY:London Knights @ Kitchener Rangers
STATUS:CONFIRMED
END:VEVENT
BEGIN:VEVENT
UID:1411269ea484573a6228665@hockeytech.com
TZID:UTC
DTSTART:20260211T233000Z
DTEND:20260212T023000Z
DTSTAMP:20260211T233000
DESCRIPTION:You have booked some OHL games
LOCATION:Canada Life Place
SUMMARY:Guelph Storm @ London Knights
STATUS:CONFIRMED
END:VEVENT
BEGIN:VEVENT
UID:1411269ea484573a6228676@hockeytech.com
TZID:UTC
DTSTART:20260214T000000Z
DTEND:20260214T030000Z
DTSTAMP:20260214T000000
DESCRIPTION:You have booked some OHL games
LOCATION:Canada Life Place
SUMMARY:Soo Greyhounds @ London Knights
STATUS:CONFIRMED
END:VEVENT
BEGIN:VEVENT
UID:1411269ea484573a6228689@hockeytech.com
TZID:UTC
DTSTART:20260216T190000Z
DTEND:20260216T220000Z
DTSTAMP:20260216T190000
DESCRIPTION:You have booked some OHL games
LOCATION:Canada Life Place
SUMMARY:Owen Sound Attack @ London Knights
STATUS:CONFIRMED
END:VEVENT
BEGIN:VEVENT
UID:1411269ea484573a6228705@hockeytech.com
TZID:UTC
DTSTART:20260221T000000Z
DTEND:20260221T030000Z
DTSTAMP:20260221T000000
DESCRIPTION:You have booked some OHL games
LOCATION:Canada Life Place
SUMMARY:Barrie Colts @ London Knights
STATUS:CONFIRMED
END:VEVENT
BEGIN:VEVENT
UID:1411269ea484573a6228715@hockeytech.com
TZID:UTC
DTSTART:20260222T190000Z
DTEND:20260222T220000Z
DTSTAMP:20260222T190000
DESCRIPTION:You have booked some OHL games
LOCATION:Canada Life Place
SUMMARY:Sudbury Wolves @ London Knights
STATUS:CONFIRMED
END:VEVENT
BEGIN:VEVENT
UID:1411269ea484573a6228732@hockeytech.com
TZID:UTC
DTSTART:20260228T000000Z
DTEND:20260228T030000Z
DTSTAMP:20260228T000000
DESCRIPTION:You have booked some OHL games
LOCATION:Canada Life Place
SUMMARY:Windsor Spitfires @ London Knights
STATUS:CONFIRMED
END:VEVENT
BEGIN:VEVENT
UID:1411269ea484573a6228736@hockeytech.com
TZID:UTC
DTSTART:20260228T210000Z
DTEND:20260301T000000Z
DTSTAMP:20260228T210000
DESCRIPTION:You have booked some OHL games
LOCATION:CAA Centre
SUMMARY:London Knights @ Brampton Steelheads
STATUS:CONFIRMED
END:VEVENT
BEGIN:VEVENT
UID:1411269ea484573a6228743@hockeytech.com
TZID:UTC
DTSTART:20260301T190000Z
DTEND:20260301T220000Z
DTSTAMP:20260301T190000
DESCRIPTION:You have booked some OHL games
LOCATION:Kitchener Memorial Auditorium
SUMMARY:London Knights @ Kitchener Rangers
STATUS:CONFIRMED
END:VEVENT
BEGIN:VEVENT
UID:1411269ea484573a6228750@hockeytech.com
TZID:UTC
DTSTART:20260304T233000Z
DTEND:20260305T023000Z
DTSTAMP:20260304T233000
DESCRIPTION:You have booked some OHL games
LOCATION:Canada Life Place
SUMMARY:Guelph Storm @ London Knights
STATUS:CONFIRMED
END:VEVENT
BEGIN:VEVENT
UID:1411269ea484573a6228760@hockeytech.com
TZID:UTC
DTSTART:20260307T000000Z
DTEND:20260307T030000Z
DTSTAMP:20260307T000000
DESCRIPTION:You have booked some OHL games
LOCATION:Canada Life Place
SUMMARY:Erie Otters @ London Knights
STATUS:CONFIRMED
END:VEVENT
BEGIN:VEVENT
UID:1411269ea484573a6228765@hockeytech.com
TZID:UTC
DTSTART:20260308T000000Z
DTEND:20260308T030000Z
DTSTAMP:20260308T000000
DESCRIPTION:You have booked some OHL games
LOCATION:Erie Insurance Arena
SUMMARY:London Knights @ Erie Otters
STATUS:CONFIRMED
END:VEVENT
BEGIN:VEVENT
UID:1411269ea484573a6228786@hockeytech.com
TZID:UTC
DTSTART:20260313T230000Z
DTEND:20260314T020000Z
DTSTAMP:20260313T230000
DESCRIPTION:You have booked some OHL games
LOCATION:Canada Life Place
SUMMARY:Guelph Storm @ London Knights
STATUS:CONFIRMED
END:VEVENT
BEGIN:VEVENT
UID:1411269ea484573a6228800@hockeytech.com
TZID:UTC
DTSTART:20260315T200500Z
DTEND:20260315T230500Z
DTSTAMP:20260315T200500
DESCRIPTION:You have booked some OHL games
LOCATION:WFCU Centre
SUMMARY:London Knights @ Windsor Spitfires
STATUS:CONFIRMED
END:VEVENT
BEGIN:VEVENT
UID:1411269ea484573a6228805@hockeytech.com
TZID:UTC
DTSTART:20260318T223700Z
DTEND:20260319T013700Z
DTSTAMP:20260318T223700
DESCRIPTION:You have booked some OHL games
LOCATION:Sleeman Centre
SUMMARY:London Knights @ Guelph Storm
STATUS:CONFIRMED
END:VEVENT
BEGIN:VEVENT
UID:1411269ea484573a6228817@hockeytech.com
TZID:UTC
DTSTART:20260320T230000Z
DTEND:20260321T020000Z
DTSTAMP:20260320T230000
DESCRIPTION:You have booked some OHL games
LOCATION:Canada Life Place
SUMMARY:Windsor Spitfires @ London Knights
STATUS:CONFIRMED
END:VEVENT
BEGIN:VEVENT
UID:1411269ea484573a6228823@hockeytech.com
TZID:UTC
DTSTART:20260321T230000Z
DTEND:20260322T020000Z
DTSTAMP:20260321T230000
DESCRIPTION:You have booked some OHL games
LOCATION:Dort Financial Center
SUMMARY:London Knights @ Flint Firebirds
STATUS:CONFIRMED
END:VEVENT
END:VCALENDAR