BEGIN:VCALENDAR
VERSION:2.0
PRODID:-//Hockeytech//Leaguestat iCal//EN
BEGIN:VEVENT
UID:1236669ebf2d04f88428038@hockeytech.com
TZID:UTC
DTSTART:20250116T000000Z
DTEND:20250116T030000Z
DTSTAMP:20250116T000000
DESCRIPTION:You have an OHL hockey game scheduled
LOCATION:Brantford Civic Centre
SUMMARY:Top Prospects West @ Top Prospects East
STATUS:CONFIRMED
END:VEVENT
END:VCALENDAR