BEGIN:VCALENDAR
VERSION:2.0
PRODID:-//Hockeytech//Leaguestat iCal//EN
BEGIN:VEVENT
UID:1485169e8d658705dd27314@hockeytech.com
TZID:UTC
DTSTART:20240927T230000Z
DTEND:20240928T020000Z
DTSTAMP:20240927T230000
DESCRIPTION:You have booked some OHL games
LOCATION:CAA Centre
SUMMARY:Brantford Bulldogs @ Brampton Steelheads
STATUS:CONFIRMED
END:VEVENT
BEGIN:VEVENT
UID:1485169e8d658705dd27326@hockeytech.com
TZID:UTC
DTSTART:20240928T230000Z
DTEND:20240929T020000Z
DTSTAMP:20240928T230000
DESCRIPTION:You have booked some OHL games
LOCATION:Erie Insurance Arena
SUMMARY:Brampton Steelheads @ Erie Otters
STATUS:CONFIRMED
END:VEVENT
BEGIN:VEVENT
UID:1485169e8d658705dd27334@hockeytech.com
TZID:UTC
DTSTART:20241003T230000Z
DTEND:20241004T020000Z
DTSTAMP:20241003T230000
DESCRIPTION:You have booked some OHL games
LOCATION:Sadlon Arena
SUMMARY:Brampton Steelheads @ Barrie Colts
STATUS:CONFIRMED
END:VEVENT
BEGIN:VEVENT
UID:1485169e8d658705dd27346@hockeytech.com
TZID:UTC
DTSTART:20241005T200000Z
DTEND:20241005T230000Z
DTSTAMP:20241005T200000
DESCRIPTION:You have booked some OHL games
LOCATION:CAA Centre
SUMMARY:London Knights @ Brampton Steelheads
STATUS:CONFIRMED
END:VEVENT
BEGIN:VEVENT
UID:1485169e8d658705dd27354@hockeytech.com
TZID:UTC
DTSTART:20241006T180000Z
DTEND:20241006T210000Z
DTSTAMP:20241006T180000
DESCRIPTION:You have booked some OHL games
LOCATION:Meridian Centre
SUMMARY:Brampton Steelheads @ Niagara IceDogs
STATUS:CONFIRMED
END:VEVENT
BEGIN:VEVENT
UID:1485169e8d658705dd27361@hockeytech.com
TZID:UTC
DTSTART:20241011T230000Z
DTEND:20241012T020000Z
DTSTAMP:20241011T230000
DESCRIPTION:You have booked some OHL games
LOCATION:CAA Centre
SUMMARY:Windsor Spitfires @ Brampton Steelheads
STATUS:CONFIRMED
END:VEVENT
BEGIN:VEVENT
UID:1485169e8d658705dd27370@hockeytech.com
TZID:UTC
DTSTART:20241012T233000Z
DTEND:20241013T023000Z
DTSTAMP:20241012T233000
DESCRIPTION:You have booked some OHL games
LOCATION:Sadlon Arena
SUMMARY:Brampton Steelheads @ Barrie Colts
STATUS:CONFIRMED
END:VEVENT
BEGIN:VEVENT
UID:1485169e8d658705dd27389@hockeytech.com
TZID:UTC
DTSTART:20241018T230000Z
DTEND:20241019T020000Z
DTSTAMP:20241018T230000
DESCRIPTION:You have booked some OHL games
LOCATION:CAA Centre
SUMMARY:Ottawa 67's @ Brampton Steelheads
STATUS:CONFIRMED
END:VEVENT
BEGIN:VEVENT
UID:1485169e8d658705dd27397@hockeytech.com
TZID:UTC
DTSTART:20241019T200000Z
DTEND:20241019T230000Z
DTSTAMP:20241019T200000
DESCRIPTION:You have booked some OHL games
LOCATION:CAA Centre
SUMMARY:Saginaw Spirit @ Brampton Steelheads
STATUS:CONFIRMED
END:VEVENT
BEGIN:VEVENT
UID:1485169e8d658705dd27416@hockeytech.com
TZID:UTC
DTSTART:20241025T230000Z
DTEND:20241026T020000Z
DTSTAMP:20241025T230000
DESCRIPTION:You have booked some OHL games
LOCATION:CAA Centre
SUMMARY:Barrie Colts @ Brampton Steelheads
STATUS:CONFIRMED
END:VEVENT
BEGIN:VEVENT
UID:1485169e8d658705dd27430@hockeytech.com
TZID:UTC
DTSTART:20241027T200700Z
DTEND:20241027T230700Z
DTSTAMP:20241027T200700
DESCRIPTION:You have booked some OHL games
LOCATION:Sleeman Centre
SUMMARY:Brampton Steelheads @ Guelph Storm
STATUS:CONFIRMED
END:VEVENT
BEGIN:VEVENT
UID:1485169e8d658705dd27439@hockeytech.com
TZID:UTC
DTSTART:20241101T230000Z
DTEND:20241102T020000Z
DTSTAMP:20241101T230000
DESCRIPTION:You have booked some OHL games
LOCATION:CAA Centre
SUMMARY:North Bay Battalion @ Brampton Steelheads
STATUS:CONFIRMED
END:VEVENT
BEGIN:VEVENT
UID:1485169e8d658705dd27448@hockeytech.com
TZID:UTC
DTSTART:20241102T200000Z
DTEND:20241102T230000Z
DTSTAMP:20241102T200000
DESCRIPTION:You have booked some OHL games
LOCATION:CAA Centre
SUMMARY:Sarnia Sting @ Brampton Steelheads
STATUS:CONFIRMED
END:VEVENT
BEGIN:VEVENT
UID:1485169e8d658705dd27456@hockeytech.com
TZID:UTC
DTSTART:20241103T190000Z
DTEND:20241103T220000Z
DTSTAMP:20241103T190000
DESCRIPTION:You have booked some OHL games
LOCATION:North Bay Memorial Gardens
SUMMARY:Brampton Steelheads @ North Bay Battalion
STATUS:CONFIRMED
END:VEVENT
BEGIN:VEVENT
UID:1485169e8d658705dd27475@hockeytech.com
TZID:UTC
DTSTART:20241109T000000Z
DTEND:20241109T030000Z
DTSTAMP:20241109T000000
DESCRIPTION:You have booked some OHL games
LOCATION:TD Place
SUMMARY:Brampton Steelheads @ Ottawa 67's
STATUS:CONFIRMED
END:VEVENT
BEGIN:VEVENT
UID:1485169e8d658705dd27481@hockeytech.com
TZID:UTC
DTSTART:20241109T210000Z
DTEND:20241110T000000Z
DTSTAMP:20241109T210000
DESCRIPTION:You have booked some OHL games
LOCATION:Slush Puppie Place
SUMMARY:Brampton Steelheads @ Kingston Frontenacs
STATUS:CONFIRMED
END:VEVENT
BEGIN:VEVENT
UID:1485169e8d658705dd27484@hockeytech.com
TZID:UTC
DTSTART:20241110T190000Z
DTEND:20241110T220000Z
DTSTAMP:20241110T190000
DESCRIPTION:You have booked some OHL games
LOCATION:CAA Centre
SUMMARY:Brantford Bulldogs @ Brampton Steelheads
STATUS:CONFIRMED
END:VEVENT
BEGIN:VEVENT
UID:1485169e8d658705dd27496@hockeytech.com
TZID:UTC
DTSTART:20241116T000000Z
DTEND:20241116T030000Z
DTSTAMP:20241116T000000
DESCRIPTION:You have booked some OHL games
LOCATION:CAA Centre
SUMMARY:Barrie Colts @ Brampton Steelheads
STATUS:CONFIRMED
END:VEVENT
BEGIN:VEVENT
UID:1485169e8d658705dd27506@hockeytech.com
TZID:UTC
DTSTART:20241116T210000Z
DTEND:20241117T000000Z
DTSTAMP:20241116T210000
DESCRIPTION:You have booked some OHL games
LOCATION:Brantford Civic Centre
SUMMARY:Brampton Steelheads @ Brantford Bulldogs
STATUS:CONFIRMED
END:VEVENT
BEGIN:VEVENT
UID:1485169e8d658705dd27517@hockeytech.com
TZID:UTC
DTSTART:20241121T000000Z
DTEND:20241121T030000Z
DTSTAMP:20241121T000000
DESCRIPTION:You have booked some OHL games
LOCATION:Erie Insurance Arena
SUMMARY:Brampton Steelheads @ Erie Otters
STATUS:CONFIRMED
END:VEVENT
BEGIN:VEVENT
UID:1485169e8d658705dd27522@hockeytech.com
TZID:UTC
DTSTART:20241123T000000Z
DTEND:20241123T030000Z
DTSTAMP:20241123T000000
DESCRIPTION:You have booked some OHL games
LOCATION:CAA Centre
SUMMARY:Niagara IceDogs @ Brampton Steelheads
STATUS:CONFIRMED
END:VEVENT
BEGIN:VEVENT
UID:1485169e8d658705dd27539@hockeytech.com
TZID:UTC
DTSTART:20241124T190000Z
DTEND:20241124T220000Z
DTSTAMP:20241124T190000
DESCRIPTION:You have booked some OHL games
LOCATION:CAA Centre
SUMMARY:Soo Greyhounds @ Brampton Steelheads
STATUS:CONFIRMED
END:VEVENT
BEGIN:VEVENT
UID:1485169e8d658705dd27557@hockeytech.com
TZID:UTC
DTSTART:20241130T000500Z
DTEND:20241130T030500Z
DTSTAMP:20241130T000500
DESCRIPTION:You have booked some OHL games
LOCATION:Progressive Auto Sales Arena
SUMMARY:Brampton Steelheads @ Sarnia Sting
STATUS:CONFIRMED
END:VEVENT
BEGIN:VEVENT
UID:1485169e8d658705dd27563@hockeytech.com
TZID:UTC
DTSTART:20241201T000500Z
DTEND:20241201T030500Z
DTSTAMP:20241201T000500
DESCRIPTION:You have booked some OHL games
LOCATION:Dow Event Center
SUMMARY:Brampton Steelheads @ Saginaw Spirit
STATUS:CONFIRMED
END:VEVENT
BEGIN:VEVENT
UID:1485169e8d658705dd27570@hockeytech.com
TZID:UTC
DTSTART:20241204T160000Z
DTEND:20241204T190000Z
DTSTAMP:20241204T160000
DESCRIPTION:You have booked some OHL games
LOCATION:CAA Centre
SUMMARY:Guelph Storm @ Brampton Steelheads
STATUS:CONFIRMED
END:VEVENT
BEGIN:VEVENT
UID:1485169e8d658705dd27582@hockeytech.com
TZID:UTC
DTSTART:20241207T000000Z
DTEND:20241207T030000Z
DTSTAMP:20241207T000000
DESCRIPTION:You have booked some OHL games
LOCATION:Meridian Centre
SUMMARY:Brampton Steelheads @ Niagara IceDogs
STATUS:CONFIRMED
END:VEVENT
BEGIN:VEVENT
UID:1485169e8d658705dd27589@hockeytech.com
TZID:UTC
DTSTART:20241208T190000Z
DTEND:20241208T220000Z
DTSTAMP:20241208T190000
DESCRIPTION:You have booked some OHL games
LOCATION:CAA Centre
SUMMARY:Erie Otters @ Brampton Steelheads
STATUS:CONFIRMED
END:VEVENT
BEGIN:VEVENT
UID:1485169e8d658705dd27596@hockeytech.com
TZID:UTC
DTSTART:20241212T000000Z
DTEND:20241212T030000Z
DTSTAMP:20241212T000000
DESCRIPTION:You have booked some OHL games
LOCATION:CAA Centre
SUMMARY:Brantford Bulldogs @ Brampton Steelheads
STATUS:CONFIRMED
END:VEVENT
BEGIN:VEVENT
UID:1485169e8d658705dd27611@hockeytech.com
TZID:UTC
DTSTART:20241214T000500Z
DTEND:20241214T030500Z
DTSTAMP:20241214T000500
DESCRIPTION:You have booked some OHL games
LOCATION:Sudbury Community Arena
SUMMARY:Brampton Steelheads @ Sudbury Wolves
STATUS:CONFIRMED
END:VEVENT
BEGIN:VEVENT
UID:1485169e8d658705dd27620@hockeytech.com
TZID:UTC
DTSTART:20241215T230500Z
DTEND:20241216T020500Z
DTSTAMP:20241215T230500
DESCRIPTION:You have booked some OHL games
LOCATION:Tribute Communities Centre
SUMMARY:Brampton Steelheads @ Oshawa Generals
STATUS:CONFIRMED
END:VEVENT
BEGIN:VEVENT
UID:1485169e8d658705dd27623@hockeytech.com
TZID:UTC
DTSTART:20241219T000000Z
DTEND:20241219T030000Z
DTSTAMP:20241219T000000
DESCRIPTION:You have booked some OHL games
LOCATION:Brantford Civic Centre
SUMMARY:Brampton Steelheads @ Brantford Bulldogs
STATUS:CONFIRMED
END:VEVENT
BEGIN:VEVENT
UID:1485169e8d658705dd27632@hockeytech.com
TZID:UTC
DTSTART:20241221T000000Z
DTEND:20241221T030000Z
DTSTAMP:20241221T000000
DESCRIPTION:You have booked some OHL games
LOCATION:CAA Centre
SUMMARY:Niagara IceDogs @ Brampton Steelheads
STATUS:CONFIRMED
END:VEVENT
BEGIN:VEVENT
UID:1485169e8d658705dd27641@hockeytech.com
TZID:UTC
DTSTART:20241228T210000Z
DTEND:20241229T000000Z
DTSTAMP:20241228T210000
DESCRIPTION:You have booked some OHL games
LOCATION:CAA Centre
SUMMARY:Ottawa 67's @ Brampton Steelheads
STATUS:CONFIRMED
END:VEVENT
BEGIN:VEVENT
UID:1485169e8d658705dd27656@hockeytech.com
TZID:UTC
DTSTART:20241231T190000Z
DTEND:20241231T220000Z
DTSTAMP:20241231T190000
DESCRIPTION:You have booked some OHL games
LOCATION:CAA Centre
SUMMARY:Sudbury Wolves @ Brampton Steelheads
STATUS:CONFIRMED
END:VEVENT
BEGIN:VEVENT
UID:1485169e8d658705dd27662@hockeytech.com
TZID:UTC
DTSTART:20250101T210000Z
DTEND:20250102T000000Z
DTSTAMP:20250101T210000
DESCRIPTION:You have booked some OHL games
LOCATION:Slush Puppie Place
SUMMARY:Brampton Steelheads @ Kingston Frontenacs
STATUS:CONFIRMED
END:VEVENT
BEGIN:VEVENT
UID:1485169e8d658705dd27679@hockeytech.com
TZID:UTC
DTSTART:20250104T210000Z
DTEND:20250105T000000Z
DTSTAMP:20250104T210000
DESCRIPTION:You have booked some OHL games
LOCATION:CAA Centre
SUMMARY:Flint Firebirds @ Brampton Steelheads
STATUS:CONFIRMED
END:VEVENT
BEGIN:VEVENT
UID:1485169e8d658705dd27690@hockeytech.com
TZID:UTC
DTSTART:20250109T000000Z
DTEND:20250109T030000Z
DTSTAMP:20250109T000000
DESCRIPTION:You have booked some OHL games
LOCATION:TD Place
SUMMARY:Brampton Steelheads @ Ottawa 67's
STATUS:CONFIRMED
END:VEVENT
BEGIN:VEVENT
UID:1485169e8d658705dd27698@hockeytech.com
TZID:UTC
DTSTART:20250111T000000Z
DTEND:20250111T030000Z
DTSTAMP:20250111T000000
DESCRIPTION:You have booked some OHL games
LOCATION:Kitchener Memorial Auditorium
SUMMARY:Brampton Steelheads @ Kitchener Rangers
STATUS:CONFIRMED
END:VEVENT
BEGIN:VEVENT
UID:1485169e8d658705dd27705@hockeytech.com
TZID:UTC
DTSTART:20250111T210000Z
DTEND:20250112T000000Z
DTSTAMP:20250111T210000
DESCRIPTION:You have booked some OHL games
LOCATION:CAA Centre
SUMMARY:North Bay Battalion @ Brampton Steelheads
STATUS:CONFIRMED
END:VEVENT
BEGIN:VEVENT
UID:1485169e8d658705dd27718@hockeytech.com
TZID:UTC
DTSTART:20250118T000000Z
DTEND:20250118T030000Z
DTSTAMP:20250118T000000
DESCRIPTION:You have booked some OHL games
LOCATION:CAA Centre
SUMMARY:Owen Sound Attack @ Brampton Steelheads
STATUS:CONFIRMED
END:VEVENT
BEGIN:VEVENT
UID:1485169e8d658705dd27726@hockeytech.com
TZID:UTC
DTSTART:20250118T210000Z
DTEND:20250119T000000Z
DTSTAMP:20250118T210000
DESCRIPTION:You have booked some OHL games
LOCATION:CAA Centre
SUMMARY:Kitchener Rangers @ Brampton Steelheads
STATUS:CONFIRMED
END:VEVENT
BEGIN:VEVENT
UID:1485169e8d658705dd27742@hockeytech.com
TZID:UTC
DTSTART:20250124T000000Z
DTEND:20250124T030000Z
DTSTAMP:20250124T000000
DESCRIPTION:You have booked some OHL games
LOCATION:Sadlon Arena
SUMMARY:Brampton Steelheads @ Barrie Colts
STATUS:CONFIRMED
END:VEVENT
BEGIN:VEVENT
UID:1485169e8d658705dd27755@hockeytech.com
TZID:UTC
DTSTART:20250126T000000Z
DTEND:20250126T030000Z
DTSTAMP:20250126T000000
DESCRIPTION:You have booked some OHL games
LOCATION:Dort Financial Center
SUMMARY:Brampton Steelheads @ Flint Firebirds
STATUS:CONFIRMED
END:VEVENT
BEGIN:VEVENT
UID:1485169e8d658705dd27763@hockeytech.com
TZID:UTC
DTSTART:20250126T210500Z
DTEND:20250127T000500Z
DTSTAMP:20250126T210500
DESCRIPTION:You have booked some OHL games
LOCATION:WFCU Centre
SUMMARY:Brampton Steelheads @ Windsor Spitfires
STATUS:CONFIRMED
END:VEVENT
BEGIN:VEVENT
UID:1485169e8d658705dd27768@hockeytech.com
TZID:UTC
DTSTART:20250131T000500Z
DTEND:20250131T030500Z
DTSTAMP:20250131T000500
DESCRIPTION:You have booked some OHL games
LOCATION:Peterborough Memorial Centre
SUMMARY:Brampton Steelheads @ Peterborough Petes
STATUS:CONFIRMED
END:VEVENT
BEGIN:VEVENT
UID:1485169e8d658705dd27771@hockeytech.com
TZID:UTC
DTSTART:20250201T000000Z
DTEND:20250201T030000Z
DTSTAMP:20250201T000000
DESCRIPTION:You have booked some OHL games
LOCATION:CAA Centre
SUMMARY:Peterborough Petes @ Brampton Steelheads
STATUS:CONFIRMED
END:VEVENT
BEGIN:VEVENT
UID:1485169e8d658705dd27786@hockeytech.com
TZID:UTC
DTSTART:20250202T190000Z
DTEND:20250202T220000Z
DTSTAMP:20250202T190000
DESCRIPTION:You have booked some OHL games
LOCATION:Harry Lumley Bayshore Community Centre
SUMMARY:Brampton Steelheads @ Owen Sound Attack
STATUS:CONFIRMED
END:VEVENT
BEGIN:VEVENT
UID:1485169e8d658705dd27798@hockeytech.com
TZID:UTC
DTSTART:20250208T000000Z
DTEND:20250208T030000Z
DTSTAMP:20250208T000000
DESCRIPTION:You have booked some OHL games
LOCATION:CAA Centre
SUMMARY:Erie Otters @ Brampton Steelheads
STATUS:CONFIRMED
END:VEVENT
BEGIN:VEVENT
UID:1485169e8d658705dd27808@hockeytech.com
TZID:UTC
DTSTART:20250208T210000Z
DTEND:20250209T000000Z
DTSTAMP:20250208T210000
DESCRIPTION:You have booked some OHL games
LOCATION:CAA Centre
SUMMARY:Kingston Frontenacs @ Brampton Steelheads
STATUS:CONFIRMED
END:VEVENT
BEGIN:VEVENT
UID:1485169e8d658705dd27823@hockeytech.com
TZID:UTC
DTSTART:20250213T000500Z
DTEND:20250213T030500Z
DTSTAMP:20250213T000500
DESCRIPTION:You have booked some OHL games
LOCATION:Sudbury Community Arena
SUMMARY:Brampton Steelheads @ Sudbury Wolves
STATUS:CONFIRMED
END:VEVENT
BEGIN:VEVENT
UID:1485169e8d658705dd27825@hockeytech.com
TZID:UTC
DTSTART:20250214T000000Z
DTEND:20250214T030000Z
DTSTAMP:20250214T000000
DESCRIPTION:You have booked some OHL games
LOCATION:Boart Longyear Memorial Gardens
SUMMARY:Brampton Steelheads @ North Bay Battalion
STATUS:CONFIRMED
END:VEVENT
BEGIN:VEVENT
UID:1485169e8d658705dd27837@hockeytech.com
TZID:UTC
DTSTART:20250216T000500Z
DTEND:20250216T030500Z
DTSTAMP:20250216T000500
DESCRIPTION:You have booked some OHL games
LOCATION:Tribute Communities Centre
SUMMARY:Brampton Steelheads @ Oshawa Generals
STATUS:CONFIRMED
END:VEVENT
BEGIN:VEVENT
UID:1485169e8d658705dd27844@hockeytech.com
TZID:UTC
DTSTART:20250217T190000Z
DTEND:20250217T220000Z
DTSTAMP:20250217T190000
DESCRIPTION:You have booked some OHL games
LOCATION:CAA Centre
SUMMARY:Niagara IceDogs @ Brampton Steelheads
STATUS:CONFIRMED
END:VEVENT
BEGIN:VEVENT
UID:1485169e8d658705dd27854@hockeytech.com
TZID:UTC
DTSTART:20250220T000000Z
DTEND:20250220T030000Z
DTSTAMP:20250220T000000
DESCRIPTION:You have booked some OHL games
LOCATION:CAA Centre
SUMMARY:Oshawa Generals @ Brampton Steelheads
STATUS:CONFIRMED
END:VEVENT
BEGIN:VEVENT
UID:1485169e8d658705dd27862@hockeytech.com
TZID:UTC
DTSTART:20250222T000000Z
DTEND:20250222T030000Z
DTSTAMP:20250222T000000
DESCRIPTION:You have booked some OHL games
LOCATION:Canada Life Place
SUMMARY:Brampton Steelheads @ London Knights
STATUS:CONFIRMED
END:VEVENT
BEGIN:VEVENT
UID:1485169e8d658705dd27868@hockeytech.com
TZID:UTC
DTSTART:20250222T210000Z
DTEND:20250223T000000Z
DTSTAMP:20250222T210000
DESCRIPTION:You have booked some OHL games
LOCATION:CAA Centre
SUMMARY:Sudbury Wolves @ Brampton Steelheads
STATUS:CONFIRMED
END:VEVENT
BEGIN:VEVENT
UID:1485169e8d658705dd27885@hockeytech.com
TZID:UTC
DTSTART:20250228T000000Z
DTEND:20250228T030000Z
DTSTAMP:20250228T000000
DESCRIPTION:You have booked some OHL games
LOCATION:Boart Longyear Memorial Gardens
SUMMARY:Brampton Steelheads @ North Bay Battalion
STATUS:CONFIRMED
END:VEVENT
BEGIN:VEVENT
UID:1485169e8d658705dd27893@hockeytech.com
TZID:UTC
DTSTART:20250301T000700Z
DTEND:20250301T030700Z
DTSTAMP:20250301T000700
DESCRIPTION:You have booked some OHL games
LOCATION:GFL Memorial Gardens
SUMMARY:Brampton Steelheads @ Soo Greyhounds
STATUS:CONFIRMED
END:VEVENT
BEGIN:VEVENT
UID:1485169e8d658705dd27905@hockeytech.com
TZID:UTC
DTSTART:20250302T190500Z
DTEND:20250302T220500Z
DTSTAMP:20250302T190500
DESCRIPTION:You have booked some OHL games
LOCATION:Sudbury Community Arena
SUMMARY:Brampton Steelheads @ Sudbury Wolves
STATUS:CONFIRMED
END:VEVENT
BEGIN:VEVENT
UID:1485169e8d658705dd27906@hockeytech.com
TZID:UTC
DTSTART:20250305T160000Z
DTEND:20250305T190000Z
DTSTAMP:20250305T160000
DESCRIPTION:You have booked some OHL games
LOCATION:CAA Centre
SUMMARY:Oshawa Generals @ Brampton Steelheads
STATUS:CONFIRMED
END:VEVENT
BEGIN:VEVENT
UID:1485169e8d658705dd27914@hockeytech.com
TZID:UTC
DTSTART:20250308T000000Z
DTEND:20250308T030000Z
DTSTAMP:20250308T000000
DESCRIPTION:You have booked some OHL games
LOCATION:CAA Centre
SUMMARY:North Bay Battalion @ Brampton Steelheads
STATUS:CONFIRMED
END:VEVENT
BEGIN:VEVENT
UID:1485169e8d658705dd27932@hockeytech.com
TZID:UTC
DTSTART:20250311T230000Z
DTEND:20250312T020000Z
DTSTAMP:20250311T230000
DESCRIPTION:You have booked some OHL games
LOCATION:CAA Centre
SUMMARY:Sudbury Wolves @ Brampton Steelheads
STATUS:CONFIRMED
END:VEVENT
BEGIN:VEVENT
UID:1485169e8d658705dd27939@hockeytech.com
TZID:UTC
DTSTART:20250312T230500Z
DTEND:20250313T020500Z
DTSTAMP:20250312T230500
DESCRIPTION:You have booked some OHL games
LOCATION:Peterborough Memorial Centre
SUMMARY:Brampton Steelheads @ Peterborough Petes
STATUS:CONFIRMED
END:VEVENT
BEGIN:VEVENT
UID:1485169e8d658705dd27943@hockeytech.com
TZID:UTC
DTSTART:20250314T230000Z
DTEND:20250315T020000Z
DTSTAMP:20250314T230000
DESCRIPTION:You have booked some OHL games
LOCATION:CAA Centre
SUMMARY:Barrie Colts @ Brampton Steelheads
STATUS:CONFIRMED
END:VEVENT
BEGIN:VEVENT
UID:1485169e8d658705dd27958@hockeytech.com
TZID:UTC
DTSTART:20250316T180000Z
DTEND:20250316T210000Z
DTSTAMP:20250316T180000
DESCRIPTION:You have booked some OHL games
LOCATION:Meridian Centre
SUMMARY:Brampton Steelheads @ Niagara IceDogs
STATUS:CONFIRMED
END:VEVENT
BEGIN:VEVENT
UID:1485169e8d658705dd27964@hockeytech.com
TZID:UTC
DTSTART:20250319T230000Z
DTEND:20250320T020000Z
DTSTAMP:20250319T230000
DESCRIPTION:You have booked some OHL games
LOCATION:Brantford Civic Centre
SUMMARY:Brampton Steelheads @ Brantford Bulldogs
STATUS:CONFIRMED
END:VEVENT
BEGIN:VEVENT
UID:1485169e8d658705dd27972@hockeytech.com
TZID:UTC
DTSTART:20250321T230000Z
DTEND:20250322T020000Z
DTSTAMP:20250321T230000
DESCRIPTION:You have booked some OHL games
LOCATION:CAA Centre
SUMMARY:Peterborough Petes @ Brampton Steelheads
STATUS:CONFIRMED
END:VEVENT
BEGIN:VEVENT
UID:1485169e8d658705dd27984@hockeytech.com
TZID:UTC
DTSTART:20250323T180000Z
DTEND:20250323T210000Z
DTSTAMP:20250323T180000
DESCRIPTION:You have booked some OHL games
LOCATION:CAA Centre
SUMMARY:Kingston Frontenacs @ Brampton Steelheads
STATUS:CONFIRMED
END:VEVENT
END:VCALENDAR