BEGIN:VCALENDAR
VERSION:2.0
PRODID:-//Hockeytech//Leaguestat iCal//EN
BEGIN:VEVENT
UID:301869e71ae66482327317@hockeytech.com
TZID:UTC
DTSTART:20240927T230000Z
DTEND:20240928T020000Z
DTSTAMP:20240927T230000
DESCRIPTION:You have booked some OHL games
LOCATION:Kitchener Memorial Auditorium
SUMMARY:Erie Otters @ Kitchener Rangers
STATUS:CONFIRMED
END:VEVENT
BEGIN:VEVENT
UID:301869e71ae66482327331@hockeytech.com
TZID:UTC
DTSTART:20240928T230500Z
DTEND:20240929T020500Z
DTSTAMP:20240928T230500
DESCRIPTION:You have booked some OHL games
LOCATION:WFCU Centre
SUMMARY:Kitchener Rangers @ Windsor Spitfires
STATUS:CONFIRMED
END:VEVENT
BEGIN:VEVENT
UID:301869e71ae66482327340@hockeytech.com
TZID:UTC
DTSTART:20241004T230000Z
DTEND:20241005T020000Z
DTSTAMP:20241004T230000
DESCRIPTION:You have booked some OHL games
LOCATION:Kitchener Memorial Auditorium
SUMMARY:Flint Firebirds @ Kitchener Rangers
STATUS:CONFIRMED
END:VEVENT
BEGIN:VEVENT
UID:301869e71ae66482327350@hockeytech.com
TZID:UTC
DTSTART:20241005T230000Z
DTEND:20241006T020000Z
DTSTAMP:20241005T230000
DESCRIPTION:You have booked some OHL games
LOCATION:Harry Lumley Bayshore Community Centre
SUMMARY:Kitchener Rangers @ Owen Sound Attack
STATUS:CONFIRMED
END:VEVENT
BEGIN:VEVENT
UID:301869e71ae66482327353@hockeytech.com
TZID:UTC
DTSTART:20241006T220000Z
DTEND:20241007T010000Z
DTSTAMP:20241006T220000
DESCRIPTION:You have booked some OHL games
LOCATION:Kitchener Memorial Auditorium
SUMMARY:Guelph Storm @ Kitchener Rangers
STATUS:CONFIRMED
END:VEVENT
BEGIN:VEVENT
UID:301869e71ae66482327358@hockeytech.com
TZID:UTC
DTSTART:20241009T230000Z
DTEND:20241010T020000Z
DTSTAMP:20241009T230000
DESCRIPTION:You have booked some OHL games
LOCATION:Dort Financial Center
SUMMARY:Kitchener Rangers @ Flint Firebirds
STATUS:CONFIRMED
END:VEVENT
BEGIN:VEVENT
UID:301869e71ae66482327368@hockeytech.com
TZID:UTC
DTSTART:20241011T230700Z
DTEND:20241012T020700Z
DTSTAMP:20241011T230700
DESCRIPTION:You have booked some OHL games
LOCATION:GFL Memorial Gardens
SUMMARY:Kitchener Rangers @ Soo Greyhounds
STATUS:CONFIRMED
END:VEVENT
BEGIN:VEVENT
UID:301869e71ae66482327377@hockeytech.com
TZID:UTC
DTSTART:20241012T230500Z
DTEND:20241013T020500Z
DTSTAMP:20241012T230500
DESCRIPTION:You have booked some OHL games
LOCATION:Dow Event Center
SUMMARY:Kitchener Rangers @ Saginaw Spirit
STATUS:CONFIRMED
END:VEVENT
BEGIN:VEVENT
UID:301869e71ae66482327392@hockeytech.com
TZID:UTC
DTSTART:20241018T230000Z
DTEND:20241019T020000Z
DTSTAMP:20241018T230000
DESCRIPTION:You have booked some OHL games
LOCATION:Kitchener Memorial Auditorium
SUMMARY:Niagara IceDogs @ Kitchener Rangers
STATUS:CONFIRMED
END:VEVENT
BEGIN:VEVENT
UID:301869e71ae66482327400@hockeytech.com
TZID:UTC
DTSTART:20241019T200700Z
DTEND:20241019T230700Z
DTSTAMP:20241019T200700
DESCRIPTION:You have booked some OHL games
LOCATION:Sleeman Centre
SUMMARY:Kitchener Rangers @ Guelph Storm
STATUS:CONFIRMED
END:VEVENT
BEGIN:VEVENT
UID:301869e71ae66482327402@hockeytech.com
TZID:UTC
DTSTART:20241020T220000Z
DTEND:20241021T010000Z
DTSTAMP:20241020T220000
DESCRIPTION:You have booked some OHL games
LOCATION:Kitchener Memorial Auditorium
SUMMARY:Guelph Storm @ Kitchener Rangers
STATUS:CONFIRMED
END:VEVENT
BEGIN:VEVENT
UID:301869e71ae66482327419@hockeytech.com
TZID:UTC
DTSTART:20241025T230000Z
DTEND:20241026T020000Z
DTSTAMP:20241025T230000
DESCRIPTION:You have booked some OHL games
LOCATION:Kitchener Memorial Auditorium
SUMMARY:Erie Otters @ Kitchener Rangers
STATUS:CONFIRMED
END:VEVENT
BEGIN:VEVENT
UID:301869e71ae66482327426@hockeytech.com
TZID:UTC
DTSTART:20241026T230000Z
DTEND:20241027T020000Z
DTSTAMP:20241026T230000
DESCRIPTION:You have booked some OHL games
LOCATION:Erie Insurance Arena
SUMMARY:Kitchener Rangers @ Erie Otters
STATUS:CONFIRMED
END:VEVENT
BEGIN:VEVENT
UID:301869e71ae66482327436@hockeytech.com
TZID:UTC
DTSTART:20241029T230000Z
DTEND:20241030T020000Z
DTSTAMP:20241029T230000
DESCRIPTION:You have booked some OHL games
LOCATION:Kitchener Memorial Auditorium
SUMMARY:Sarnia Sting @ Kitchener Rangers
STATUS:CONFIRMED
END:VEVENT
BEGIN:VEVENT
UID:301869e71ae66482327443@hockeytech.com
TZID:UTC
DTSTART:20241101T230000Z
DTEND:20241102T020000Z
DTSTAMP:20241101T230000
DESCRIPTION:You have booked some OHL games
LOCATION:Kitchener Memorial Auditorium
SUMMARY:Sudbury Wolves @ Kitchener Rangers
STATUS:CONFIRMED
END:VEVENT
BEGIN:VEVENT
UID:301869e71ae66482327454@hockeytech.com
TZID:UTC
DTSTART:20241103T190000Z
DTEND:20241103T220000Z
DTSTAMP:20241103T190000
DESCRIPTION:You have booked some OHL games
LOCATION:Kitchener Memorial Auditorium
SUMMARY:Saginaw Spirit @ Kitchener Rangers
STATUS:CONFIRMED
END:VEVENT
BEGIN:VEVENT
UID:301869e71ae66482327472@hockeytech.com
TZID:UTC
DTSTART:20241109T000000Z
DTEND:20241109T030000Z
DTSTAMP:20241109T000000
DESCRIPTION:You have booked some OHL games
LOCATION:Kitchener Memorial Auditorium
SUMMARY:Soo Greyhounds @ Kitchener Rangers
STATUS:CONFIRMED
END:VEVENT
BEGIN:VEVENT
UID:301869e71ae66482327482@hockeytech.com
TZID:UTC
DTSTART:20241110T000000Z
DTEND:20241110T030000Z
DTSTAMP:20241110T000000
DESCRIPTION:You have booked some OHL games
LOCATION:Harry Lumley Bayshore Community Centre
SUMMARY:Kitchener Rangers @ Owen Sound Attack
STATUS:CONFIRMED
END:VEVENT
BEGIN:VEVENT
UID:301869e71ae66482327486@hockeytech.com
TZID:UTC
DTSTART:20241110T230500Z
DTEND:20241111T020500Z
DTSTAMP:20241110T230500
DESCRIPTION:You have booked some OHL games
LOCATION:Tribute Communities Centre
SUMMARY:Kitchener Rangers @ Oshawa Generals
STATUS:CONFIRMED
END:VEVENT
BEGIN:VEVENT
UID:301869e71ae66482327499@hockeytech.com
TZID:UTC
DTSTART:20241116T000000Z
DTEND:20241116T030000Z
DTSTAMP:20241116T000000
DESCRIPTION:You have booked some OHL games
LOCATION:Kitchener Memorial Auditorium
SUMMARY:Peterborough Petes @ Kitchener Rangers
STATUS:CONFIRMED
END:VEVENT
BEGIN:VEVENT
UID:301869e71ae66482327515@hockeytech.com
TZID:UTC
DTSTART:20241117T190500Z
DTEND:20241117T220500Z
DTSTAMP:20241117T190500
DESCRIPTION:You have booked some OHL games
LOCATION:Progressive Auto Sales Arena
SUMMARY:Kitchener Rangers @ Sarnia Sting
STATUS:CONFIRMED
END:VEVENT
BEGIN:VEVENT
UID:301869e71ae66482327516@hockeytech.com
TZID:UTC
DTSTART:20241120T000000Z
DTEND:20241120T030000Z
DTSTAMP:20241120T000000
DESCRIPTION:You have booked some OHL games
LOCATION:Kitchener Memorial Auditorium
SUMMARY:London Knights @ Kitchener Rangers
STATUS:CONFIRMED
END:VEVENT
BEGIN:VEVENT
UID:301869e71ae66482327526@hockeytech.com
TZID:UTC
DTSTART:20241123T000000Z
DTEND:20241123T030000Z
DTSTAMP:20241123T000000
DESCRIPTION:You have booked some OHL games
LOCATION:Kitchener Memorial Auditorium
SUMMARY:Windsor Spitfires @ Kitchener Rangers
STATUS:CONFIRMED
END:VEVENT
BEGIN:VEVENT
UID:301869e71ae66482327532@hockeytech.com
TZID:UTC
DTSTART:20241124T000000Z
DTEND:20241124T030000Z
DTSTAMP:20241124T000000
DESCRIPTION:You have booked some OHL games
LOCATION:Erie Insurance Arena
SUMMARY:Kitchener Rangers @ Erie Otters
STATUS:CONFIRMED
END:VEVENT
BEGIN:VEVENT
UID:301869e71ae66482327552@hockeytech.com
TZID:UTC
DTSTART:20241130T000000Z
DTEND:20241130T030000Z
DTSTAMP:20241130T000000
DESCRIPTION:You have booked some OHL games
LOCATION:Kitchener Memorial Auditorium
SUMMARY:Owen Sound Attack @ Kitchener Rangers
STATUS:CONFIRMED
END:VEVENT
BEGIN:VEVENT
UID:301869e71ae66482327564@hockeytech.com
TZID:UTC
DTSTART:20241201T190700Z
DTEND:20241201T220700Z
DTSTAMP:20241201T190700
DESCRIPTION:You have booked some OHL games
LOCATION:Sleeman Centre
SUMMARY:Kitchener Rangers @ Guelph Storm
STATUS:CONFIRMED
END:VEVENT
BEGIN:VEVENT
UID:301869e71ae66482327569@hockeytech.com
TZID:UTC
DTSTART:20241204T000000Z
DTEND:20241204T030000Z
DTSTAMP:20241204T000000
DESCRIPTION:You have booked some OHL games
LOCATION:Kitchener Memorial Auditorium
SUMMARY:Brantford Bulldogs @ Kitchener Rangers
STATUS:CONFIRMED
END:VEVENT
BEGIN:VEVENT
UID:301869e71ae66482327580@hockeytech.com
TZID:UTC
DTSTART:20241207T000000Z
DTEND:20241207T030000Z
DTSTAMP:20241207T000000
DESCRIPTION:You have booked some OHL games
LOCATION:Kitchener Memorial Auditorium
SUMMARY:Soo Greyhounds @ Kitchener Rangers
STATUS:CONFIRMED
END:VEVENT
BEGIN:VEVENT
UID:301869e71ae66482327588@hockeytech.com
TZID:UTC
DTSTART:20241208T000500Z
DTEND:20241208T030500Z
DTSTAMP:20241208T000500
DESCRIPTION:You have booked some OHL games
LOCATION:WFCU Centre
SUMMARY:Kitchener Rangers @ Windsor Spitfires
STATUS:CONFIRMED
END:VEVENT
BEGIN:VEVENT
UID:301869e71ae66482327605@hockeytech.com
TZID:UTC
DTSTART:20241214T000000Z
DTEND:20241214T030000Z
DTSTAMP:20241214T000000
DESCRIPTION:You have booked some OHL games
LOCATION:Kitchener Memorial Auditorium
SUMMARY:Kingston Frontenacs @ Kitchener Rangers
STATUS:CONFIRMED
END:VEVENT
BEGIN:VEVENT
UID:301869e71ae66482327618@hockeytech.com
TZID:UTC
DTSTART:20241215T210000Z
DTEND:20241216T000000Z
DTSTAMP:20241215T210000
DESCRIPTION:You have booked some OHL games
LOCATION:Canada Life Place
SUMMARY:Kitchener Rangers @ London Knights
STATUS:CONFIRMED
END:VEVENT
BEGIN:VEVENT
UID:301869e71ae66482327628@hockeytech.com
TZID:UTC
DTSTART:20241219T000500Z
DTEND:20241219T030500Z
DTSTAMP:20241219T000500
DESCRIPTION:You have booked some OHL games
LOCATION:Progressive Auto Sales Arena
SUMMARY:Kitchener Rangers @ Sarnia Sting
STATUS:CONFIRMED
END:VEVENT
BEGIN:VEVENT
UID:301869e71ae66482327635@hockeytech.com
TZID:UTC
DTSTART:20241221T000000Z
DTEND:20241221T030000Z
DTSTAMP:20241221T000000
DESCRIPTION:You have booked some OHL games
LOCATION:Kitchener Memorial Auditorium
SUMMARY:Ottawa 67's @ Kitchener Rangers
STATUS:CONFIRMED
END:VEVENT
BEGIN:VEVENT
UID:301869e71ae66482327653@hockeytech.com
TZID:UTC
DTSTART:20241229T190500Z
DTEND:20241229T220500Z
DTSTAMP:20241229T190500
DESCRIPTION:You have booked some OHL games
LOCATION:Sudbury Community Arena
SUMMARY:Kitchener Rangers @ Sudbury Wolves
STATUS:CONFIRMED
END:VEVENT
BEGIN:VEVENT
UID:301869e71ae66482327660@hockeytech.com
TZID:UTC
DTSTART:20241231T180000Z
DTEND:20241231T210000Z
DTSTAMP:20241231T180000
DESCRIPTION:You have booked some OHL games
LOCATION:North Bay Memorial Gardens
SUMMARY:Kitchener Rangers @ North Bay Battalion
STATUS:CONFIRMED
END:VEVENT
BEGIN:VEVENT
UID:301869e71ae66482327666@hockeytech.com
TZID:UTC
DTSTART:20250103T000000Z
DTEND:20250103T030000Z
DTSTAMP:20250103T000000
DESCRIPTION:You have booked some OHL games
LOCATION:Brantford Civic Centre
SUMMARY:Kitchener Rangers @ Brantford Bulldogs
STATUS:CONFIRMED
END:VEVENT
BEGIN:VEVENT
UID:301869e71ae66482327673@hockeytech.com
TZID:UTC
DTSTART:20250104T000000Z
DTEND:20250104T030000Z
DTSTAMP:20250104T000000
DESCRIPTION:You have booked some OHL games
LOCATION:Kitchener Memorial Auditorium
SUMMARY:Erie Otters @ Kitchener Rangers
STATUS:CONFIRMED
END:VEVENT
BEGIN:VEVENT
UID:301869e71ae66482327684@hockeytech.com
TZID:UTC
DTSTART:20250105T190700Z
DTEND:20250105T220700Z
DTSTAMP:20250105T190700
DESCRIPTION:You have booked some OHL games
LOCATION:Sleeman Centre
SUMMARY:Kitchener Rangers @ Guelph Storm
STATUS:CONFIRMED
END:VEVENT
BEGIN:VEVENT
UID:301869e71ae66482327698@hockeytech.com
TZID:UTC
DTSTART:20250111T000000Z
DTEND:20250111T030000Z
DTSTAMP:20250111T000000
DESCRIPTION:You have booked some OHL games
LOCATION:Kitchener Memorial Auditorium
SUMMARY:Brampton Steelheads @ Kitchener Rangers
STATUS:CONFIRMED
END:VEVENT
BEGIN:VEVENT
UID:301869e71ae66482327704@hockeytech.com
TZID:UTC
DTSTART:20250112T003000Z
DTEND:20250112T033000Z
DTSTAMP:20250112T003000
DESCRIPTION:You have booked some OHL games
LOCATION:Sadlon Arena
SUMMARY:Kitchener Rangers @ Barrie Colts
STATUS:CONFIRMED
END:VEVENT
BEGIN:VEVENT
UID:301869e71ae66482327711@hockeytech.com
TZID:UTC
DTSTART:20250112T230000Z
DTEND:20250113T020000Z
DTSTAMP:20250112T230000
DESCRIPTION:You have booked some OHL games
LOCATION:Kitchener Memorial Auditorium
SUMMARY:Saginaw Spirit @ Kitchener Rangers
STATUS:CONFIRMED
END:VEVENT
BEGIN:VEVENT
UID:301869e71ae66482327720@hockeytech.com
TZID:UTC
DTSTART:20250118T000000Z
DTEND:20250118T030000Z
DTSTAMP:20250118T000000
DESCRIPTION:You have booked some OHL games
LOCATION:Kitchener Memorial Auditorium
SUMMARY:Flint Firebirds @ Kitchener Rangers
STATUS:CONFIRMED
END:VEVENT
BEGIN:VEVENT
UID:301869e71ae66482327726@hockeytech.com
TZID:UTC
DTSTART:20250118T210000Z
DTEND:20250119T000000Z
DTSTAMP:20250118T210000
DESCRIPTION:You have booked some OHL games
LOCATION:CAA Centre
SUMMARY:Kitchener Rangers @ Brampton Steelheads
STATUS:CONFIRMED
END:VEVENT
BEGIN:VEVENT
UID:301869e71ae66482327738@hockeytech.com
TZID:UTC
DTSTART:20250122T000000Z
DTEND:20250122T030000Z
DTSTAMP:20250122T000000
DESCRIPTION:You have booked some OHL games
LOCATION:Kitchener Memorial Auditorium
SUMMARY:London Knights @ Kitchener Rangers
STATUS:CONFIRMED
END:VEVENT
BEGIN:VEVENT
UID:301869e71ae66482327748@hockeytech.com
TZID:UTC
DTSTART:20250125T000000Z
DTEND:20250125T030000Z
DTSTAMP:20250125T000000
DESCRIPTION:You have booked some OHL games
LOCATION:Kitchener Memorial Auditorium
SUMMARY:Owen Sound Attack @ Kitchener Rangers
STATUS:CONFIRMED
END:VEVENT
BEGIN:VEVENT
UID:301869e71ae66482327754@hockeytech.com
TZID:UTC
DTSTART:20250126T000000Z
DTEND:20250126T030000Z
DTSTAMP:20250126T000000
DESCRIPTION:You have booked some OHL games
LOCATION:Erie Insurance Arena
SUMMARY:Kitchener Rangers @ Erie Otters
STATUS:CONFIRMED
END:VEVENT
BEGIN:VEVENT
UID:301869e71ae66482327765@hockeytech.com
TZID:UTC
DTSTART:20250130T000700Z
DTEND:20250130T030700Z
DTSTAMP:20250130T000700
DESCRIPTION:You have booked some OHL games
LOCATION:GFL Memorial Gardens
SUMMARY:Kitchener Rangers @ Soo Greyhounds
STATUS:CONFIRMED
END:VEVENT
BEGIN:VEVENT
UID:301869e71ae66482327772@hockeytech.com
TZID:UTC
DTSTART:20250201T000000Z
DTEND:20250201T030000Z
DTSTAMP:20250201T000000
DESCRIPTION:You have booked some OHL games
LOCATION:Dort Financial Center
SUMMARY:Kitchener Rangers @ Flint Firebirds
STATUS:CONFIRMED
END:VEVENT
BEGIN:VEVENT
UID:301869e71ae66482327782@hockeytech.com
TZID:UTC
DTSTART:20250202T000500Z
DTEND:20250202T030500Z
DTSTAMP:20250202T000500
DESCRIPTION:You have booked some OHL games
LOCATION:Dow Event Center
SUMMARY:Kitchener Rangers @ Saginaw Spirit
STATUS:CONFIRMED
END:VEVENT
BEGIN:VEVENT
UID:301869e71ae66482327792@hockeytech.com
TZID:UTC
DTSTART:20250204T233000Z
DTEND:20250205T023000Z
DTSTAMP:20250204T233000
DESCRIPTION:You have booked some OHL games
LOCATION:Canada Life Place
SUMMARY:Kitchener Rangers @ London Knights
STATUS:CONFIRMED
END:VEVENT
BEGIN:VEVENT
UID:301869e71ae66482327802@hockeytech.com
TZID:UTC
DTSTART:20250208T000000Z
DTEND:20250208T030000Z
DTSTAMP:20250208T000000
DESCRIPTION:You have booked some OHL games
LOCATION:Kitchener Memorial Auditorium
SUMMARY:Owen Sound Attack @ Kitchener Rangers
STATUS:CONFIRMED
END:VEVENT
BEGIN:VEVENT
UID:301869e71ae66482327811@hockeytech.com
TZID:UTC
DTSTART:20250209T000000Z
DTEND:20250209T030000Z
DTSTAMP:20250209T000000
DESCRIPTION:You have booked some OHL games
LOCATION:Meridian Centre
SUMMARY:Kitchener Rangers @ Niagara IceDogs
STATUS:CONFIRMED
END:VEVENT
BEGIN:VEVENT
UID:301869e71ae66482327818@hockeytech.com
TZID:UTC
DTSTART:20250212T000000Z
DTEND:20250212T030000Z
DTSTAMP:20250212T000000
DESCRIPTION:You have booked some OHL games
LOCATION:Kitchener Memorial Auditorium
SUMMARY:Oshawa Generals @ Kitchener Rangers
STATUS:CONFIRMED
END:VEVENT
BEGIN:VEVENT
UID:301869e71ae66482327831@hockeytech.com
TZID:UTC
DTSTART:20250215T000000Z
DTEND:20250215T030000Z
DTSTAMP:20250215T000000
DESCRIPTION:You have booked some OHL games
LOCATION:Slush Puppie Place
SUMMARY:Kitchener Rangers @ Kingston Frontenacs
STATUS:CONFIRMED
END:VEVENT
BEGIN:VEVENT
UID:301869e71ae66482327843@hockeytech.com
TZID:UTC
DTSTART:20250216T190000Z
DTEND:20250216T220000Z
DTSTAMP:20250216T190000
DESCRIPTION:You have booked some OHL games
LOCATION:TD Place
SUMMARY:Kitchener Rangers @ Ottawa 67's
STATUS:CONFIRMED
END:VEVENT
BEGIN:VEVENT
UID:301869e71ae66482327851@hockeytech.com
TZID:UTC
DTSTART:20250217T200500Z
DTEND:20250217T230500Z
DTSTAMP:20250217T200500
DESCRIPTION:You have booked some OHL games
LOCATION:Peterborough Memorial Centre
SUMMARY:Kitchener Rangers @ Peterborough Petes
STATUS:CONFIRMED
END:VEVENT
BEGIN:VEVENT
UID:301869e71ae66482327861@hockeytech.com
TZID:UTC
DTSTART:20250222T000000Z
DTEND:20250222T030000Z
DTSTAMP:20250222T000000
DESCRIPTION:You have booked some OHL games
LOCATION:Kitchener Memorial Auditorium
SUMMARY:Barrie Colts @ Kitchener Rangers
STATUS:CONFIRMED
END:VEVENT
BEGIN:VEVENT
UID:301869e71ae66482327873@hockeytech.com
TZID:UTC
DTSTART:20250223T230000Z
DTEND:20250224T020000Z
DTSTAMP:20250223T230000
DESCRIPTION:You have booked some OHL games
LOCATION:Canada Life Place
SUMMARY:Kitchener Rangers @ London Knights
STATUS:CONFIRMED
END:VEVENT
BEGIN:VEVENT
UID:301869e71ae66482327879@hockeytech.com
TZID:UTC
DTSTART:20250226T000000Z
DTEND:20250226T030000Z
DTSTAMP:20250226T000000
DESCRIPTION:You have booked some OHL games
LOCATION:Kitchener Memorial Auditorium
SUMMARY:Guelph Storm @ Kitchener Rangers
STATUS:CONFIRMED
END:VEVENT
BEGIN:VEVENT
UID:301869e71ae66482327890@hockeytech.com
TZID:UTC
DTSTART:20250301T000000Z
DTEND:20250301T030000Z
DTSTAMP:20250301T000000
DESCRIPTION:You have booked some OHL games
LOCATION:Kitchener Memorial Auditorium
SUMMARY:Sarnia Sting @ Kitchener Rangers
STATUS:CONFIRMED
END:VEVENT
BEGIN:VEVENT
UID:301869e71ae66482327899@hockeytech.com
TZID:UTC
DTSTART:20250302T000000Z
DTEND:20250302T030000Z
DTSTAMP:20250302T000000
DESCRIPTION:You have booked some OHL games
LOCATION:Harry Lumley Bayshore Community Centre
SUMMARY:Kitchener Rangers @ Owen Sound Attack
STATUS:CONFIRMED
END:VEVENT
BEGIN:VEVENT
UID:301869e71ae66482327918@hockeytech.com
TZID:UTC
DTSTART:20250308T000000Z
DTEND:20250308T030000Z
DTSTAMP:20250308T000000
DESCRIPTION:You have booked some OHL games
LOCATION:Kitchener Memorial Auditorium
SUMMARY:Windsor Spitfires @ Kitchener Rangers
STATUS:CONFIRMED
END:VEVENT
BEGIN:VEVENT
UID:301869e71ae66482327927@hockeytech.com
TZID:UTC
DTSTART:20250309T180000Z
DTEND:20250309T210000Z
DTSTAMP:20250309T180000
DESCRIPTION:You have booked some OHL games
LOCATION:Kitchener Memorial Auditorium
SUMMARY:Guelph Storm @ Kitchener Rangers
STATUS:CONFIRMED
END:VEVENT
BEGIN:VEVENT
UID:301869e71ae66482327946@hockeytech.com
TZID:UTC
DTSTART:20250314T230000Z
DTEND:20250315T020000Z
DTSTAMP:20250314T230000
DESCRIPTION:You have booked some OHL games
LOCATION:Kitchener Memorial Auditorium
SUMMARY:North Bay Battalion @ Kitchener Rangers
STATUS:CONFIRMED
END:VEVENT
BEGIN:VEVENT
UID:301869e71ae66482327954@hockeytech.com
TZID:UTC
DTSTART:20250315T230000Z
DTEND:20250316T020000Z
DTSTAMP:20250315T230000
DESCRIPTION:You have booked some OHL games
LOCATION:Harry Lumley Bayshore Community Centre
SUMMARY:Kitchener Rangers @ Owen Sound Attack
STATUS:CONFIRMED
END:VEVENT
BEGIN:VEVENT
UID:301869e71ae66482327963@hockeytech.com
TZID:UTC
DTSTART:20250318T230000Z
DTEND:20250319T020000Z
DTSTAMP:20250318T230000
DESCRIPTION:You have booked some OHL games
LOCATION:Kitchener Memorial Auditorium
SUMMARY:London Knights @ Kitchener Rangers
STATUS:CONFIRMED
END:VEVENT
BEGIN:VEVENT
UID:301869e71ae66482327974@hockeytech.com
TZID:UTC
DTSTART:20250321T230000Z
DTEND:20250322T020000Z
DTSTAMP:20250321T230000
DESCRIPTION:You have booked some OHL games
LOCATION:Kitchener Memorial Auditorium
SUMMARY:Owen Sound Attack @ Kitchener Rangers
STATUS:CONFIRMED
END:VEVENT
BEGIN:VEVENT
UID:301869e71ae66482327987@hockeytech.com
TZID:UTC
DTSTART:20250323T180700Z
DTEND:20250323T210700Z
DTSTAMP:20250323T180700
DESCRIPTION:You have booked some OHL games
LOCATION:Sleeman Centre
SUMMARY:Kitchener Rangers @ Guelph Storm
STATUS:CONFIRMED
END:VEVENT
END:VCALENDAR