BEGIN:VCALENDAR
VERSION:2.0
PRODID:-//Hockeytech//Leaguestat iCal//EN
BEGIN:VEVENT
UID:1380869ecbcaebb8bc27992@hockeytech.com
TZID:UTC
DTSTART:20240830T230000Z
DTEND:20240831T020000Z
DTSTAMP:20240830T230000
DESCRIPTION:You have booked some OHL games
LOCATION:Kitchener Memorial Auditorium
SUMMARY:Erie Otters @ Kitchener Rangers
STATUS:CONFIRMED
END:VEVENT
BEGIN:VEVENT
UID:1380869ecbcaebb8bc27993@hockeytech.com
TZID:UTC
DTSTART:20240830T180000Z
DTEND:20240830T210000Z
DTSTAMP:20240830T180000
DESCRIPTION:You have booked some OHL games
LOCATION:Kitchener Memorial Auditorium
SUMMARY:Brantford Bulldogs @ Saginaw Spirit
STATUS:CONFIRMED
END:VEVENT
BEGIN:VEVENT
UID:1380869ecbcaebb8bc27994@hockeytech.com
TZID:UTC
DTSTART:20240831T233000Z
DTEND:20240901T023000Z
DTSTAMP:20240831T233000
DESCRIPTION:You have booked some OHL games
LOCATION:Sadlon Arena
SUMMARY:Oshawa Generals @ Barrie Colts
STATUS:CONFIRMED
END:VEVENT
BEGIN:VEVENT
UID:1380869ecbcaebb8bc27995@hockeytech.com
TZID:UTC
DTSTART:20240831T180000Z
DTEND:20240831T210000Z
DTSTAMP:20240831T180000
DESCRIPTION:You have booked some OHL games
LOCATION:Kitchener Memorial Auditorium
SUMMARY:Erie Otters @ Brantford Bulldogs
STATUS:CONFIRMED
END:VEVENT
BEGIN:VEVENT
UID:1380869ecbcaebb8bc27996@hockeytech.com
TZID:UTC
DTSTART:20240831T220000Z
DTEND:20240901T010000Z
DTSTAMP:20240831T220000
DESCRIPTION:You have booked some OHL games
LOCATION:Kitchener Memorial Auditorium
SUMMARY:Saginaw Spirit @ Kitchener Rangers
STATUS:CONFIRMED
END:VEVENT
BEGIN:VEVENT
UID:1380869ecbcaebb8bc27997@hockeytech.com
TZID:UTC
DTSTART:20240901T180000Z
DTEND:20240901T210000Z
DTSTAMP:20240901T180000
DESCRIPTION:You have booked some OHL games
LOCATION:CAA Centre
SUMMARY:Guelph Storm @ Brampton Steelheads
STATUS:CONFIRMED
END:VEVENT
BEGIN:VEVENT
UID:1380869ecbcaebb8bc27998@hockeytech.com
TZID:UTC
DTSTART:20240901T180000Z
DTEND:20240901T210000Z
DTSTAMP:20240901T180000
DESCRIPTION:You have booked some OHL games
LOCATION:Slush Puppie Place
SUMMARY:Ottawa 67's @ Kingston Frontenacs
STATUS:CONFIRMED
END:VEVENT
BEGIN:VEVENT
UID:1380869ecbcaebb8bc27999@hockeytech.com
TZID:UTC
DTSTART:20240901T183000Z
DTEND:20240901T213000Z
DTSTAMP:20240901T183000
DESCRIPTION:You have booked some OHL games
LOCATION:Kitchener Memorial Auditorium
SUMMARY:Brantford Bulldogs @ Kitchener Rangers
STATUS:CONFIRMED
END:VEVENT
BEGIN:VEVENT
UID:1380869ecbcaebb8bc28000@hockeytech.com
TZID:UTC
DTSTART:20240901T180500Z
DTEND:20240901T210500Z
DTSTAMP:20240901T180500
DESCRIPTION:You have booked some OHL games
LOCATION:Jack Burger Sports Complex
SUMMARY:Niagara IceDogs @ Peterborough Petes
STATUS:CONFIRMED
END:VEVENT
BEGIN:VEVENT
UID:1380869ecbcaebb8bc28001@hockeytech.com
TZID:UTC
DTSTART:20240901T150000Z
DTEND:20240901T180000Z
DTSTAMP:20240901T150000
DESCRIPTION:You have booked some OHL games
LOCATION:Kitchener Memorial Auditorium
SUMMARY:Erie Otters @ Saginaw Spirit
STATUS:CONFIRMED
END:VEVENT
BEGIN:VEVENT
UID:1380869ecbcaebb8bc28002@hockeytech.com
TZID:UTC
DTSTART:20240901T180700Z
DTEND:20240901T210700Z
DTSTAMP:20240901T180700
DESCRIPTION:You have booked some OHL games
LOCATION:GFL Memorial Gardens
SUMMARY:Sudbury Wolves @ Soo Greyhounds
STATUS:CONFIRMED
END:VEVENT
BEGIN:VEVENT
UID:1380869ecbcaebb8bc28003@hockeytech.com
TZID:UTC
DTSTART:20240902T220000Z
DTEND:20240903T010000Z
DTSTAMP:20240902T220000
DESCRIPTION:You have booked some OHL games
LOCATION:Sadlon Arena
SUMMARY:Owen Sound Attack @ Barrie Colts
STATUS:CONFIRMED
END:VEVENT
BEGIN:VEVENT
UID:1380869ecbcaebb8bc28004@hockeytech.com
TZID:UTC
DTSTART:20240906T230000Z
DTEND:20240907T020000Z
DTSTAMP:20240906T230000
DESCRIPTION:You have booked some OHL games
LOCATION:Brantford Civic Centre
SUMMARY:Niagara IceDogs @ Brantford Bulldogs
STATUS:CONFIRMED
END:VEVENT
BEGIN:VEVENT
UID:1380869ecbcaebb8bc28005@hockeytech.com
TZID:UTC
DTSTART:20240906T230700Z
DTEND:20240907T020700Z
DTSTAMP:20240906T230700
DESCRIPTION:You have booked some OHL games
LOCATION:Sleeman Centre
SUMMARY:Peterborough Petes @ Guelph Storm
STATUS:CONFIRMED
END:VEVENT
BEGIN:VEVENT
UID:1380869ecbcaebb8bc28006@hockeytech.com
TZID:UTC
DTSTART:20240906T230000Z
DTEND:20240907T020000Z
DTSTAMP:20240906T230000
DESCRIPTION:You have booked some OHL games
LOCATION:Kitchener Memorial Auditorium
SUMMARY:Brampton Steelheads @ Kitchener Rangers
STATUS:CONFIRMED
END:VEVENT
BEGIN:VEVENT
UID:1380869ecbcaebb8bc28007@hockeytech.com
TZID:UTC
DTSTART:20240906T230000Z
DTEND:20240907T020000Z
DTSTAMP:20240906T230000
DESCRIPTION:You have booked some OHL games
LOCATION:Budweiser Gardens
SUMMARY:Erie Otters @ London Knights
STATUS:CONFIRMED
END:VEVENT
BEGIN:VEVENT
UID:1380869ecbcaebb8bc28008@hockeytech.com
TZID:UTC
DTSTART:20240906T230000Z
DTEND:20240907T020000Z
DTSTAMP:20240906T230000
DESCRIPTION:You have booked some OHL games
LOCATION:North Bay Memorial Gardens
SUMMARY:Ottawa 67's @ North Bay Battalion
STATUS:CONFIRMED
END:VEVENT
BEGIN:VEVENT
UID:1380869ecbcaebb8bc28009@hockeytech.com
TZID:UTC
DTSTART:20240906T230500Z
DTEND:20240907T020500Z
DTSTAMP:20240906T230500
DESCRIPTION:You have booked some OHL games
LOCATION:Sudbury Community Arena
SUMMARY:Barrie Colts @ Sudbury Wolves
STATUS:CONFIRMED
END:VEVENT
BEGIN:VEVENT
UID:1380869ecbcaebb8bc28010@hockeytech.com
TZID:UTC
DTSTART:20240906T230500Z
DTEND:20240907T020500Z
DTSTAMP:20240906T230500
DESCRIPTION:You have booked some OHL games
LOCATION:WFCU Centre
SUMMARY:Sarnia Sting @ Windsor Spitfires
STATUS:CONFIRMED
END:VEVENT
BEGIN:VEVENT
UID:1380869ecbcaebb8bc28011@hockeytech.com
TZID:UTC
DTSTART:20240907T230000Z
DTEND:20240908T020000Z
DTSTAMP:20240907T230000
DESCRIPTION:You have booked some OHL games
LOCATION:CAA Centre
SUMMARY:Barrie Colts @ Brampton Steelheads
STATUS:CONFIRMED
END:VEVENT
BEGIN:VEVENT
UID:1380869ecbcaebb8bc28012@hockeytech.com
TZID:UTC
DTSTART:20240907T200000Z
DTEND:20240907T230000Z
DTSTAMP:20240907T200000
DESCRIPTION:You have booked some OHL games
LOCATION:Joe Thornton Community Centre
SUMMARY:London Knights @ Erie Otters
STATUS:CONFIRMED
END:VEVENT
BEGIN:VEVENT
UID:1380869ecbcaebb8bc28013@hockeytech.com
TZID:UTC
DTSTART:20240907T230700Z
DTEND:20240908T020700Z
DTSTAMP:20240907T230700
DESCRIPTION:You have booked some OHL games
LOCATION:Sleeman Centre
SUMMARY:Oshawa Generals @ Guelph Storm
STATUS:CONFIRMED
END:VEVENT
BEGIN:VEVENT
UID:1380869ecbcaebb8bc28014@hockeytech.com
TZID:UTC
DTSTART:20240907T230500Z
DTEND:20240908T020500Z
DTSTAMP:20240907T230500
DESCRIPTION:You have booked some OHL games
LOCATION:Progressive Auto Sales Arena
SUMMARY:Flint Firebirds @ Sarnia Sting
STATUS:CONFIRMED
END:VEVENT
BEGIN:VEVENT
UID:1380869ecbcaebb8bc28015@hockeytech.com
TZID:UTC
DTSTART:20240908T200000Z
DTEND:20240908T230000Z
DTSTAMP:20240908T200000
DESCRIPTION:You have booked some OHL games
LOCATION:Flint Iceland Arena
SUMMARY:Windsor Spitfires @ Flint Firebirds
STATUS:CONFIRMED
END:VEVENT
BEGIN:VEVENT
UID:1380869ecbcaebb8bc28016@hockeytech.com
TZID:UTC
DTSTART:20240908T180000Z
DTEND:20240908T210000Z
DTSTAMP:20240908T180000
DESCRIPTION:You have booked some OHL games
LOCATION:North Bay Memorial Gardens
SUMMARY:Owen Sound Attack @ North Bay Battalion
STATUS:CONFIRMED
END:VEVENT
BEGIN:VEVENT
UID:1380869ecbcaebb8bc28017@hockeytech.com
TZID:UTC
DTSTART:20240908T180000Z
DTEND:20240908T210000Z
DTSTAMP:20240908T180000
DESCRIPTION:You have booked some OHL games
LOCATION:Meridian Centre
SUMMARY:Brantford Bulldogs @ Niagara IceDogs
STATUS:CONFIRMED
END:VEVENT
BEGIN:VEVENT
UID:1380869ecbcaebb8bc28018@hockeytech.com
TZID:UTC
DTSTART:20240908T220500Z
DTEND:20240909T010500Z
DTSTAMP:20240908T220500
DESCRIPTION:You have booked some OHL games
LOCATION:Tribute Communities Centre
SUMMARY:Kitchener Rangers @ Oshawa Generals
STATUS:CONFIRMED
END:VEVENT
BEGIN:VEVENT
UID:1380869ecbcaebb8bc28019@hockeytech.com
TZID:UTC
DTSTART:20240908T190500Z
DTEND:20240908T220500Z
DTSTAMP:20240908T190500
DESCRIPTION:You have booked some OHL games
LOCATION:Norwood Arena
SUMMARY:Sudbury Wolves @ Peterborough Petes
STATUS:CONFIRMED
END:VEVENT
BEGIN:VEVENT
UID:1380869ecbcaebb8bc28020@hockeytech.com
TZID:UTC
DTSTART:20240917T230500Z
DTEND:20240918T020500Z
DTSTAMP:20240917T230500
DESCRIPTION:You have booked some OHL games
LOCATION:Progressive Auto Sales Arena
SUMMARY:Windsor Spitfires @ Sarnia Sting
STATUS:CONFIRMED
END:VEVENT
BEGIN:VEVENT
UID:1380869ecbcaebb8bc28021@hockeytech.com
TZID:UTC
DTSTART:20240918T230000Z
DTEND:20240919T020000Z
DTSTAMP:20240918T230000
DESCRIPTION:You have booked some OHL games
LOCATION:Harry Lumley Bayshore Community Centre
SUMMARY:Barrie Colts @ Owen Sound Attack
STATUS:CONFIRMED
END:VEVENT
BEGIN:VEVENT
UID:1380869ecbcaebb8bc28022@hockeytech.com
TZID:UTC
DTSTART:20240918T230700Z
DTEND:20240919T020700Z
DTSTAMP:20240918T230700
DESCRIPTION:You have booked some OHL games
LOCATION:GFL Memorial Gardens
SUMMARY:Saginaw Spirit @ Soo Greyhounds
STATUS:CONFIRMED
END:VEVENT
BEGIN:VEVENT
UID:1380869ecbcaebb8bc28023@hockeytech.com
TZID:UTC
DTSTART:20240919T230000Z
DTEND:20240920T020000Z
DTSTAMP:20240919T230000
DESCRIPTION:You have booked some OHL games
LOCATION:Sadlon Arena
SUMMARY:Brampton Steelheads @ Barrie Colts
STATUS:CONFIRMED
END:VEVENT
BEGIN:VEVENT
UID:1380869ecbcaebb8bc28024@hockeytech.com
TZID:UTC
DTSTART:20240919T230500Z
DTEND:20240920T020500Z
DTSTAMP:20240919T230500
DESCRIPTION:You have booked some OHL games
LOCATION:Vollmer Rec. Centre
SUMMARY:Flint Firebirds @ Windsor Spitfires
STATUS:CONFIRMED
END:VEVENT
BEGIN:VEVENT
UID:1380869ecbcaebb8bc28025@hockeytech.com
TZID:UTC
DTSTART:20240920T230000Z
DTEND:20240921T020000Z
DTSTAMP:20240920T230000
DESCRIPTION:You have booked some OHL games
LOCATION:Slush Puppie Place
SUMMARY:Peterborough Petes @ Kingston Frontenacs
STATUS:CONFIRMED
END:VEVENT
BEGIN:VEVENT
UID:1380869ecbcaebb8bc28026@hockeytech.com
TZID:UTC
DTSTART:20240920T230000Z
DTEND:20240921T020000Z
DTSTAMP:20240920T230000
DESCRIPTION:You have booked some OHL games
LOCATION:Budweiser Gardens
SUMMARY:Sarnia Sting @ London Knights
STATUS:CONFIRMED
END:VEVENT
BEGIN:VEVENT
UID:1380869ecbcaebb8bc28027@hockeytech.com
TZID:UTC
DTSTART:20240920T230000Z
DTEND:20240921T020000Z
DTSTAMP:20240920T230000
DESCRIPTION:You have booked some OHL games
LOCATION:TD Place
SUMMARY:North Bay Battalion @ Ottawa 67's
STATUS:CONFIRMED
END:VEVENT
BEGIN:VEVENT
UID:1380869ecbcaebb8bc28028@hockeytech.com
TZID:UTC
DTSTART:20240920T230500Z
DTEND:20240921T020500Z
DTSTAMP:20240920T230500
DESCRIPTION:You have booked some OHL games
LOCATION:Sudbury Community Arena
SUMMARY:Soo Greyhounds @ Sudbury Wolves
STATUS:CONFIRMED
END:VEVENT
BEGIN:VEVENT
UID:1380869ecbcaebb8bc28029@hockeytech.com
TZID:UTC
DTSTART:20240921T230000Z
DTEND:20240922T020000Z
DTSTAMP:20240921T230000
DESCRIPTION:You have booked some OHL games
LOCATION:Brantford Civic Centre
SUMMARY:Kitchener Rangers @ Brantford Bulldogs
STATUS:CONFIRMED
END:VEVENT
BEGIN:VEVENT
UID:1380869ecbcaebb8bc28030@hockeytech.com
TZID:UTC
DTSTART:20240921T230000Z
DTEND:20240922T020000Z
DTSTAMP:20240921T230000
DESCRIPTION:You have booked some OHL games
LOCATION:Cornwall Civic Complex
SUMMARY:Kingston Frontenacs @ Ottawa 67's
STATUS:CONFIRMED
END:VEVENT
BEGIN:VEVENT
UID:1380869ecbcaebb8bc28031@hockeytech.com
TZID:UTC
DTSTART:20240921T230500Z
DTEND:20240922T020500Z
DTSTAMP:20240921T230500
DESCRIPTION:You have booked some OHL games
LOCATION:Cavan Monaghan Comm. Centre
SUMMARY:Guelph Storm @ Peterborough Petes
STATUS:CONFIRMED
END:VEVENT
BEGIN:VEVENT
UID:1380869ecbcaebb8bc28032@hockeytech.com
TZID:UTC
DTSTART:20240921T230500Z
DTEND:20240922T020500Z
DTSTAMP:20240921T230500
DESCRIPTION:You have booked some OHL games
LOCATION:Progressive Auto Sales Arena
SUMMARY:London Knights @ Sarnia Sting
STATUS:CONFIRMED
END:VEVENT
BEGIN:VEVENT
UID:1380869ecbcaebb8bc28033@hockeytech.com
TZID:UTC
DTSTART:20240921T230500Z
DTEND:20240922T020500Z
DTSTAMP:20240921T230500
DESCRIPTION:You have booked some OHL games
LOCATION:Atlas Tube Centre
SUMMARY:Niagara IceDogs @ Windsor Spitfires
STATUS:CONFIRMED
END:VEVENT
BEGIN:VEVENT
UID:1380869ecbcaebb8bc28034@hockeytech.com
TZID:UTC
DTSTART:20240922T180000Z
DTEND:20240922T210000Z
DTSTAMP:20240922T180000
DESCRIPTION:You have booked some OHL games
LOCATION:Harry Lumley Bayshore Community Centre
SUMMARY:North Bay Battalion @ Owen Sound Attack
STATUS:CONFIRMED
END:VEVENT
BEGIN:VEVENT
UID:1380869ecbcaebb8bc28035@hockeytech.com
TZID:UTC
DTSTART:20240922T213000Z
DTEND:20240923T003000Z
DTSTAMP:20240922T213000
DESCRIPTION:You have booked some OHL games
LOCATION:Dow Event Center
SUMMARY:Soo Greyhounds @ Saginaw Spirit
STATUS:CONFIRMED
END:VEVENT
BEGIN:VEVENT
UID:1380869ecbcaebb8bc28036@hockeytech.com
TZID:UTC
DTSTART:20240920T233000Z
DTEND:20240921T023000Z
DTSTAMP:20240920T233000
DESCRIPTION:You have booked some OHL games
LOCATION:Dunnville Memorial Arena
SUMMARY:Oshawa Generals @ Erie Otters
STATUS:CONFIRMED
END:VEVENT
END:VCALENDAR