BEGIN:VCALENDAR
VERSION:2.0
PRODID:-//Hockeytech//Leaguestat iCal//EN
BEGIN:VEVENT
UID:536269e73bff4fc2226489@hockeytech.com
TZID:UTC
DTSTART:20230929T230500Z
DTEND:20230930T020500Z
DTSTAMP:20230929T230500
DESCRIPTION:You have booked some OHL games
LOCATION:Sudbury Community Arena
SUMMARY:Brantford Bulldogs @ Sudbury Wolves
STATUS:CONFIRMED
END:VEVENT
BEGIN:VEVENT
UID:536269e73bff4fc2226498@hockeytech.com
TZID:UTC
DTSTART:20231001T180500Z
DTEND:20231001T210500Z
DTSTAMP:20231001T180500
DESCRIPTION:You have booked some OHL games
LOCATION:Sudbury Community Arena
SUMMARY:North Bay Battalion @ Sudbury Wolves
STATUS:CONFIRMED
END:VEVENT
BEGIN:VEVENT
UID:536269e73bff4fc2226502@hockeytech.com
TZID:UTC
DTSTART:20231005T230500Z
DTEND:20231006T020500Z
DTSTAMP:20231005T230500
DESCRIPTION:You have booked some OHL games
LOCATION:Peterborough Memorial Centre
SUMMARY:Sudbury Wolves @ Peterborough Petes
STATUS:CONFIRMED
END:VEVENT
BEGIN:VEVENT
UID:536269e73bff4fc2226505@hockeytech.com
TZID:UTC
DTSTART:20231006T230000Z
DTEND:20231007T020000Z
DTSTAMP:20231006T230000
DESCRIPTION:You have booked some OHL games
LOCATION:Leon's Centre
SUMMARY:Sudbury Wolves @ Kingston Frontenacs
STATUS:CONFIRMED
END:VEVENT
BEGIN:VEVENT
UID:536269e73bff4fc2226514@hockeytech.com
TZID:UTC
DTSTART:20231007T190000Z
DTEND:20231007T220000Z
DTSTAMP:20231007T190000
DESCRIPTION:You have booked some OHL games
LOCATION:TD Place
SUMMARY:Sudbury Wolves @ Ottawa 67's
STATUS:CONFIRMED
END:VEVENT
BEGIN:VEVENT
UID:536269e73bff4fc2226534@hockeytech.com
TZID:UTC
DTSTART:20231013T230500Z
DTEND:20231014T020500Z
DTSTAMP:20231013T230500
DESCRIPTION:You have booked some OHL games
LOCATION:Sudbury Community Arena
SUMMARY:Owen Sound Attack @ Sudbury Wolves
STATUS:CONFIRMED
END:VEVENT
BEGIN:VEVENT
UID:536269e73bff4fc2226546@hockeytech.com
TZID:UTC
DTSTART:20231015T180500Z
DTEND:20231015T210500Z
DTSTAMP:20231015T180500
DESCRIPTION:You have booked some OHL games
LOCATION:Sudbury Community Arena
SUMMARY:Ottawa 67's @ Sudbury Wolves
STATUS:CONFIRMED
END:VEVENT
BEGIN:VEVENT
UID:536269e73bff4fc2226549@hockeytech.com
TZID:UTC
DTSTART:20231018T230500Z
DTEND:20231019T020500Z
DTSTAMP:20231018T230500
DESCRIPTION:You have booked some OHL games
LOCATION:Sudbury Community Arena
SUMMARY:Mississauga Steelheads @ Sudbury Wolves
STATUS:CONFIRMED
END:VEVENT
BEGIN:VEVENT
UID:536269e73bff4fc2226560@hockeytech.com
TZID:UTC
DTSTART:20231020T230500Z
DTEND:20231021T020500Z
DTSTAMP:20231020T230500
DESCRIPTION:You have booked some OHL games
LOCATION:Sudbury Community Arena
SUMMARY:Flint Firebirds @ Sudbury Wolves
STATUS:CONFIRMED
END:VEVENT
BEGIN:VEVENT
UID:536269e73bff4fc2226561@hockeytech.com
TZID:UTC
DTSTART:20231021T233000Z
DTEND:20231022T023000Z
DTSTAMP:20231021T233000
DESCRIPTION:You have booked some OHL games
LOCATION:Sadlon Arena
SUMMARY:Sudbury Wolves @ Barrie Colts
STATUS:CONFIRMED
END:VEVENT
BEGIN:VEVENT
UID:536269e73bff4fc2226587@hockeytech.com
TZID:UTC
DTSTART:20231027T230500Z
DTEND:20231028T020500Z
DTSTAMP:20231027T230500
DESCRIPTION:You have booked some OHL games
LOCATION:Sudbury Community Arena
SUMMARY:Guelph Storm @ Sudbury Wolves
STATUS:CONFIRMED
END:VEVENT
BEGIN:VEVENT
UID:536269e73bff4fc2226597@hockeytech.com
TZID:UTC
DTSTART:20231029T180000Z
DTEND:20231029T210000Z
DTSTAMP:20231029T180000
DESCRIPTION:You have booked some OHL games
LOCATION:North Bay Memorial Gardens
SUMMARY:Sudbury Wolves @ North Bay Battalion
STATUS:CONFIRMED
END:VEVENT
BEGIN:VEVENT
UID:536269e73bff4fc2226602@hockeytech.com
TZID:UTC
DTSTART:20231101T230500Z
DTEND:20231102T020500Z
DTSTAMP:20231101T230500
DESCRIPTION:You have booked some OHL games
LOCATION:Sudbury Community Arena
SUMMARY:North Bay Battalion @ Sudbury Wolves
STATUS:CONFIRMED
END:VEVENT
BEGIN:VEVENT
UID:536269e73bff4fc2226614@hockeytech.com
TZID:UTC
DTSTART:20231103T230500Z
DTEND:20231104T020500Z
DTSTAMP:20231103T230500
DESCRIPTION:You have booked some OHL games
LOCATION:Sudbury Community Arena
SUMMARY:Niagara IceDogs @ Sudbury Wolves
STATUS:CONFIRMED
END:VEVENT
BEGIN:VEVENT
UID:536269e73bff4fc2226629@hockeytech.com
TZID:UTC
DTSTART:20231110T000000Z
DTEND:20231110T030000Z
DTSTAMP:20231110T000000
DESCRIPTION:You have booked some OHL games
LOCATION:Meridian Centre
SUMMARY:Sudbury Wolves @ Niagara IceDogs
STATUS:CONFIRMED
END:VEVENT
BEGIN:VEVENT
UID:536269e73bff4fc2226634@hockeytech.com
TZID:UTC
DTSTART:20231111T000000Z
DTEND:20231111T030000Z
DTSTAMP:20231111T000000
DESCRIPTION:You have booked some OHL games
LOCATION:Erie Insurance Arena
SUMMARY:Sudbury Wolves @ Erie Otters
STATUS:CONFIRMED
END:VEVENT
BEGIN:VEVENT
UID:536269e73bff4fc2226642@hockeytech.com
TZID:UTC
DTSTART:20231111T210000Z
DTEND:20231112T000000Z
DTSTAMP:20231111T210000
DESCRIPTION:You have booked some OHL games
LOCATION:Brantford Civic Centre
SUMMARY:Sudbury Wolves @ Brantford Bulldogs
STATUS:CONFIRMED
END:VEVENT
BEGIN:VEVENT
UID:536269e73bff4fc2226657@hockeytech.com
TZID:UTC
DTSTART:20231116T000700Z
DTEND:20231116T030700Z
DTSTAMP:20231116T000700
DESCRIPTION:You have booked some OHL games
LOCATION:GFL Memorial Gardens
SUMMARY:Sudbury Wolves @ Soo Greyhounds
STATUS:CONFIRMED
END:VEVENT
BEGIN:VEVENT
UID:536269e73bff4fc2226669@hockeytech.com
TZID:UTC
DTSTART:20231118T000500Z
DTEND:20231118T030500Z
DTSTAMP:20231118T000500
DESCRIPTION:You have booked some OHL games
LOCATION:Sudbury Community Arena
SUMMARY:Peterborough Petes @ Sudbury Wolves
STATUS:CONFIRMED
END:VEVENT
BEGIN:VEVENT
UID:536269e73bff4fc2226677@hockeytech.com
TZID:UTC
DTSTART:20231119T190000Z
DTEND:20231119T220000Z
DTSTAMP:20231119T190000
DESCRIPTION:You have booked some OHL games
LOCATION:North Bay Memorial Gardens
SUMMARY:Sudbury Wolves @ North Bay Battalion
STATUS:CONFIRMED
END:VEVENT
BEGIN:VEVENT
UID:536269e73bff4fc2226693@hockeytech.com
TZID:UTC
DTSTART:20231125T000500Z
DTEND:20231125T030500Z
DTSTAMP:20231125T000500
DESCRIPTION:You have booked some OHL games
LOCATION:Sudbury Community Arena
SUMMARY:London Knights @ Sudbury Wolves
STATUS:CONFIRMED
END:VEVENT
BEGIN:VEVENT
UID:536269e73bff4fc2226704@hockeytech.com
TZID:UTC
DTSTART:20231126T230500Z
DTEND:20231127T020500Z
DTSTAMP:20231126T230500
DESCRIPTION:You have booked some OHL games
LOCATION:Tribute Communities Centre
SUMMARY:Sudbury Wolves @ Oshawa Generals
STATUS:CONFIRMED
END:VEVENT
BEGIN:VEVENT
UID:536269e73bff4fc2226708@hockeytech.com
TZID:UTC
DTSTART:20231128T000500Z
DTEND:20231128T030500Z
DTSTAMP:20231128T000500
DESCRIPTION:You have booked some OHL games
LOCATION:Peterborough Memorial Centre
SUMMARY:Sudbury Wolves @ Peterborough Petes
STATUS:CONFIRMED
END:VEVENT
BEGIN:VEVENT
UID:536269e73bff4fc2226722@hockeytech.com
TZID:UTC
DTSTART:20231202T000500Z
DTEND:20231202T030500Z
DTSTAMP:20231202T000500
DESCRIPTION:You have booked some OHL games
LOCATION:Sudbury Community Arena
SUMMARY:Barrie Colts @ Sudbury Wolves
STATUS:CONFIRMED
END:VEVENT
BEGIN:VEVENT
UID:536269e73bff4fc2226731@hockeytech.com
TZID:UTC
DTSTART:20231203T190000Z
DTEND:20231203T220000Z
DTSTAMP:20231203T190000
DESCRIPTION:You have booked some OHL games
LOCATION:Paramount Fine Foods Centre
SUMMARY:Sudbury Wolves @ Mississauga Steelheads
STATUS:CONFIRMED
END:VEVENT
BEGIN:VEVENT
UID:536269e73bff4fc2226740@hockeytech.com
TZID:UTC
DTSTART:20231207T000500Z
DTEND:20231207T030500Z
DTSTAMP:20231207T000500
DESCRIPTION:You have booked some OHL games
LOCATION:Sudbury Community Arena
SUMMARY:Soo Greyhounds @ Sudbury Wolves
STATUS:CONFIRMED
END:VEVENT
BEGIN:VEVENT
UID:536269e73bff4fc2226751@hockeytech.com
TZID:UTC
DTSTART:20231209T000500Z
DTEND:20231209T030500Z
DTSTAMP:20231209T000500
DESCRIPTION:You have booked some OHL games
LOCATION:Sudbury Community Arena
SUMMARY:Niagara IceDogs @ Sudbury Wolves
STATUS:CONFIRMED
END:VEVENT
BEGIN:VEVENT
UID:536269e73bff4fc2226763@hockeytech.com
TZID:UTC
DTSTART:20231210T190500Z
DTEND:20231210T220500Z
DTSTAMP:20231210T190500
DESCRIPTION:You have booked some OHL games
LOCATION:Sudbury Community Arena
SUMMARY:Kingston Frontenacs @ Sudbury Wolves
STATUS:CONFIRMED
END:VEVENT
BEGIN:VEVENT
UID:536269e73bff4fc2226774@hockeytech.com
TZID:UTC
DTSTART:20231216T000000Z
DTEND:20231216T030000Z
DTSTAMP:20231216T000000
DESCRIPTION:You have booked some OHL games
LOCATION:Dort Financial Center
SUMMARY:Sudbury Wolves @ Flint Firebirds
STATUS:CONFIRMED
END:VEVENT
BEGIN:VEVENT
UID:536269e73bff4fc2226787@hockeytech.com
TZID:UTC
DTSTART:20231217T000500Z
DTEND:20231217T030500Z
DTSTAMP:20231217T000500
DESCRIPTION:You have booked some OHL games
LOCATION:Dow Event Center
SUMMARY:Sudbury Wolves @ Saginaw Spirit
STATUS:CONFIRMED
END:VEVENT
BEGIN:VEVENT
UID:536269e73bff4fc2226789@hockeytech.com
TZID:UTC
DTSTART:20231217T190000Z
DTEND:20231217T220000Z
DTSTAMP:20231217T190000
DESCRIPTION:You have booked some OHL games
LOCATION:Budweiser Gardens
SUMMARY:Sudbury Wolves @ London Knights
STATUS:CONFIRMED
END:VEVENT
BEGIN:VEVENT
UID:536269e73bff4fc2226792@hockeytech.com
TZID:UTC
DTSTART:20231229T000000Z
DTEND:20231229T030000Z
DTSTAMP:20231229T000000
DESCRIPTION:You have booked some OHL games
LOCATION:Sadlon Arena
SUMMARY:Sudbury Wolves @ Barrie Colts
STATUS:CONFIRMED
END:VEVENT
BEGIN:VEVENT
UID:536269e73bff4fc2226804@hockeytech.com
TZID:UTC
DTSTART:20231230T000500Z
DTEND:20231230T030500Z
DTSTAMP:20231230T000500
DESCRIPTION:You have booked some OHL games
LOCATION:Sudbury Community Arena
SUMMARY:North Bay Battalion @ Sudbury Wolves
STATUS:CONFIRMED
END:VEVENT
BEGIN:VEVENT
UID:536269e73bff4fc2226810@hockeytech.com
TZID:UTC
DTSTART:20231231T000700Z
DTEND:20231231T030700Z
DTSTAMP:20231231T000700
DESCRIPTION:You have booked some OHL games
LOCATION:GFL Memorial Gardens
SUMMARY:Sudbury Wolves @ Soo Greyhounds
STATUS:CONFIRMED
END:VEVENT
BEGIN:VEVENT
UID:536269e73bff4fc2226836@hockeytech.com
TZID:UTC
DTSTART:20240106T000500Z
DTEND:20240106T030500Z
DTSTAMP:20240106T000500
DESCRIPTION:You have booked some OHL games
LOCATION:Sudbury Community Arena
SUMMARY:Brantford Bulldogs @ Sudbury Wolves
STATUS:CONFIRMED
END:VEVENT
BEGIN:VEVENT
UID:536269e73bff4fc2226844@hockeytech.com
TZID:UTC
DTSTART:20240107T000500Z
DTEND:20240107T030500Z
DTSTAMP:20240107T000500
DESCRIPTION:You have booked some OHL games
LOCATION:Sudbury Community Arena
SUMMARY:Kitchener Rangers @ Sudbury Wolves
STATUS:CONFIRMED
END:VEVENT
BEGIN:VEVENT
UID:536269e73bff4fc2226853@hockeytech.com
TZID:UTC
DTSTART:20240111T000500Z
DTEND:20240111T030500Z
DTSTAMP:20240111T000500
DESCRIPTION:You have booked some OHL games
LOCATION:Sudbury Community Arena
SUMMARY:Mississauga Steelheads @ Sudbury Wolves
STATUS:CONFIRMED
END:VEVENT
BEGIN:VEVENT
UID:536269e73bff4fc2226864@hockeytech.com
TZID:UTC
DTSTART:20240113T000500Z
DTEND:20240113T030500Z
DTSTAMP:20240113T000500
DESCRIPTION:You have booked some OHL games
LOCATION:Progressive Auto Sales Arena
SUMMARY:Sudbury Wolves @ Sarnia Sting
STATUS:CONFIRMED
END:VEVENT
BEGIN:VEVENT
UID:536269e73bff4fc2226871@hockeytech.com
TZID:UTC
DTSTART:20240114T000500Z
DTEND:20240114T030500Z
DTSTAMP:20240114T000500
DESCRIPTION:You have booked some OHL games
LOCATION:WFCU Centre
SUMMARY:Sudbury Wolves @ Windsor Spitfires
STATUS:CONFIRMED
END:VEVENT
BEGIN:VEVENT
UID:536269e73bff4fc2226879@hockeytech.com
TZID:UTC
DTSTART:20240119T000000Z
DTEND:20240119T030000Z
DTSTAMP:20240119T000000
DESCRIPTION:You have booked some OHL games
LOCATION:Sadlon Arena
SUMMARY:Sudbury Wolves @ Barrie Colts
STATUS:CONFIRMED
END:VEVENT
BEGIN:VEVENT
UID:536269e73bff4fc2226891@hockeytech.com
TZID:UTC
DTSTART:20240120T000500Z
DTEND:20240120T030500Z
DTSTAMP:20240120T000500
DESCRIPTION:You have booked some OHL games
LOCATION:Sudbury Community Arena
SUMMARY:Erie Otters @ Sudbury Wolves
STATUS:CONFIRMED
END:VEVENT
BEGIN:VEVENT
UID:536269e73bff4fc2226903@hockeytech.com
TZID:UTC
DTSTART:20240121T190500Z
DTEND:20240121T220500Z
DTSTAMP:20240121T190500
DESCRIPTION:You have booked some OHL games
LOCATION:Sudbury Community Arena
SUMMARY:Barrie Colts @ Sudbury Wolves
STATUS:CONFIRMED
END:VEVENT
BEGIN:VEVENT
UID:536269e73bff4fc2226906@hockeytech.com
TZID:UTC
DTSTART:20240126T000000Z
DTEND:20240126T030000Z
DTSTAMP:20240126T000000
DESCRIPTION:You have booked some OHL games
LOCATION:North Bay Memorial Gardens
SUMMARY:Sudbury Wolves @ North Bay Battalion
STATUS:CONFIRMED
END:VEVENT
BEGIN:VEVENT
UID:536269e73bff4fc2226915@hockeytech.com
TZID:UTC
DTSTART:20240127T000500Z
DTEND:20240127T030500Z
DTSTAMP:20240127T000500
DESCRIPTION:You have booked some OHL games
LOCATION:Sudbury Community Arena
SUMMARY:North Bay Battalion @ Sudbury Wolves
STATUS:CONFIRMED
END:VEVENT
BEGIN:VEVENT
UID:536269e73bff4fc2226933@hockeytech.com
TZID:UTC
DTSTART:20240202T000000Z
DTEND:20240202T030000Z
DTSTAMP:20240202T000000
DESCRIPTION:You have booked some OHL games
LOCATION:Meridian Centre
SUMMARY:Sudbury Wolves @ Niagara IceDogs
STATUS:CONFIRMED
END:VEVENT
BEGIN:VEVENT
UID:536269e73bff4fc2226937@hockeytech.com
TZID:UTC
DTSTART:20240203T000000Z
DTEND:20240203T030000Z
DTSTAMP:20240203T000000
DESCRIPTION:You have booked some OHL games
LOCATION:Brantford Civic Centre
SUMMARY:Sudbury Wolves @ Brantford Bulldogs
STATUS:CONFIRMED
END:VEVENT
BEGIN:VEVENT
UID:536269e73bff4fc2226956@hockeytech.com
TZID:UTC
DTSTART:20240204T190500Z
DTEND:20240204T220500Z
DTSTAMP:20240204T190500
DESCRIPTION:You have booked some OHL games
LOCATION:Sudbury Community Arena
SUMMARY:Mississauga Steelheads @ Sudbury Wolves
STATUS:CONFIRMED
END:VEVENT
BEGIN:VEVENT
UID:536269e73bff4fc2226960@hockeytech.com
TZID:UTC
DTSTART:20240208T000500Z
DTEND:20240208T030500Z
DTSTAMP:20240208T000500
DESCRIPTION:You have booked some OHL games
LOCATION:Sudbury Community Arena
SUMMARY:Soo Greyhounds @ Sudbury Wolves
STATUS:CONFIRMED
END:VEVENT
BEGIN:VEVENT
UID:536269e73bff4fc2226972@hockeytech.com
TZID:UTC
DTSTART:20240210T000500Z
DTEND:20240210T030500Z
DTSTAMP:20240210T000500
DESCRIPTION:You have booked some OHL games
LOCATION:Sudbury Community Arena
SUMMARY:Niagara IceDogs @ Sudbury Wolves
STATUS:CONFIRMED
END:VEVENT
BEGIN:VEVENT
UID:536269e73bff4fc2226981@hockeytech.com
TZID:UTC
DTSTART:20240211T190000Z
DTEND:20240211T220000Z
DTSTAMP:20240211T190000
DESCRIPTION:You have booked some OHL games
LOCATION:Paramount Fine Foods Centre
SUMMARY:Sudbury Wolves @ Mississauga Steelheads
STATUS:CONFIRMED
END:VEVENT
BEGIN:VEVENT
UID:536269e73bff4fc2226990@hockeytech.com
TZID:UTC
DTSTART:20240215T000700Z
DTEND:20240215T030700Z
DTSTAMP:20240215T000700
DESCRIPTION:You have booked some OHL games
LOCATION:GFL Memorial Gardens
SUMMARY:Sudbury Wolves @ Soo Greyhounds
STATUS:CONFIRMED
END:VEVENT
BEGIN:VEVENT
UID:536269e73bff4fc2227002@hockeytech.com
TZID:UTC
DTSTART:20240217T000500Z
DTEND:20240217T030500Z
DTSTAMP:20240217T000500
DESCRIPTION:You have booked some OHL games
LOCATION:Sudbury Community Arena
SUMMARY:Saginaw Spirit @ Sudbury Wolves
STATUS:CONFIRMED
END:VEVENT
BEGIN:VEVENT
UID:536269e73bff4fc2227008@hockeytech.com
TZID:UTC
DTSTART:20240218T190000Z
DTEND:20240218T220000Z
DTSTAMP:20240218T190000
DESCRIPTION:You have booked some OHL games
LOCATION:Kitchener Memorial Auditorium
SUMMARY:Sudbury Wolves @ Kitchener Rangers
STATUS:CONFIRMED
END:VEVENT
BEGIN:VEVENT
UID:536269e73bff4fc2227013@hockeytech.com
TZID:UTC
DTSTART:20240219T190000Z
DTEND:20240219T220000Z
DTSTAMP:20240219T190000
DESCRIPTION:You have booked some OHL games
LOCATION:Sleeman Centre
SUMMARY:Sudbury Wolves @ Guelph Storm
STATUS:CONFIRMED
END:VEVENT
BEGIN:VEVENT
UID:536269e73bff4fc2227030@hockeytech.com
TZID:UTC
DTSTART:20240224T000500Z
DTEND:20240224T030500Z
DTSTAMP:20240224T000500
DESCRIPTION:You have booked some OHL games
LOCATION:Sudbury Community Arena
SUMMARY:Peterborough Petes @ Sudbury Wolves
STATUS:CONFIRMED
END:VEVENT
BEGIN:VEVENT
UID:536269e73bff4fc2227040@hockeytech.com
TZID:UTC
DTSTART:20240225T210000Z
DTEND:20240226T000000Z
DTSTAMP:20240225T210000
DESCRIPTION:You have booked some OHL games
LOCATION:Paramount Fine Foods Centre
SUMMARY:Sudbury Wolves @ Mississauga Steelheads
STATUS:CONFIRMED
END:VEVENT
BEGIN:VEVENT
UID:536269e73bff4fc2227045@hockeytech.com
TZID:UTC
DTSTART:20240229T000500Z
DTEND:20240229T030500Z
DTSTAMP:20240229T000500
DESCRIPTION:You have booked some OHL games
LOCATION:Sudbury Community Arena
SUMMARY:Barrie Colts @ Sudbury Wolves
STATUS:CONFIRMED
END:VEVENT
BEGIN:VEVENT
UID:536269e73bff4fc2227057@hockeytech.com
TZID:UTC
DTSTART:20240302T000500Z
DTEND:20240302T030500Z
DTSTAMP:20240302T000500
DESCRIPTION:You have booked some OHL games
LOCATION:Sudbury Community Arena
SUMMARY:Sarnia Sting @ Sudbury Wolves
STATUS:CONFIRMED
END:VEVENT
BEGIN:VEVENT
UID:536269e73bff4fc2227062@hockeytech.com
TZID:UTC
DTSTART:20240303T000500Z
DTEND:20240303T030500Z
DTSTAMP:20240303T000500
DESCRIPTION:You have booked some OHL games
LOCATION:Sudbury Community Arena
SUMMARY:Oshawa Generals @ Sudbury Wolves
STATUS:CONFIRMED
END:VEVENT
BEGIN:VEVENT
UID:536269e73bff4fc2227076@hockeytech.com
TZID:UTC
DTSTART:20240307T000500Z
DTEND:20240307T030500Z
DTSTAMP:20240307T000500
DESCRIPTION:You have booked some OHL games
LOCATION:Sudbury Community Arena
SUMMARY:Soo Greyhounds @ Sudbury Wolves
STATUS:CONFIRMED
END:VEVENT
BEGIN:VEVENT
UID:536269e73bff4fc2227086@hockeytech.com
TZID:UTC
DTSTART:20240309T000500Z
DTEND:20240309T030500Z
DTSTAMP:20240309T000500
DESCRIPTION:You have booked some OHL games
LOCATION:Sudbury Community Arena
SUMMARY:Windsor Spitfires @ Sudbury Wolves
STATUS:CONFIRMED
END:VEVENT
BEGIN:VEVENT
UID:536269e73bff4fc2227096@hockeytech.com
TZID:UTC
DTSTART:20240310T180000Z
DTEND:20240310T210000Z
DTSTAMP:20240310T180000
DESCRIPTION:You have booked some OHL games
LOCATION:North Bay Memorial Gardens
SUMMARY:Sudbury Wolves @ North Bay Battalion
STATUS:CONFIRMED
END:VEVENT
BEGIN:VEVENT
UID:536269e73bff4fc2227116@hockeytech.com
TZID:UTC
DTSTART:20240315T230500Z
DTEND:20240316T020500Z
DTSTAMP:20240315T230500
DESCRIPTION:You have booked some OHL games
LOCATION:Sudbury Community Arena
SUMMARY:Oshawa Generals @ Sudbury Wolves
STATUS:CONFIRMED
END:VEVENT
BEGIN:VEVENT
UID:536269e73bff4fc2227117@hockeytech.com
TZID:UTC
DTSTART:20240316T233000Z
DTEND:20240317T023000Z
DTSTAMP:20240316T233000
DESCRIPTION:You have booked some OHL games
LOCATION:Sadlon Arena
SUMMARY:Sudbury Wolves @ Barrie Colts
STATUS:CONFIRMED
END:VEVENT
BEGIN:VEVENT
UID:536269e73bff4fc2227128@hockeytech.com
TZID:UTC
DTSTART:20240317T180000Z
DTEND:20240317T210000Z
DTSTAMP:20240317T180000
DESCRIPTION:You have booked some OHL games
LOCATION:Harry Lumley Bayshore Community Centre
SUMMARY:Sudbury Wolves @ Owen Sound Attack
STATUS:CONFIRMED
END:VEVENT
BEGIN:VEVENT
UID:536269e73bff4fc2227145@hockeytech.com
TZID:UTC
DTSTART:20240322T230500Z
DTEND:20240323T020500Z
DTSTAMP:20240322T230500
DESCRIPTION:You have booked some OHL games
LOCATION:Sudbury Community Arena
SUMMARY:Barrie Colts @ Sudbury Wolves
STATUS:CONFIRMED
END:VEVENT
BEGIN:VEVENT
UID:536269e73bff4fc2227150@hockeytech.com
TZID:UTC
DTSTART:20240323T230000Z
DTEND:20240324T020000Z
DTSTAMP:20240323T230000
DESCRIPTION:You have booked some OHL games
LOCATION:Meridian Centre
SUMMARY:Sudbury Wolves @ Niagara IceDogs
STATUS:CONFIRMED
END:VEVENT
BEGIN:VEVENT
UID:536269e73bff4fc2227155@hockeytech.com
TZID:UTC
DTSTART:20240324T220500Z
DTEND:20240325T010500Z
DTSTAMP:20240324T220500
DESCRIPTION:You have booked some OHL games
LOCATION:Tribute Communities Centre
SUMMARY:Sudbury Wolves @ Oshawa Generals
STATUS:CONFIRMED
END:VEVENT
END:VCALENDAR