BEGIN:VCALENDAR
VERSION:2.0
PRODID:-//Hockeytech//Leaguestat iCal//EN
BEGIN:VEVENT
UID:435769e77d3ad18d325635@hockeytech.com
TZID:UTC
DTSTART:20220929T233000Z
DTEND:20220930T023000Z
DTSTAMP:20220929T233000
DESCRIPTION:You have booked some OHL games
LOCATION:Sadlon Arena
SUMMARY:Oshawa Generals @ Barrie Colts
STATUS:CONFIRMED
END:VEVENT
BEGIN:VEVENT
UID:435769e77d3ad18d325644@hockeytech.com
TZID:UTC
DTSTART:20220930T230500Z
DTEND:20221001T020500Z
DTSTAMP:20220930T230500
DESCRIPTION:You have booked some OHL games
LOCATION:Sudbury Community Arena
SUMMARY:Barrie Colts @ Sudbury Wolves
STATUS:CONFIRMED
END:VEVENT
BEGIN:VEVENT
UID:435769e77d3ad18d325656@hockeytech.com
TZID:UTC
DTSTART:20221006T233000Z
DTEND:20221007T023000Z
DTSTAMP:20221006T233000
DESCRIPTION:You have booked some OHL games
LOCATION:Sadlon Arena
SUMMARY:Niagara IceDogs @ Barrie Colts
STATUS:CONFIRMED
END:VEVENT
BEGIN:VEVENT
UID:435769e77d3ad18d325667@hockeytech.com
TZID:UTC
DTSTART:20221008T233000Z
DTEND:20221009T023000Z
DTSTAMP:20221008T233000
DESCRIPTION:You have booked some OHL games
LOCATION:Sadlon Arena
SUMMARY:Peterborough Petes @ Barrie Colts
STATUS:CONFIRMED
END:VEVENT
BEGIN:VEVENT
UID:435769e77d3ad18d325689@hockeytech.com
TZID:UTC
DTSTART:20221014T230500Z
DTEND:20221015T020500Z
DTSTAMP:20221014T230500
DESCRIPTION:You have booked some OHL games
LOCATION:Sudbury Community Arena
SUMMARY:Barrie Colts @ Sudbury Wolves
STATUS:CONFIRMED
END:VEVENT
BEGIN:VEVENT
UID:435769e77d3ad18d325695@hockeytech.com
TZID:UTC
DTSTART:20221015T230700Z
DTEND:20221016T020700Z
DTSTAMP:20221015T230700
DESCRIPTION:You have booked some OHL games
LOCATION:GFL Memorial Gardens
SUMMARY:Barrie Colts @ Soo Greyhounds
STATUS:CONFIRMED
END:VEVENT
BEGIN:VEVENT
UID:435769e77d3ad18d325715@hockeytech.com
TZID:UTC
DTSTART:20221022T233000Z
DTEND:20221023T023000Z
DTSTAMP:20221022T233000
DESCRIPTION:You have booked some OHL games
LOCATION:Sadlon Arena
SUMMARY:Mississauga Steelheads @ Barrie Colts
STATUS:CONFIRMED
END:VEVENT
BEGIN:VEVENT
UID:435769e77d3ad18d325722@hockeytech.com
TZID:UTC
DTSTART:20221023T180000Z
DTEND:20221023T210000Z
DTSTAMP:20221023T180000
DESCRIPTION:You have booked some OHL games
LOCATION:North Bay Memorial Gardens
SUMMARY:Barrie Colts @ North Bay Battalion
STATUS:CONFIRMED
END:VEVENT
BEGIN:VEVENT
UID:435769e77d3ad18d325728@hockeytech.com
TZID:UTC
DTSTART:20221027T233000Z
DTEND:20221028T023000Z
DTSTAMP:20221027T233000
DESCRIPTION:You have booked some OHL games
LOCATION:Sadlon Arena
SUMMARY:Owen Sound Attack @ Barrie Colts
STATUS:CONFIRMED
END:VEVENT
BEGIN:VEVENT
UID:435769e77d3ad18d325740@hockeytech.com
TZID:UTC
DTSTART:20221029T233000Z
DTEND:20221030T023000Z
DTSTAMP:20221029T233000
DESCRIPTION:You have booked some OHL games
LOCATION:Sadlon Arena
SUMMARY:Kingston Frontenacs @ Barrie Colts
STATUS:CONFIRMED
END:VEVENT
BEGIN:VEVENT
UID:435769e77d3ad18d325756@hockeytech.com
TZID:UTC
DTSTART:20221103T230500Z
DTEND:20221104T020500Z
DTSTAMP:20221103T230500
DESCRIPTION:You have booked some OHL games
LOCATION:Peterborough Memorial Centre
SUMMARY:Barrie Colts @ Peterborough Petes
STATUS:CONFIRMED
END:VEVENT
BEGIN:VEVENT
UID:435769e77d3ad18d325764@hockeytech.com
TZID:UTC
DTSTART:20221104T230000Z
DTEND:20221105T020000Z
DTSTAMP:20221104T230000
DESCRIPTION:You have booked some OHL games
LOCATION:TD Place
SUMMARY:Barrie Colts @ Ottawa 67's
STATUS:CONFIRMED
END:VEVENT
BEGIN:VEVENT
UID:435769e77d3ad18d325781@hockeytech.com
TZID:UTC
DTSTART:20221111T003000Z
DTEND:20221111T033000Z
DTSTAMP:20221111T003000
DESCRIPTION:You have booked some OHL games
LOCATION:Sadlon Arena
SUMMARY:Hamilton Bulldogs @ Barrie Colts
STATUS:CONFIRMED
END:VEVENT
BEGIN:VEVENT
UID:435769e77d3ad18d325787@hockeytech.com
TZID:UTC
DTSTART:20221112T001500Z
DTEND:20221112T031500Z
DTSTAMP:20221112T001500
DESCRIPTION:You have booked some OHL games
LOCATION:Budweiser Gardens
SUMMARY:Barrie Colts @ London Knights
STATUS:CONFIRMED
END:VEVENT
BEGIN:VEVENT
UID:435769e77d3ad18d325791@hockeytech.com
TZID:UTC
DTSTART:20221113T003000Z
DTEND:20221113T033000Z
DTSTAMP:20221113T003000
DESCRIPTION:You have booked some OHL games
LOCATION:Sadlon Arena
SUMMARY:North Bay Battalion @ Barrie Colts
STATUS:CONFIRMED
END:VEVENT
BEGIN:VEVENT
UID:435769e77d3ad18d325807@hockeytech.com
TZID:UTC
DTSTART:20221116T153000Z
DTEND:20221116T183000Z
DTSTAMP:20221116T153000
DESCRIPTION:You have booked some OHL games
LOCATION:FirstOntario Centre
SUMMARY:Barrie Colts @ Hamilton Bulldogs
STATUS:CONFIRMED
END:VEVENT
BEGIN:VEVENT
UID:435769e77d3ad18d325821@hockeytech.com
TZID:UTC
DTSTART:20221119T000500Z
DTEND:20221119T030500Z
DTSTAMP:20221119T000500
DESCRIPTION:You have booked some OHL games
LOCATION:Sudbury Community Arena
SUMMARY:Barrie Colts @ Sudbury Wolves
STATUS:CONFIRMED
END:VEVENT
BEGIN:VEVENT
UID:435769e77d3ad18d325822@hockeytech.com
TZID:UTC
DTSTART:20221120T003000Z
DTEND:20221120T033000Z
DTSTAMP:20221120T003000
DESCRIPTION:You have booked some OHL games
LOCATION:Sadlon Arena
SUMMARY:Sarnia Sting @ Barrie Colts
STATUS:CONFIRMED
END:VEVENT
BEGIN:VEVENT
UID:435769e77d3ad18d325844@hockeytech.com
TZID:UTC
DTSTART:20221126T000000Z
DTEND:20221126T030000Z
DTSTAMP:20221126T000000
DESCRIPTION:You have booked some OHL games
LOCATION:Meridian Centre
SUMMARY:Barrie Colts @ Niagara IceDogs
STATUS:CONFIRMED
END:VEVENT
BEGIN:VEVENT
UID:435769e77d3ad18d325848@hockeytech.com
TZID:UTC
DTSTART:20221127T000000Z
DTEND:20221127T030000Z
DTSTAMP:20221127T000000
DESCRIPTION:You have booked some OHL games
LOCATION:Erie Insurance Arena
SUMMARY:Barrie Colts @ Erie Otters
STATUS:CONFIRMED
END:VEVENT
BEGIN:VEVENT
UID:435769e77d3ad18d325862@hockeytech.com
TZID:UTC
DTSTART:20221202T003000Z
DTEND:20221202T033000Z
DTSTAMP:20221202T003000
DESCRIPTION:You have booked some OHL games
LOCATION:Sadlon Arena
SUMMARY:Owen Sound Attack @ Barrie Colts
STATUS:CONFIRMED
END:VEVENT
BEGIN:VEVENT
UID:435769e77d3ad18d325879@hockeytech.com
TZID:UTC
DTSTART:20221204T000500Z
DTEND:20221204T030500Z
DTSTAMP:20221204T000500
DESCRIPTION:You have booked some OHL games
LOCATION:WFCU Centre
SUMMARY:Barrie Colts @ Windsor Spitfires
STATUS:CONFIRMED
END:VEVENT
BEGIN:VEVENT
UID:435769e77d3ad18d325885@hockeytech.com
TZID:UTC
DTSTART:20221204T190500Z
DTEND:20221204T220500Z
DTSTAMP:20221204T190500
DESCRIPTION:You have booked some OHL games
LOCATION:Progressive Auto Sales Arena
SUMMARY:Barrie Colts @ Sarnia Sting
STATUS:CONFIRMED
END:VEVENT
BEGIN:VEVENT
UID:435769e77d3ad18d325890@hockeytech.com
TZID:UTC
DTSTART:20221209T003000Z
DTEND:20221209T033000Z
DTSTAMP:20221209T003000
DESCRIPTION:You have booked some OHL games
LOCATION:Sadlon Arena
SUMMARY:Saginaw Spirit @ Barrie Colts
STATUS:CONFIRMED
END:VEVENT
BEGIN:VEVENT
UID:435769e77d3ad18d325903@hockeytech.com
TZID:UTC
DTSTART:20221211T003000Z
DTEND:20221211T033000Z
DTSTAMP:20221211T003000
DESCRIPTION:You have booked some OHL games
LOCATION:Sadlon Arena
SUMMARY:Sudbury Wolves @ Barrie Colts
STATUS:CONFIRMED
END:VEVENT
BEGIN:VEVENT
UID:435769e77d3ad18d325913@hockeytech.com
TZID:UTC
DTSTART:20221211T230500Z
DTEND:20221212T020500Z
DTSTAMP:20221211T230500
DESCRIPTION:You have booked some OHL games
LOCATION:Tribute Communities Centre
SUMMARY:Barrie Colts @ Oshawa Generals
STATUS:CONFIRMED
END:VEVENT
BEGIN:VEVENT
UID:435769e77d3ad18d325916@hockeytech.com
TZID:UTC
DTSTART:20221214T003000Z
DTEND:20221214T033000Z
DTSTAMP:20221214T003000
DESCRIPTION:You have booked some OHL games
LOCATION:Sadlon Arena
SUMMARY:Sudbury Wolves @ Barrie Colts
STATUS:CONFIRMED
END:VEVENT
BEGIN:VEVENT
UID:435769e77d3ad18d325923@hockeytech.com
TZID:UTC
DTSTART:20221217T003000Z
DTEND:20221217T033000Z
DTSTAMP:20221217T003000
DESCRIPTION:You have booked some OHL games
LOCATION:Sleeman Centre
SUMMARY:Barrie Colts @ Guelph Storm
STATUS:CONFIRMED
END:VEVENT
BEGIN:VEVENT
UID:435769e77d3ad18d325929@hockeytech.com
TZID:UTC
DTSTART:20221218T003000Z
DTEND:20221218T033000Z
DTSTAMP:20221218T003000
DESCRIPTION:You have booked some OHL games
LOCATION:Sadlon Arena
SUMMARY:North Bay Battalion @ Barrie Colts
STATUS:CONFIRMED
END:VEVENT
BEGIN:VEVENT
UID:435769e77d3ad18d325939@hockeytech.com
TZID:UTC
DTSTART:20221218T190000Z
DTEND:20221218T220000Z
DTSTAMP:20221218T190000
DESCRIPTION:You have booked some OHL games
LOCATION:North Bay Memorial Gardens
SUMMARY:Barrie Colts @ North Bay Battalion
STATUS:CONFIRMED
END:VEVENT
BEGIN:VEVENT
UID:435769e77d3ad18d325956@hockeytech.com
TZID:UTC
DTSTART:20221231T003000Z
DTEND:20221231T033000Z
DTSTAMP:20221231T003000
DESCRIPTION:You have booked some OHL games
LOCATION:Harry Lumley Bayshore Community Centre
SUMMARY:Barrie Colts @ Owen Sound Attack
STATUS:CONFIRMED
END:VEVENT
BEGIN:VEVENT
UID:435769e77d3ad18d325959@hockeytech.com
TZID:UTC
DTSTART:20230101T003000Z
DTEND:20230101T033000Z
DTSTAMP:20230101T003000
DESCRIPTION:You have booked some OHL games
LOCATION:Sadlon Arena
SUMMARY:Guelph Storm @ Barrie Colts
STATUS:CONFIRMED
END:VEVENT
BEGIN:VEVENT
UID:435769e77d3ad18d325974@hockeytech.com
TZID:UTC
DTSTART:20230106T003000Z
DTEND:20230106T033000Z
DTSTAMP:20230106T003000
DESCRIPTION:You have booked some OHL games
LOCATION:Sadlon Arena
SUMMARY:Ottawa 67's @ Barrie Colts
STATUS:CONFIRMED
END:VEVENT
BEGIN:VEVENT
UID:435769e77d3ad18d325981@hockeytech.com
TZID:UTC
DTSTART:20230107T000000Z
DTEND:20230107T030000Z
DTSTAMP:20230107T000000
DESCRIPTION:You have booked some OHL games
LOCATION:Paramount Fine Foods Centre
SUMMARY:Barrie Colts @ Mississauga Steelheads
STATUS:CONFIRMED
END:VEVENT
BEGIN:VEVENT
UID:435769e77d3ad18d325986@hockeytech.com
TZID:UTC
DTSTART:20230108T003000Z
DTEND:20230108T033000Z
DTSTAMP:20230108T003000
DESCRIPTION:You have booked some OHL games
LOCATION:Sadlon Arena
SUMMARY:Niagara IceDogs @ Barrie Colts
STATUS:CONFIRMED
END:VEVENT
BEGIN:VEVENT
UID:435769e77d3ad18d326003@hockeytech.com
TZID:UTC
DTSTART:20230113T003000Z
DTEND:20230113T033000Z
DTSTAMP:20230113T003000
DESCRIPTION:You have booked some OHL games
LOCATION:Sadlon Arena
SUMMARY:Flint Firebirds @ Barrie Colts
STATUS:CONFIRMED
END:VEVENT
BEGIN:VEVENT
UID:435769e77d3ad18d326014@hockeytech.com
TZID:UTC
DTSTART:20230115T003000Z
DTEND:20230115T033000Z
DTSTAMP:20230115T003000
DESCRIPTION:You have booked some OHL games
LOCATION:Sadlon Arena
SUMMARY:Soo Greyhounds @ Barrie Colts
STATUS:CONFIRMED
END:VEVENT
BEGIN:VEVENT
UID:435769e77d3ad18d326021@hockeytech.com
TZID:UTC
DTSTART:20230115T190000Z
DTEND:20230115T220000Z
DTSTAMP:20230115T190000
DESCRIPTION:You have booked some OHL games
LOCATION:Paramount Fine Foods Centre
SUMMARY:Barrie Colts @ Mississauga Steelheads
STATUS:CONFIRMED
END:VEVENT
BEGIN:VEVENT
UID:435769e77d3ad18d326028@hockeytech.com
TZID:UTC
DTSTART:20230118T000000Z
DTEND:20230118T030000Z
DTSTAMP:20230118T000000
DESCRIPTION:You have booked some OHL games
LOCATION:Harry Lumley Bayshore Community Centre
SUMMARY:Barrie Colts @ Owen Sound Attack
STATUS:CONFIRMED
END:VEVENT
BEGIN:VEVENT
UID:435769e77d3ad18d326030@hockeytech.com
TZID:UTC
DTSTART:20230120T003000Z
DTEND:20230120T033000Z
DTSTAMP:20230120T003000
DESCRIPTION:You have booked some OHL games
LOCATION:Sadlon Arena
SUMMARY:Ottawa 67's @ Barrie Colts
STATUS:CONFIRMED
END:VEVENT
BEGIN:VEVENT
UID:435769e77d3ad18d326043@hockeytech.com
TZID:UTC
DTSTART:20230122T003000Z
DTEND:20230122T033000Z
DTSTAMP:20230122T003000
DESCRIPTION:You have booked some OHL games
LOCATION:Sadlon Arena
SUMMARY:Windsor Spitfires @ Barrie Colts
STATUS:CONFIRMED
END:VEVENT
BEGIN:VEVENT
UID:435769e77d3ad18d326062@hockeytech.com
TZID:UTC
DTSTART:20230128T003000Z
DTEND:20230128T033000Z
DTSTAMP:20230128T003000
DESCRIPTION:You have booked some OHL games
LOCATION:Kitchener Memorial Auditorium
SUMMARY:Barrie Colts @ Kitchener Rangers
STATUS:CONFIRMED
END:VEVENT
BEGIN:VEVENT
UID:435769e77d3ad18d326068@hockeytech.com
TZID:UTC
DTSTART:20230129T000000Z
DTEND:20230129T030000Z
DTSTAMP:20230129T000000
DESCRIPTION:You have booked some OHL games
LOCATION:Dort Financial Center
SUMMARY:Barrie Colts @ Flint Firebirds
STATUS:CONFIRMED
END:VEVENT
BEGIN:VEVENT
UID:435769e77d3ad18d326080@hockeytech.com
TZID:UTC
DTSTART:20230129T223000Z
DTEND:20230130T013000Z
DTSTAMP:20230129T223000
DESCRIPTION:You have booked some OHL games
LOCATION:Dow Event Center
SUMMARY:Barrie Colts @ Saginaw Spirit
STATUS:CONFIRMED
END:VEVENT
BEGIN:VEVENT
UID:435769e77d3ad18d326093@hockeytech.com
TZID:UTC
DTSTART:20230204T003500Z
DTEND:20230204T033500Z
DTSTAMP:20230204T003500
DESCRIPTION:You have booked some OHL games
LOCATION:Tribute Communities Centre
SUMMARY:Barrie Colts @ Oshawa Generals
STATUS:CONFIRMED
END:VEVENT
BEGIN:VEVENT
UID:435769e77d3ad18d326096@hockeytech.com
TZID:UTC
DTSTART:20230205T003000Z
DTEND:20230205T033000Z
DTSTAMP:20230205T003000
DESCRIPTION:You have booked some OHL games
LOCATION:Sadlon Arena
SUMMARY:Kingston Frontenacs @ Barrie Colts
STATUS:CONFIRMED
END:VEVENT
BEGIN:VEVENT
UID:435769e77d3ad18d326108@hockeytech.com
TZID:UTC
DTSTART:20230205T190500Z
DTEND:20230205T220500Z
DTSTAMP:20230205T190500
DESCRIPTION:You have booked some OHL games
LOCATION:Sudbury Community Arena
SUMMARY:Barrie Colts @ Sudbury Wolves
STATUS:CONFIRMED
END:VEVENT
BEGIN:VEVENT
UID:435769e77d3ad18d326114@hockeytech.com
TZID:UTC
DTSTART:20230210T003000Z
DTEND:20230210T033000Z
DTSTAMP:20230210T003000
DESCRIPTION:You have booked some OHL games
LOCATION:Sadlon Arena
SUMMARY:Mississauga Steelheads @ Barrie Colts
STATUS:CONFIRMED
END:VEVENT
BEGIN:VEVENT
UID:435769e77d3ad18d326127@hockeytech.com
TZID:UTC
DTSTART:20230212T003000Z
DTEND:20230212T033000Z
DTSTAMP:20230212T003000
DESCRIPTION:You have booked some OHL games
LOCATION:Sadlon Arena
SUMMARY:Kitchener Rangers @ Barrie Colts
STATUS:CONFIRMED
END:VEVENT
BEGIN:VEVENT
UID:435769e77d3ad18d326135@hockeytech.com
TZID:UTC
DTSTART:20230212T190000Z
DTEND:20230212T220000Z
DTSTAMP:20230212T190000
DESCRIPTION:You have booked some OHL games
LOCATION:North Bay Memorial Gardens
SUMMARY:Barrie Colts @ North Bay Battalion
STATUS:CONFIRMED
END:VEVENT
BEGIN:VEVENT
UID:435769e77d3ad18d326140@hockeytech.com
TZID:UTC
DTSTART:20230216T000000Z
DTEND:20230216T030000Z
DTSTAMP:20230216T000000
DESCRIPTION:You have booked some OHL games
LOCATION:Meridian Centre
SUMMARY:Barrie Colts @ Niagara IceDogs
STATUS:CONFIRMED
END:VEVENT
BEGIN:VEVENT
UID:435769e77d3ad18d326148@hockeytech.com
TZID:UTC
DTSTART:20230218T000000Z
DTEND:20230218T030000Z
DTSTAMP:20230218T000000
DESCRIPTION:You have booked some OHL games
LOCATION:FirstOntario Centre
SUMMARY:Barrie Colts @ Hamilton Bulldogs
STATUS:CONFIRMED
END:VEVENT
BEGIN:VEVENT
UID:435769e77d3ad18d326155@hockeytech.com
TZID:UTC
DTSTART:20230219T003000Z
DTEND:20230219T033000Z
DTSTAMP:20230219T003000
DESCRIPTION:You have booked some OHL games
LOCATION:Sadlon Arena
SUMMARY:North Bay Battalion @ Barrie Colts
STATUS:CONFIRMED
END:VEVENT
BEGIN:VEVENT
UID:435769e77d3ad18d326166@hockeytech.com
TZID:UTC
DTSTART:20230220T190000Z
DTEND:20230220T220000Z
DTSTAMP:20230220T190000
DESCRIPTION:You have booked some OHL games
LOCATION:Leon's Centre
SUMMARY:Barrie Colts @ Kingston Frontenacs
STATUS:CONFIRMED
END:VEVENT
BEGIN:VEVENT
UID:435769e77d3ad18d326174@hockeytech.com
TZID:UTC
DTSTART:20230224T003000Z
DTEND:20230224T033000Z
DTSTAMP:20230224T003000
DESCRIPTION:You have booked some OHL games
LOCATION:Sadlon Arena
SUMMARY:Erie Otters @ Barrie Colts
STATUS:CONFIRMED
END:VEVENT
BEGIN:VEVENT
UID:435769e77d3ad18d326185@hockeytech.com
TZID:UTC
DTSTART:20230226T003000Z
DTEND:20230226T033000Z
DTSTAMP:20230226T003000
DESCRIPTION:You have booked some OHL games
LOCATION:Sadlon Arena
SUMMARY:Oshawa Generals @ Barrie Colts
STATUS:CONFIRMED
END:VEVENT
BEGIN:VEVENT
UID:435769e77d3ad18d326197@hockeytech.com
TZID:UTC
DTSTART:20230226T190000Z
DTEND:20230226T220000Z
DTSTAMP:20230226T190000
DESCRIPTION:You have booked some OHL games
LOCATION:Meridian Centre
SUMMARY:Barrie Colts @ Niagara IceDogs
STATUS:CONFIRMED
END:VEVENT
BEGIN:VEVENT
UID:435769e77d3ad18d326205@hockeytech.com
TZID:UTC
DTSTART:20230303T003000Z
DTEND:20230303T033000Z
DTSTAMP:20230303T003000
DESCRIPTION:You have booked some OHL games
LOCATION:Sadlon Arena
SUMMARY:Hamilton Bulldogs @ Barrie Colts
STATUS:CONFIRMED
END:VEVENT
BEGIN:VEVENT
UID:435769e77d3ad18d326218@hockeytech.com
TZID:UTC
DTSTART:20230305T003000Z
DTEND:20230305T033000Z
DTSTAMP:20230305T003000
DESCRIPTION:You have booked some OHL games
LOCATION:Sadlon Arena
SUMMARY:Mississauga Steelheads @ Barrie Colts
STATUS:CONFIRMED
END:VEVENT
BEGIN:VEVENT
UID:435769e77d3ad18d326229@hockeytech.com
TZID:UTC
DTSTART:20230305T190000Z
DTEND:20230305T220000Z
DTSTAMP:20230305T190000
DESCRIPTION:You have booked some OHL games
LOCATION:Harry Lumley Bayshore Community Centre
SUMMARY:Barrie Colts @ Owen Sound Attack
STATUS:CONFIRMED
END:VEVENT
BEGIN:VEVENT
UID:435769e77d3ad18d326234@hockeytech.com
TZID:UTC
DTSTART:20230310T003000Z
DTEND:20230310T033000Z
DTSTAMP:20230310T003000
DESCRIPTION:You have booked some OHL games
LOCATION:Sadlon Arena
SUMMARY:London Knights @ Barrie Colts
STATUS:CONFIRMED
END:VEVENT
BEGIN:VEVENT
UID:435769e77d3ad18d326246@hockeytech.com
TZID:UTC
DTSTART:20230312T003000Z
DTEND:20230312T033000Z
DTSTAMP:20230312T003000
DESCRIPTION:You have booked some OHL games
LOCATION:Sadlon Arena
SUMMARY:Sudbury Wolves @ Barrie Colts
STATUS:CONFIRMED
END:VEVENT
BEGIN:VEVENT
UID:435769e77d3ad18d326260@hockeytech.com
TZID:UTC
DTSTART:20230315T230000Z
DTEND:20230316T020000Z
DTSTAMP:20230315T230000
DESCRIPTION:You have booked some OHL games
LOCATION:Paramount Fine Foods Centre
SUMMARY:Barrie Colts @ Mississauga Steelheads
STATUS:CONFIRMED
END:VEVENT
BEGIN:VEVENT
UID:435769e77d3ad18d326267@hockeytech.com
TZID:UTC
DTSTART:20230317T233000Z
DTEND:20230318T023000Z
DTSTAMP:20230317T233000
DESCRIPTION:You have booked some OHL games
LOCATION:Sadlon Arena
SUMMARY:Owen Sound Attack @ Barrie Colts
STATUS:CONFIRMED
END:VEVENT
BEGIN:VEVENT
UID:435769e77d3ad18d326276@hockeytech.com
TZID:UTC
DTSTART:20230318T233000Z
DTEND:20230319T023000Z
DTSTAMP:20230318T233000
DESCRIPTION:You have booked some OHL games
LOCATION:Sadlon Arena
SUMMARY:Niagara IceDogs @ Barrie Colts
STATUS:CONFIRMED
END:VEVENT
BEGIN:VEVENT
UID:435769e77d3ad18d326291@hockeytech.com
TZID:UTC
DTSTART:20230323T233000Z
DTEND:20230324T023000Z
DTSTAMP:20230323T233000
DESCRIPTION:You have booked some OHL games
LOCATION:Sadlon Arena
SUMMARY:Sudbury Wolves @ Barrie Colts
STATUS:CONFIRMED
END:VEVENT
BEGIN:VEVENT
UID:435769e77d3ad18d326295@hockeytech.com
TZID:UTC
DTSTART:20230324T230000Z
DTEND:20230325T020000Z
DTSTAMP:20230324T230000
DESCRIPTION:You have booked some OHL games
LOCATION:Leon's Centre
SUMMARY:Barrie Colts @ Kingston Frontenacs
STATUS:CONFIRMED
END:VEVENT
BEGIN:VEVENT
UID:435769e77d3ad18d326307@hockeytech.com
TZID:UTC
DTSTART:20230325T180000Z
DTEND:20230325T210000Z
DTSTAMP:20230325T180000
DESCRIPTION:You have booked some OHL games
LOCATION:TD Place
SUMMARY:Barrie Colts @ Ottawa 67's
STATUS:CONFIRMED
END:VEVENT
END:VCALENDAR