BEGIN:VCALENDAR
VERSION:2.0
PRODID:-//Hockeytech//Leaguestat iCal//EN
BEGIN:VEVENT
UID:846669ebdeb4ea39825642@hockeytech.com
TZID:UTC
DTSTART:20220930T233500Z
DTEND:20221001T023500Z
DTSTAMP:20220930T233500
DESCRIPTION:You have booked some OHL games
LOCATION:Tribute Communities Centre
SUMMARY:Ottawa 67's @ Oshawa Generals
STATUS:CONFIRMED
END:VEVENT
BEGIN:VEVENT
UID:846669ebdeb4ea39825653@hockeytech.com
TZID:UTC
DTSTART:20221002T180000Z
DTEND:20221002T210000Z
DTSTAMP:20221002T180000
DESCRIPTION:You have booked some OHL games
LOCATION:TD Place
SUMMARY:Erie Otters @ Ottawa 67's
STATUS:CONFIRMED
END:VEVENT
BEGIN:VEVENT
UID:846669ebdeb4ea39825664@hockeytech.com
TZID:UTC
DTSTART:20221007T230000Z
DTEND:20221008T020000Z
DTSTAMP:20221007T230000
DESCRIPTION:You have booked some OHL games
LOCATION:TD Place
SUMMARY:Kitchener Rangers @ Ottawa 67's
STATUS:CONFIRMED
END:VEVENT
BEGIN:VEVENT
UID:846669ebdeb4ea39825672@hockeytech.com
TZID:UTC
DTSTART:20221008T230000Z
DTEND:20221009T020000Z
DTSTAMP:20221008T230000
DESCRIPTION:You have booked some OHL games
LOCATION:TD Place
SUMMARY:North Bay Battalion @ Ottawa 67's
STATUS:CONFIRMED
END:VEVENT
BEGIN:VEVENT
UID:846669ebdeb4ea39825686@hockeytech.com
TZID:UTC
DTSTART:20221014T233500Z
DTEND:20221015T023500Z
DTSTAMP:20221014T233500
DESCRIPTION:You have booked some OHL games
LOCATION:Tribute Communities Centre
SUMMARY:Ottawa 67's @ Oshawa Generals
STATUS:CONFIRMED
END:VEVENT
BEGIN:VEVENT
UID:846669ebdeb4ea39825699@hockeytech.com
TZID:UTC
DTSTART:20221016T180000Z
DTEND:20221016T210000Z
DTSTAMP:20221016T180000
DESCRIPTION:You have booked some OHL games
LOCATION:TD Place
SUMMARY:Guelph Storm @ Ottawa 67's
STATUS:CONFIRMED
END:VEVENT
BEGIN:VEVENT
UID:846669ebdeb4ea39825704@hockeytech.com
TZID:UTC
DTSTART:20221020T230000Z
DTEND:20221021T020000Z
DTSTAMP:20221020T230000
DESCRIPTION:You have booked some OHL games
LOCATION:North Bay Memorial Gardens
SUMMARY:Ottawa 67's @ North Bay Battalion
STATUS:CONFIRMED
END:VEVENT
BEGIN:VEVENT
UID:846669ebdeb4ea39825713@hockeytech.com
TZID:UTC
DTSTART:20221021T230700Z
DTEND:20221022T020700Z
DTSTAMP:20221021T230700
DESCRIPTION:You have booked some OHL games
LOCATION:GFL Memorial Gardens
SUMMARY:Ottawa 67's @ Soo Greyhounds
STATUS:CONFIRMED
END:VEVENT
BEGIN:VEVENT
UID:846669ebdeb4ea39825724@hockeytech.com
TZID:UTC
DTSTART:20221023T180500Z
DTEND:20221023T210500Z
DTSTAMP:20221023T180500
DESCRIPTION:You have booked some OHL games
LOCATION:Sudbury Community Arena
SUMMARY:Ottawa 67's @ Sudbury Wolves
STATUS:CONFIRMED
END:VEVENT
BEGIN:VEVENT
UID:846669ebdeb4ea39825738@hockeytech.com
TZID:UTC
DTSTART:20221028T230000Z
DTEND:20221029T020000Z
DTSTAMP:20221028T230000
DESCRIPTION:You have booked some OHL games
LOCATION:TD Place
SUMMARY:Peterborough Petes @ Ottawa 67's
STATUS:CONFIRMED
END:VEVENT
BEGIN:VEVENT
UID:846669ebdeb4ea39825750@hockeytech.com
TZID:UTC
DTSTART:20221030T170000Z
DTEND:20221030T200000Z
DTSTAMP:20221030T170000
DESCRIPTION:You have booked some OHL games
LOCATION:TD Place
SUMMARY:Soo Greyhounds @ Ottawa 67's
STATUS:CONFIRMED
END:VEVENT
BEGIN:VEVENT
UID:846669ebdeb4ea39825764@hockeytech.com
TZID:UTC
DTSTART:20221104T230000Z
DTEND:20221105T020000Z
DTSTAMP:20221104T230000
DESCRIPTION:You have booked some OHL games
LOCATION:TD Place
SUMMARY:Barrie Colts @ Ottawa 67's
STATUS:CONFIRMED
END:VEVENT
BEGIN:VEVENT
UID:846669ebdeb4ea39825773@hockeytech.com
TZID:UTC
DTSTART:20221105T230000Z
DTEND:20221106T020000Z
DTSTAMP:20221105T230000
DESCRIPTION:You have booked some OHL games
LOCATION:TD Place
SUMMARY:Peterborough Petes @ Ottawa 67's
STATUS:CONFIRMED
END:VEVENT
BEGIN:VEVENT
UID:846669ebdeb4ea39825779@hockeytech.com
TZID:UTC
DTSTART:20221109T230000Z
DTEND:20221110T020000Z
DTSTAMP:20221109T230000
DESCRIPTION:You have booked some OHL games
LOCATION:Leon's Centre
SUMMARY:Ottawa 67's @ Kingston Frontenacs
STATUS:CONFIRMED
END:VEVENT
BEGIN:VEVENT
UID:846669ebdeb4ea39825788@hockeytech.com
TZID:UTC
DTSTART:20221112T000000Z
DTEND:20221112T030000Z
DTSTAMP:20221112T000000
DESCRIPTION:You have booked some OHL games
LOCATION:TD Place
SUMMARY:Oshawa Generals @ Ottawa 67's
STATUS:CONFIRMED
END:VEVENT
BEGIN:VEVENT
UID:846669ebdeb4ea39825803@hockeytech.com
TZID:UTC
DTSTART:20221112T190000Z
DTEND:20221112T220000Z
DTSTAMP:20221112T190000
DESCRIPTION:You have booked some OHL games
LOCATION:TD Place
SUMMARY:Niagara IceDogs @ Ottawa 67's
STATUS:CONFIRMED
END:VEVENT
BEGIN:VEVENT
UID:846669ebdeb4ea39825806@hockeytech.com
TZID:UTC
DTSTART:20221115T153000Z
DTEND:20221115T183000Z
DTSTAMP:20221115T153000
DESCRIPTION:You have booked some OHL games
LOCATION:Canadian Tire Centre
SUMMARY:Kingston Frontenacs @ Ottawa 67's
STATUS:CONFIRMED
END:VEVENT
BEGIN:VEVENT
UID:846669ebdeb4ea39825814@hockeytech.com
TZID:UTC
DTSTART:20221119T000000Z
DTEND:20221119T030000Z
DTSTAMP:20221119T000000
DESCRIPTION:You have booked some OHL games
LOCATION:FirstOntario Centre
SUMMARY:Ottawa 67's @ Hamilton Bulldogs
STATUS:CONFIRMED
END:VEVENT
BEGIN:VEVENT
UID:846669ebdeb4ea39825829@hockeytech.com
TZID:UTC
DTSTART:20221120T190000Z
DTEND:20221120T220000Z
DTSTAMP:20221120T190000
DESCRIPTION:You have booked some OHL games
LOCATION:Paramount Fine Foods Centre
SUMMARY:Ottawa 67's @ Mississauga Steelheads
STATUS:CONFIRMED
END:VEVENT
BEGIN:VEVENT
UID:846669ebdeb4ea39825837@hockeytech.com
TZID:UTC
DTSTART:20221125T000000Z
DTEND:20221125T030000Z
DTSTAMP:20221125T000000
DESCRIPTION:You have booked some OHL games
LOCATION:North Bay Memorial Gardens
SUMMARY:Ottawa 67's @ North Bay Battalion
STATUS:CONFIRMED
END:VEVENT
BEGIN:VEVENT
UID:846669ebdeb4ea39825852@hockeytech.com
TZID:UTC
DTSTART:20221127T000500Z
DTEND:20221127T030500Z
DTSTAMP:20221127T000500
DESCRIPTION:You have booked some OHL games
LOCATION:Peterborough Memorial Centre
SUMMARY:Ottawa 67's @ Peterborough Petes
STATUS:CONFIRMED
END:VEVENT
BEGIN:VEVENT
UID:846669ebdeb4ea39825858@hockeytech.com
TZID:UTC
DTSTART:20221127T190000Z
DTEND:20221127T220000Z
DTSTAMP:20221127T190000
DESCRIPTION:You have booked some OHL games
LOCATION:TD Place
SUMMARY:Sudbury Wolves @ Ottawa 67's
STATUS:CONFIRMED
END:VEVENT
BEGIN:VEVENT
UID:846669ebdeb4ea39825871@hockeytech.com
TZID:UTC
DTSTART:20221203T000000Z
DTEND:20221203T030000Z
DTSTAMP:20221203T000000
DESCRIPTION:You have booked some OHL games
LOCATION:TD Place
SUMMARY:Flint Firebirds @ Ottawa 67's
STATUS:CONFIRMED
END:VEVENT
BEGIN:VEVENT
UID:846669ebdeb4ea39825883@hockeytech.com
TZID:UTC
DTSTART:20221204T190000Z
DTEND:20221204T220000Z
DTSTAMP:20221204T190000
DESCRIPTION:You have booked some OHL games
LOCATION:TD Place
SUMMARY:Peterborough Petes @ Ottawa 67's
STATUS:CONFIRMED
END:VEVENT
BEGIN:VEVENT
UID:846669ebdeb4ea39825894@hockeytech.com
TZID:UTC
DTSTART:20221209T000500Z
DTEND:20221209T030500Z
DTSTAMP:20221209T000500
DESCRIPTION:You have booked some OHL games
LOCATION:WFCU Centre
SUMMARY:Ottawa 67's @ Windsor Spitfires
STATUS:CONFIRMED
END:VEVENT
BEGIN:VEVENT
UID:846669ebdeb4ea39825898@hockeytech.com
TZID:UTC
DTSTART:20221210T000000Z
DTEND:20221210T030000Z
DTSTAMP:20221210T000000
DESCRIPTION:You have booked some OHL games
LOCATION:Budweiser Gardens
SUMMARY:Ottawa 67's @ London Knights
STATUS:CONFIRMED
END:VEVENT
BEGIN:VEVENT
UID:846669ebdeb4ea39825910@hockeytech.com
TZID:UTC
DTSTART:20221211T190000Z
DTEND:20221211T220000Z
DTSTAMP:20221211T190000
DESCRIPTION:You have booked some OHL games
LOCATION:Sleeman Centre
SUMMARY:Ottawa 67's @ Guelph Storm
STATUS:CONFIRMED
END:VEVENT
BEGIN:VEVENT
UID:846669ebdeb4ea39825927@hockeytech.com
TZID:UTC
DTSTART:20221217T000000Z
DTEND:20221217T030000Z
DTSTAMP:20221217T000000
DESCRIPTION:You have booked some OHL games
LOCATION:TD Place
SUMMARY:Oshawa Generals @ Ottawa 67's
STATUS:CONFIRMED
END:VEVENT
BEGIN:VEVENT
UID:846669ebdeb4ea39825933@hockeytech.com
TZID:UTC
DTSTART:20221217T190000Z
DTEND:20221217T220000Z
DTSTAMP:20221217T190000
DESCRIPTION:You have booked some OHL games
LOCATION:TD Place
SUMMARY:Hamilton Bulldogs @ Ottawa 67's
STATUS:CONFIRMED
END:VEVENT
BEGIN:VEVENT
UID:846669ebdeb4ea39825937@hockeytech.com
TZID:UTC
DTSTART:20221218T190000Z
DTEND:20221218T220000Z
DTSTAMP:20221218T190000
DESCRIPTION:You have booked some OHL games
LOCATION:Leon's Centre
SUMMARY:Ottawa 67's @ Kingston Frontenacs
STATUS:CONFIRMED
END:VEVENT
BEGIN:VEVENT
UID:846669ebdeb4ea39825955@hockeytech.com
TZID:UTC
DTSTART:20221230T190000Z
DTEND:20221230T220000Z
DTSTAMP:20221230T190000
DESCRIPTION:You have booked some OHL games
LOCATION:TD Place
SUMMARY:Kingston Frontenacs @ Ottawa 67's
STATUS:CONFIRMED
END:VEVENT
BEGIN:VEVENT
UID:846669ebdeb4ea39825967@hockeytech.com
TZID:UTC
DTSTART:20230101T210000Z
DTEND:20230102T000000Z
DTSTAMP:20230101T210000
DESCRIPTION:You have booked some OHL games
LOCATION:Leon's Centre
SUMMARY:Ottawa 67's @ Kingston Frontenacs
STATUS:CONFIRMED
END:VEVENT
BEGIN:VEVENT
UID:846669ebdeb4ea39825974@hockeytech.com
TZID:UTC
DTSTART:20230106T003000Z
DTEND:20230106T033000Z
DTSTAMP:20230106T003000
DESCRIPTION:You have booked some OHL games
LOCATION:Sadlon Arena
SUMMARY:Ottawa 67's @ Barrie Colts
STATUS:CONFIRMED
END:VEVENT
BEGIN:VEVENT
UID:846669ebdeb4ea39825982@hockeytech.com
TZID:UTC
DTSTART:20230107T000000Z
DTEND:20230107T030000Z
DTSTAMP:20230107T000000
DESCRIPTION:You have booked some OHL games
LOCATION:Meridian Centre
SUMMARY:Ottawa 67's @ Niagara IceDogs
STATUS:CONFIRMED
END:VEVENT
BEGIN:VEVENT
UID:846669ebdeb4ea39825996@hockeytech.com
TZID:UTC
DTSTART:20230108T190000Z
DTEND:20230108T220000Z
DTSTAMP:20230108T190000
DESCRIPTION:You have booked some OHL games
LOCATION:TD Place
SUMMARY:Owen Sound Attack @ Ottawa 67's
STATUS:CONFIRMED
END:VEVENT
BEGIN:VEVENT
UID:846669ebdeb4ea39826001@hockeytech.com
TZID:UTC
DTSTART:20230112T000000Z
DTEND:20230112T030000Z
DTSTAMP:20230112T000000
DESCRIPTION:You have booked some OHL games
LOCATION:TD Place
SUMMARY:Kingston Frontenacs @ Ottawa 67's
STATUS:CONFIRMED
END:VEVENT
BEGIN:VEVENT
UID:846669ebdeb4ea39826012@hockeytech.com
TZID:UTC
DTSTART:20230114T000000Z
DTEND:20230114T030000Z
DTSTAMP:20230114T000000
DESCRIPTION:You have booked some OHL games
LOCATION:TD Place
SUMMARY:Hamilton Bulldogs @ Ottawa 67's
STATUS:CONFIRMED
END:VEVENT
BEGIN:VEVENT
UID:846669ebdeb4ea39826023@hockeytech.com
TZID:UTC
DTSTART:20230115T190000Z
DTEND:20230115T220000Z
DTSTAMP:20230115T190000
DESCRIPTION:You have booked some OHL games
LOCATION:TD Place
SUMMARY:Sarnia Sting @ Ottawa 67's
STATUS:CONFIRMED
END:VEVENT
BEGIN:VEVENT
UID:846669ebdeb4ea39826030@hockeytech.com
TZID:UTC
DTSTART:20230120T003000Z
DTEND:20230120T033000Z
DTSTAMP:20230120T003000
DESCRIPTION:You have booked some OHL games
LOCATION:Sadlon Arena
SUMMARY:Ottawa 67's @ Barrie Colts
STATUS:CONFIRMED
END:VEVENT
BEGIN:VEVENT
UID:846669ebdeb4ea39826037@hockeytech.com
TZID:UTC
DTSTART:20230121T003000Z
DTEND:20230121T033000Z
DTSTAMP:20230121T003000
DESCRIPTION:You have booked some OHL games
LOCATION:Kitchener Memorial Auditorium
SUMMARY:Ottawa 67's @ Kitchener Rangers
STATUS:CONFIRMED
END:VEVENT
BEGIN:VEVENT
UID:846669ebdeb4ea39826055@hockeytech.com
TZID:UTC
DTSTART:20230122T190000Z
DTEND:20230122T220000Z
DTSTAMP:20230122T190000
DESCRIPTION:You have booked some OHL games
LOCATION:Harry Lumley Bayshore Community Centre
SUMMARY:Ottawa 67's @ Owen Sound Attack
STATUS:CONFIRMED
END:VEVENT
BEGIN:VEVENT
UID:846669ebdeb4ea39826064@hockeytech.com
TZID:UTC
DTSTART:20230128T000000Z
DTEND:20230128T030000Z
DTSTAMP:20230128T000000
DESCRIPTION:You have booked some OHL games
LOCATION:TD Place
SUMMARY:London Knights @ Ottawa 67's
STATUS:CONFIRMED
END:VEVENT
BEGIN:VEVENT
UID:846669ebdeb4ea39826069@hockeytech.com
TZID:UTC
DTSTART:20230128T210000Z
DTEND:20230129T000000Z
DTSTAMP:20230128T210000
DESCRIPTION:You have booked some OHL games
LOCATION:FirstOntario Centre
SUMMARY:Ottawa 67's @ Hamilton Bulldogs
STATUS:CONFIRMED
END:VEVENT
BEGIN:VEVENT
UID:846669ebdeb4ea39826076@hockeytech.com
TZID:UTC
DTSTART:20230129T190000Z
DTEND:20230129T220000Z
DTSTAMP:20230129T190000
DESCRIPTION:You have booked some OHL games
LOCATION:Paramount Fine Foods Centre
SUMMARY:Ottawa 67's @ Mississauga Steelheads
STATUS:CONFIRMED
END:VEVENT
BEGIN:VEVENT
UID:846669ebdeb4ea39826088@hockeytech.com
TZID:UTC
DTSTART:20230204T000000Z
DTEND:20230204T030000Z
DTSTAMP:20230204T000000
DESCRIPTION:You have booked some OHL games
LOCATION:Dort Financial Center
SUMMARY:Ottawa 67's @ Flint Firebirds
STATUS:CONFIRMED
END:VEVENT
BEGIN:VEVENT
UID:846669ebdeb4ea39826101@hockeytech.com
TZID:UTC
DTSTART:20230205T000500Z
DTEND:20230205T030500Z
DTSTAMP:20230205T000500
DESCRIPTION:You have booked some OHL games
LOCATION:Dow Event Center
SUMMARY:Ottawa 67's @ Saginaw Spirit
STATUS:CONFIRMED
END:VEVENT
BEGIN:VEVENT
UID:846669ebdeb4ea39826107@hockeytech.com
TZID:UTC
DTSTART:20230205T180000Z
DTEND:20230205T210000Z
DTSTAMP:20230205T180000
DESCRIPTION:You have booked some OHL games
LOCATION:Progressive Auto Sales Arena
SUMMARY:Ottawa 67's @ Sarnia Sting
STATUS:CONFIRMED
END:VEVENT
BEGIN:VEVENT
UID:846669ebdeb4ea39826116@hockeytech.com
TZID:UTC
DTSTART:20230210T000000Z
DTEND:20230210T030000Z
DTSTAMP:20230210T000000
DESCRIPTION:You have booked some OHL games
LOCATION:TD Place
SUMMARY:Gatineau Olympiques @ Ottawa 67's
STATUS:CONFIRMED
END:VEVENT
BEGIN:VEVENT
UID:846669ebdeb4ea39826124@hockeytech.com
TZID:UTC
DTSTART:20230211T000000Z
DTEND:20230211T030000Z
DTSTAMP:20230211T000000
DESCRIPTION:You have booked some OHL games
LOCATION:TD Place
SUMMARY:Niagara IceDogs @ Ottawa 67's
STATUS:CONFIRMED
END:VEVENT
BEGIN:VEVENT
UID:846669ebdeb4ea39826128@hockeytech.com
TZID:UTC
DTSTART:20230212T000000Z
DTEND:20230212T030000Z
DTSTAMP:20230212T000000
DESCRIPTION:You have booked some OHL games
LOCATION:Slush Puppie Centre
SUMMARY:Ottawa 67's @ Gatineau Olympiques
STATUS:CONFIRMED
END:VEVENT
BEGIN:VEVENT
UID:846669ebdeb4ea39826145@hockeytech.com
TZID:UTC
DTSTART:20230217T000500Z
DTEND:20230217T030500Z
DTSTAMP:20230217T000500
DESCRIPTION:You have booked some OHL games
LOCATION:Peterborough Memorial Centre
SUMMARY:Ottawa 67's @ Peterborough Petes
STATUS:CONFIRMED
END:VEVENT
BEGIN:VEVENT
UID:846669ebdeb4ea39826152@hockeytech.com
TZID:UTC
DTSTART:20230218T000000Z
DTEND:20230218T030000Z
DTSTAMP:20230218T000000
DESCRIPTION:You have booked some OHL games
LOCATION:TD Place
SUMMARY:Oshawa Generals @ Ottawa 67's
STATUS:CONFIRMED
END:VEVENT
BEGIN:VEVENT
UID:846669ebdeb4ea39826170@hockeytech.com
TZID:UTC
DTSTART:20230220T190000Z
DTEND:20230220T220000Z
DTSTAMP:20230220T190000
DESCRIPTION:You have booked some OHL games
LOCATION:TD Place
SUMMARY:North Bay Battalion @ Ottawa 67's
STATUS:CONFIRMED
END:VEVENT
BEGIN:VEVENT
UID:846669ebdeb4ea39826183@hockeytech.com
TZID:UTC
DTSTART:20230225T000000Z
DTEND:20230225T030000Z
DTSTAMP:20230225T000000
DESCRIPTION:You have booked some OHL games
LOCATION:TD Place
SUMMARY:Windsor Spitfires @ Ottawa 67's
STATUS:CONFIRMED
END:VEVENT
BEGIN:VEVENT
UID:846669ebdeb4ea39826189@hockeytech.com
TZID:UTC
DTSTART:20230226T000000Z
DTEND:20230226T030000Z
DTSTAMP:20230226T000000
DESCRIPTION:You have booked some OHL games
LOCATION:TD Place
SUMMARY:Mississauga Steelheads @ Ottawa 67's
STATUS:CONFIRMED
END:VEVENT
BEGIN:VEVENT
UID:846669ebdeb4ea39826198@hockeytech.com
TZID:UTC
DTSTART:20230226T230500Z
DTEND:20230227T020500Z
DTSTAMP:20230226T230500
DESCRIPTION:You have booked some OHL games
LOCATION:Tribute Communities Centre
SUMMARY:Ottawa 67's @ Oshawa Generals
STATUS:CONFIRMED
END:VEVENT
BEGIN:VEVENT
UID:846669ebdeb4ea39826203@hockeytech.com
TZID:UTC
DTSTART:20230302T000000Z
DTEND:20230302T030000Z
DTSTAMP:20230302T000000
DESCRIPTION:You have booked some OHL games
LOCATION:TD Place
SUMMARY:Kingston Frontenacs @ Ottawa 67's
STATUS:CONFIRMED
END:VEVENT
BEGIN:VEVENT
UID:846669ebdeb4ea39826211@hockeytech.com
TZID:UTC
DTSTART:20230304T000000Z
DTEND:20230304T030000Z
DTSTAMP:20230304T000000
DESCRIPTION:You have booked some OHL games
LOCATION:Leon's Centre
SUMMARY:Ottawa 67's @ Kingston Frontenacs
STATUS:CONFIRMED
END:VEVENT
BEGIN:VEVENT
UID:846669ebdeb4ea39826221@hockeytech.com
TZID:UTC
DTSTART:20230304T190000Z
DTEND:20230304T220000Z
DTSTAMP:20230304T190000
DESCRIPTION:You have booked some OHL games
LOCATION:TD Place
SUMMARY:Saginaw Spirit @ Ottawa 67's
STATUS:CONFIRMED
END:VEVENT
BEGIN:VEVENT
UID:846669ebdeb4ea39826243@hockeytech.com
TZID:UTC
DTSTART:20230311T000000Z
DTEND:20230311T030000Z
DTSTAMP:20230311T000000
DESCRIPTION:You have booked some OHL games
LOCATION:TD Place
SUMMARY:Mississauga Steelheads @ Ottawa 67's
STATUS:CONFIRMED
END:VEVENT
BEGIN:VEVENT
UID:846669ebdeb4ea39826249@hockeytech.com
TZID:UTC
DTSTART:20230312T000000Z
DTEND:20230312T030000Z
DTSTAMP:20230312T000000
DESCRIPTION:You have booked some OHL games
LOCATION:Meridian Centre
SUMMARY:Ottawa 67's @ Niagara IceDogs
STATUS:CONFIRMED
END:VEVENT
BEGIN:VEVENT
UID:846669ebdeb4ea39826253@hockeytech.com
TZID:UTC
DTSTART:20230312T180000Z
DTEND:20230312T210000Z
DTSTAMP:20230312T180000
DESCRIPTION:You have booked some OHL games
LOCATION:FirstOntario Centre
SUMMARY:Ottawa 67's @ Hamilton Bulldogs
STATUS:CONFIRMED
END:VEVENT
BEGIN:VEVENT
UID:846669ebdeb4ea39826261@hockeytech.com
TZID:UTC
DTSTART:20230315T180000Z
DTEND:20230315T210000Z
DTSTAMP:20230315T180000
DESCRIPTION:You have booked some OHL games
LOCATION:TD Place
SUMMARY:Oshawa Generals @ Ottawa 67's
STATUS:CONFIRMED
END:VEVENT
BEGIN:VEVENT
UID:846669ebdeb4ea39826273@hockeytech.com
TZID:UTC
DTSTART:20230317T233500Z
DTEND:20230318T023500Z
DTSTAMP:20230317T233500
DESCRIPTION:You have booked some OHL games
LOCATION:Tribute Communities Centre
SUMMARY:Ottawa 67's @ Oshawa Generals
STATUS:CONFIRMED
END:VEVENT
BEGIN:VEVENT
UID:846669ebdeb4ea39826293@hockeytech.com
TZID:UTC
DTSTART:20230323T230500Z
DTEND:20230324T020500Z
DTSTAMP:20230323T230500
DESCRIPTION:You have booked some OHL games
LOCATION:Peterborough Memorial Centre
SUMMARY:Ottawa 67's @ Peterborough Petes
STATUS:CONFIRMED
END:VEVENT
BEGIN:VEVENT
UID:846669ebdeb4ea39826299@hockeytech.com
TZID:UTC
DTSTART:20230324T230000Z
DTEND:20230325T020000Z
DTSTAMP:20230324T230000
DESCRIPTION:You have booked some OHL games
LOCATION:TD Place
SUMMARY:Peterborough Petes @ Ottawa 67's
STATUS:CONFIRMED
END:VEVENT
BEGIN:VEVENT
UID:846669ebdeb4ea39826307@hockeytech.com
TZID:UTC
DTSTART:20230325T180000Z
DTEND:20230325T210000Z
DTSTAMP:20230325T180000
DESCRIPTION:You have booked some OHL games
LOCATION:TD Place
SUMMARY:Barrie Colts @ Ottawa 67's
STATUS:CONFIRMED
END:VEVENT
BEGIN:VEVENT
UID:846669ebdeb4ea39826367@hockeytech.com
TZID:UTC
DTSTART:20221122T000000Z
DTEND:20221122T030000Z
DTSTAMP:20221122T000000
DESCRIPTION:You have booked some OHL games
LOCATION:Erie Insurance Arena
SUMMARY:Ottawa 67's @ Erie Otters
STATUS:CONFIRMED
END:VEVENT
END:VCALENDAR