BEGIN:VCALENDAR
VERSION:2.0
PRODID:-//Hockeytech//Leaguestat iCal//EN
BEGIN:VEVENT
UID:194769e73a94df30e24787@hockeytech.com
TZID:UTC
DTSTART:20211007T233000Z
DTEND:20211008T023000Z
DTSTAMP:20211007T233000
DESCRIPTION:You have booked some OHL games
LOCATION:WFCU Centre
SUMMARY:Sarnia Sting @ Windsor Spitfires
STATUS:CONFIRMED
END:VEVENT
BEGIN:VEVENT
UID:194769e73a94df30e24793@hockeytech.com
TZID:UTC
DTSTART:20211008T230500Z
DTEND:20211009T020500Z
DTSTAMP:20211008T230500
DESCRIPTION:You have booked some OHL games
LOCATION:Progressive Auto Sales Arena
SUMMARY:Windsor Spitfires @ Sarnia Sting
STATUS:CONFIRMED
END:VEVENT
BEGIN:VEVENT
UID:194769e73a94df30e24813@hockeytech.com
TZID:UTC
DTSTART:20211015T233000Z
DTEND:20211016T023000Z
DTSTAMP:20211015T233000
DESCRIPTION:You have booked some OHL games
LOCATION:Kitchener Memorial Auditorium
SUMMARY:Sarnia Sting @ Kitchener Rangers
STATUS:CONFIRMED
END:VEVENT
BEGIN:VEVENT
UID:194769e73a94df30e24822@hockeytech.com
TZID:UTC
DTSTART:20211016T230500Z
DTEND:20211017T020500Z
DTSTAMP:20211016T230500
DESCRIPTION:You have booked some OHL games
LOCATION:Progressive Auto Sales Arena
SUMMARY:London Knights @ Sarnia Sting
STATUS:CONFIRMED
END:VEVENT
BEGIN:VEVENT
UID:194769e73a94df30e24840@hockeytech.com
TZID:UTC
DTSTART:20211022T230500Z
DTEND:20211023T020500Z
DTSTAMP:20211022T230500
DESCRIPTION:You have booked some OHL games
LOCATION:Progressive Auto Sales Arena
SUMMARY:Guelph Storm @ Sarnia Sting
STATUS:CONFIRMED
END:VEVENT
BEGIN:VEVENT
UID:194769e73a94df30e24863@hockeytech.com
TZID:UTC
DTSTART:20211029T233000Z
DTEND:20211030T023000Z
DTSTAMP:20211029T233000
DESCRIPTION:You have booked some OHL games
LOCATION:Budweiser Gardens
SUMMARY:Sarnia Sting @ London Knights
STATUS:CONFIRMED
END:VEVENT
BEGIN:VEVENT
UID:194769e73a94df30e24872@hockeytech.com
TZID:UTC
DTSTART:20211030T233000Z
DTEND:20211031T023000Z
DTSTAMP:20211030T233000
DESCRIPTION:You have booked some OHL games
LOCATION:Harry Lumley Bayshore Community Centre
SUMMARY:Sarnia Sting @ Owen Sound Attack
STATUS:CONFIRMED
END:VEVENT
BEGIN:VEVENT
UID:194769e73a94df30e24888@hockeytech.com
TZID:UTC
DTSTART:20211105T230500Z
DTEND:20211106T020500Z
DTSTAMP:20211105T230500
DESCRIPTION:You have booked some OHL games
LOCATION:Progressive Auto Sales Arena
SUMMARY:Saginaw Spirit @ Sarnia Sting
STATUS:CONFIRMED
END:VEVENT
BEGIN:VEVENT
UID:194769e73a94df30e24894@hockeytech.com
TZID:UTC
DTSTART:20211106T230500Z
DTEND:20211107T020500Z
DTSTAMP:20211106T230500
DESCRIPTION:You have booked some OHL games
LOCATION:Dow Event Center
SUMMARY:Sarnia Sting @ Saginaw Spirit
STATUS:CONFIRMED
END:VEVENT
BEGIN:VEVENT
UID:194769e73a94df30e24901@hockeytech.com
TZID:UTC
DTSTART:20211107T190500Z
DTEND:20211107T220500Z
DTSTAMP:20211107T190500
DESCRIPTION:You have booked some OHL games
LOCATION:Progressive Auto Sales Arena
SUMMARY:Erie Otters @ Sarnia Sting
STATUS:CONFIRMED
END:VEVENT
BEGIN:VEVENT
UID:194769e73a94df30e24912@hockeytech.com
TZID:UTC
DTSTART:20211113T000500Z
DTEND:20211113T030500Z
DTSTAMP:20211113T000500
DESCRIPTION:You have booked some OHL games
LOCATION:Progressive Auto Sales Arena
SUMMARY:Windsor Spitfires @ Sarnia Sting
STATUS:CONFIRMED
END:VEVENT
BEGIN:VEVENT
UID:194769e73a94df30e24921@hockeytech.com
TZID:UTC
DTSTART:20211114T000500Z
DTEND:20211114T030500Z
DTSTAMP:20211114T000500
DESCRIPTION:You have booked some OHL games
LOCATION:Dow Event Center
SUMMARY:Sarnia Sting @ Saginaw Spirit
STATUS:CONFIRMED
END:VEVENT
BEGIN:VEVENT
UID:194769e73a94df30e24926@hockeytech.com
TZID:UTC
DTSTART:20211117T000500Z
DTEND:20211117T030500Z
DTSTAMP:20211117T000500
DESCRIPTION:You have booked some OHL games
LOCATION:Progressive Auto Sales Arena
SUMMARY:London Knights @ Sarnia Sting
STATUS:CONFIRMED
END:VEVENT
BEGIN:VEVENT
UID:194769e73a94df30e24936@hockeytech.com
TZID:UTC
DTSTART:20211120T003000Z
DTEND:20211120T033000Z
DTSTAMP:20211120T003000
DESCRIPTION:You have booked some OHL games
LOCATION:Budweiser Gardens
SUMMARY:Sarnia Sting @ London Knights
STATUS:CONFIRMED
END:VEVENT
BEGIN:VEVENT
UID:194769e73a94df30e24942@hockeytech.com
TZID:UTC
DTSTART:20211120T210000Z
DTEND:20211121T000000Z
DTSTAMP:20211120T210000
DESCRIPTION:You have booked some OHL games
LOCATION:Sleeman Centre
SUMMARY:Sarnia Sting @ Guelph Storm
STATUS:CONFIRMED
END:VEVENT
BEGIN:VEVENT
UID:194769e73a94df30e24952@hockeytech.com
TZID:UTC
DTSTART:20211121T190500Z
DTEND:20211121T220500Z
DTSTAMP:20211121T190500
DESCRIPTION:You have booked some OHL games
LOCATION:Progressive Auto Sales Arena
SUMMARY:Owen Sound Attack @ Sarnia Sting
STATUS:CONFIRMED
END:VEVENT
BEGIN:VEVENT
UID:194769e73a94df30e24965@hockeytech.com
TZID:UTC
DTSTART:20211127T000500Z
DTEND:20211127T030500Z
DTSTAMP:20211127T000500
DESCRIPTION:You have booked some OHL games
LOCATION:Progressive Auto Sales Arena
SUMMARY:Flint Firebirds @ Sarnia Sting
STATUS:CONFIRMED
END:VEVENT
BEGIN:VEVENT
UID:194769e73a94df30e24970@hockeytech.com
TZID:UTC
DTSTART:20211128T000000Z
DTEND:20211128T030000Z
DTSTAMP:20211128T000000
DESCRIPTION:You have booked some OHL games
LOCATION:Dort Financial Center
SUMMARY:Sarnia Sting @ Flint Firebirds
STATUS:CONFIRMED
END:VEVENT
BEGIN:VEVENT
UID:194769e73a94df30e24979@hockeytech.com
TZID:UTC
DTSTART:20211128T190500Z
DTEND:20211128T220500Z
DTSTAMP:20211128T190500
DESCRIPTION:You have booked some OHL games
LOCATION:Progressive Auto Sales Arena
SUMMARY:Soo Greyhounds @ Sarnia Sting
STATUS:CONFIRMED
END:VEVENT
BEGIN:VEVENT
UID:194769e73a94df30e24993@hockeytech.com
TZID:UTC
DTSTART:20211204T000500Z
DTEND:20211204T030500Z
DTSTAMP:20211204T000500
DESCRIPTION:You have booked some OHL games
LOCATION:Progressive Auto Sales Arena
SUMMARY:Windsor Spitfires @ Sarnia Sting
STATUS:CONFIRMED
END:VEVENT
BEGIN:VEVENT
UID:194769e73a94df30e24996@hockeytech.com
TZID:UTC
DTSTART:20211204T210000Z
DTEND:20211205T000000Z
DTSTAMP:20211204T210000
DESCRIPTION:You have booked some OHL games
LOCATION:Budweiser Gardens
SUMMARY:Sarnia Sting @ London Knights
STATUS:CONFIRMED
END:VEVENT
BEGIN:VEVENT
UID:194769e73a94df30e25006@hockeytech.com
TZID:UTC
DTSTART:20211205T190500Z
DTEND:20211205T220500Z
DTSTAMP:20211205T190500
DESCRIPTION:You have booked some OHL games
LOCATION:Progressive Auto Sales Arena
SUMMARY:Kitchener Rangers @ Sarnia Sting
STATUS:CONFIRMED
END:VEVENT
BEGIN:VEVENT
UID:194769e73a94df30e25009@hockeytech.com
TZID:UTC
DTSTART:20211209T000000Z
DTEND:20211209T030000Z
DTSTAMP:20211209T000000
DESCRIPTION:You have booked some OHL games
LOCATION:Sleeman Centre
SUMMARY:Sarnia Sting @ Guelph Storm
STATUS:CONFIRMED
END:VEVENT
BEGIN:VEVENT
UID:194769e73a94df30e25018@hockeytech.com
TZID:UTC
DTSTART:20211211T003000Z
DTEND:20211211T033000Z
DTSTAMP:20211211T003000
DESCRIPTION:You have booked some OHL games
LOCATION:Kitchener Memorial Auditorium
SUMMARY:Sarnia Sting @ Kitchener Rangers
STATUS:CONFIRMED
END:VEVENT
BEGIN:VEVENT
UID:194769e73a94df30e25030@hockeytech.com
TZID:UTC
DTSTART:20211212T190000Z
DTEND:20211212T220000Z
DTSTAMP:20211212T190000
DESCRIPTION:You have booked some OHL games
LOCATION:Erie Insurance Arena
SUMMARY:Sarnia Sting @ Erie Otters
STATUS:CONFIRMED
END:VEVENT
BEGIN:VEVENT
UID:194769e73a94df30e25050@hockeytech.com
TZID:UTC
DTSTART:20220109T000500Z
DTEND:20220109T030500Z
DTSTAMP:20220109T000500
DESCRIPTION:You have booked some OHL games
LOCATION:Progressive Auto Sales Arena
SUMMARY:Flint Firebirds @ Sarnia Sting
STATUS:CONFIRMED
END:VEVENT
BEGIN:VEVENT
UID:194769e73a94df30e25056@hockeytech.com
TZID:UTC
DTSTART:20220322T230000Z
DTEND:20220323T020000Z
DTSTAMP:20220322T230000
DESCRIPTION:You have booked some OHL games
LOCATION:Harry Lumley Bayshore Community Centre
SUMMARY:Sarnia Sting @ Owen Sound Attack
STATUS:CONFIRMED
END:VEVENT
BEGIN:VEVENT
UID:194769e73a94df30e25066@hockeytech.com
TZID:UTC
DTSTART:20220310T000500Z
DTEND:20220310T030500Z
DTSTAMP:20220310T000500
DESCRIPTION:You have booked some OHL games
LOCATION:Progressive Auto Sales Arena
SUMMARY:London Knights @ Sarnia Sting
STATUS:CONFIRMED
END:VEVENT
BEGIN:VEVENT
UID:194769e73a94df30e25075@hockeytech.com
TZID:UTC
DTSTART:20220417T200000Z
DTEND:20220417T230000Z
DTSTAMP:20220417T200000
DESCRIPTION:You have booked some OHL games
LOCATION:Budweiser Gardens
SUMMARY:Sarnia Sting @ London Knights
STATUS:CONFIRMED
END:VEVENT
BEGIN:VEVENT
UID:194769e73a94df30e25089@hockeytech.com
TZID:UTC
DTSTART:20220315T230500Z
DTEND:20220316T020500Z
DTSTAMP:20220315T230500
DESCRIPTION:You have booked some OHL games
LOCATION:Progressive Auto Sales Arena
SUMMARY:Windsor Spitfires @ Sarnia Sting
STATUS:CONFIRMED
END:VEVENT
BEGIN:VEVENT
UID:194769e73a94df30e25104@hockeytech.com
TZID:UTC
DTSTART:20220415T230500Z
DTEND:20220416T020500Z
DTSTAMP:20220415T230500
DESCRIPTION:You have booked some OHL games
LOCATION:Progressive Auto Sales Arena
SUMMARY:Saginaw Spirit @ Sarnia Sting
STATUS:CONFIRMED
END:VEVENT
BEGIN:VEVENT
UID:194769e73a94df30e25114@hockeytech.com
TZID:UTC
DTSTART:20220220T000500Z
DTEND:20220220T030500Z
DTSTAMP:20220220T000500
DESCRIPTION:You have booked some OHL games
LOCATION:Dow Event Center
SUMMARY:Sarnia Sting @ Saginaw Spirit
STATUS:CONFIRMED
END:VEVENT
BEGIN:VEVENT
UID:194769e73a94df30e25118@hockeytech.com
TZID:UTC
DTSTART:20220113T000500Z
DTEND:20220113T030500Z
DTSTAMP:20220113T000500
DESCRIPTION:You have booked some OHL games
LOCATION:Progressive Auto Sales Arena
SUMMARY:Owen Sound Attack @ Sarnia Sting
STATUS:CONFIRMED
END:VEVENT
BEGIN:VEVENT
UID:194769e73a94df30e25131@hockeytech.com
TZID:UTC
DTSTART:20220115T000500Z
DTEND:20220115T030500Z
DTSTAMP:20220115T000500
DESCRIPTION:You have booked some OHL games
LOCATION:Progressive Auto Sales Arena
SUMMARY:Windsor Spitfires @ Sarnia Sting
STATUS:CONFIRMED
END:VEVENT
BEGIN:VEVENT
UID:194769e73a94df30e25141@hockeytech.com
TZID:UTC
DTSTART:20220116T190000Z
DTEND:20220116T220000Z
DTSTAMP:20220116T190000
DESCRIPTION:You have booked some OHL games
LOCATION:Budweiser Gardens
SUMMARY:Sarnia Sting @ London Knights
STATUS:CONFIRMED
END:VEVENT
BEGIN:VEVENT
UID:194769e73a94df30e25145@hockeytech.com
TZID:UTC
DTSTART:20220407T220000Z
DTEND:20220408T010000Z
DTSTAMP:20220407T220000
DESCRIPTION:You have booked some OHL games
LOCATION:Erie Insurance Arena
SUMMARY:Sarnia Sting @ Erie Otters
STATUS:CONFIRMED
END:VEVENT
BEGIN:VEVENT
UID:194769e73a94df30e25158@hockeytech.com
TZID:UTC
DTSTART:20220122T000500Z
DTEND:20220122T030500Z
DTSTAMP:20220122T000500
DESCRIPTION:You have booked some OHL games
LOCATION:Progressive Auto Sales Arena
SUMMARY:Owen Sound Attack @ Sarnia Sting
STATUS:CONFIRMED
END:VEVENT
BEGIN:VEVENT
UID:194769e73a94df30e25170@hockeytech.com
TZID:UTC
DTSTART:20220123T190000Z
DTEND:20220123T220000Z
DTSTAMP:20220123T190000
DESCRIPTION:You have booked some OHL games
LOCATION:Harry Lumley Bayshore Community Centre
SUMMARY:Sarnia Sting @ Owen Sound Attack
STATUS:CONFIRMED
END:VEVENT
BEGIN:VEVENT
UID:194769e73a94df30e25177@hockeytech.com
TZID:UTC
DTSTART:20220128T003000Z
DTEND:20220128T033000Z
DTSTAMP:20220128T003000
DESCRIPTION:You have booked some OHL games
LOCATION:WFCU Centre
SUMMARY:Sarnia Sting @ Windsor Spitfires
STATUS:CONFIRMED
END:VEVENT
BEGIN:VEVENT
UID:194769e73a94df30e25187@hockeytech.com
TZID:UTC
DTSTART:20220410T210000Z
DTEND:20220411T000000Z
DTSTAMP:20220410T210000
DESCRIPTION:You have booked some OHL games
LOCATION:Dort Financial Center
SUMMARY:Sarnia Sting @ Flint Firebirds
STATUS:CONFIRMED
END:VEVENT
BEGIN:VEVENT
UID:194769e73a94df30e25198@hockeytech.com
TZID:UTC
DTSTART:20220130T190500Z
DTEND:20220130T220500Z
DTSTAMP:20220130T190500
DESCRIPTION:You have booked some OHL games
LOCATION:Progressive Auto Sales Arena
SUMMARY:Kitchener Rangers @ Sarnia Sting
STATUS:CONFIRMED
END:VEVENT
BEGIN:VEVENT
UID:194769e73a94df30e25200@hockeytech.com
TZID:UTC
DTSTART:20220408T233000Z
DTEND:20220409T023000Z
DTSTAMP:20220408T233000
DESCRIPTION:You have booked some OHL games
LOCATION:Kitchener Memorial Auditorium
SUMMARY:Sarnia Sting @ Kitchener Rangers
STATUS:CONFIRMED
END:VEVENT
BEGIN:VEVENT
UID:194769e73a94df30e25214@hockeytech.com
TZID:UTC
DTSTART:20220205T000500Z
DTEND:20220205T030500Z
DTSTAMP:20220205T000500
DESCRIPTION:You have booked some OHL games
LOCATION:Progressive Auto Sales Arena
SUMMARY:Erie Otters @ Sarnia Sting
STATUS:CONFIRMED
END:VEVENT
BEGIN:VEVENT
UID:194769e73a94df30e25217@hockeytech.com
TZID:UTC
DTSTART:20220412T230000Z
DTEND:20220413T020000Z
DTSTAMP:20220412T230000
DESCRIPTION:You have booked some OHL games
LOCATION:Dort Financial Center
SUMMARY:Sarnia Sting @ Flint Firebirds
STATUS:CONFIRMED
END:VEVENT
BEGIN:VEVENT
UID:194769e73a94df30e25229@hockeytech.com
TZID:UTC
DTSTART:20220207T000000Z
DTEND:20220207T030000Z
DTSTAMP:20220207T000000
DESCRIPTION:You have booked some OHL games
LOCATION:WFCU Centre
SUMMARY:Sarnia Sting @ Windsor Spitfires
STATUS:CONFIRMED
END:VEVENT
BEGIN:VEVENT
UID:194769e73a94df30e25235@hockeytech.com
TZID:UTC
DTSTART:20220210T000500Z
DTEND:20220210T030500Z
DTSTAMP:20220210T000500
DESCRIPTION:You have booked some OHL games
LOCATION:Progressive Auto Sales Arena
SUMMARY:Guelph Storm @ Sarnia Sting
STATUS:CONFIRMED
END:VEVENT
BEGIN:VEVENT
UID:194769e73a94df30e25245@hockeytech.com
TZID:UTC
DTSTART:20220212T000700Z
DTEND:20220212T030700Z
DTSTAMP:20220212T000700
DESCRIPTION:You have booked some OHL games
LOCATION:GFL Memorial Gardens
SUMMARY:Sarnia Sting @ Soo Greyhounds
STATUS:CONFIRMED
END:VEVENT
BEGIN:VEVENT
UID:194769e73a94df30e25251@hockeytech.com
TZID:UTC
DTSTART:20220213T000700Z
DTEND:20220213T030700Z
DTSTAMP:20220213T000700
DESCRIPTION:You have booked some OHL games
LOCATION:GFL Memorial Gardens
SUMMARY:Sarnia Sting @ Soo Greyhounds
STATUS:CONFIRMED
END:VEVENT
BEGIN:VEVENT
UID:194769e73a94df30e25258@hockeytech.com
TZID:UTC
DTSTART:20220216T000000Z
DTEND:20220216T030000Z
DTSTAMP:20220216T000000
DESCRIPTION:You have booked some OHL games
LOCATION:Kitchener Memorial Auditorium
SUMMARY:Sarnia Sting @ Kitchener Rangers
STATUS:CONFIRMED
END:VEVENT
BEGIN:VEVENT
UID:194769e73a94df30e25273@hockeytech.com
TZID:UTC
DTSTART:20220219T000500Z
DTEND:20220219T030500Z
DTSTAMP:20220219T000500
DESCRIPTION:You have booked some OHL games
LOCATION:Progressive Auto Sales Arena
SUMMARY:Kitchener Rangers @ Sarnia Sting
STATUS:CONFIRMED
END:VEVENT
BEGIN:VEVENT
UID:194769e73a94df30e25289@hockeytech.com
TZID:UTC
DTSTART:20220221T190500Z
DTEND:20220221T220500Z
DTSTAMP:20220221T190500
DESCRIPTION:You have booked some OHL games
LOCATION:Progressive Auto Sales Arena
SUMMARY:Flint Firebirds @ Sarnia Sting
STATUS:CONFIRMED
END:VEVENT
BEGIN:VEVENT
UID:194769e73a94df30e25305@hockeytech.com
TZID:UTC
DTSTART:20220226T000500Z
DTEND:20220226T030500Z
DTSTAMP:20220226T000500
DESCRIPTION:You have booked some OHL games
LOCATION:Progressive Auto Sales Arena
SUMMARY:Flint Firebirds @ Sarnia Sting
STATUS:CONFIRMED
END:VEVENT
BEGIN:VEVENT
UID:194769e73a94df30e25308@hockeytech.com
TZID:UTC
DTSTART:20220227T000000Z
DTEND:20220227T030000Z
DTSTAMP:20220227T000000
DESCRIPTION:You have booked some OHL games
LOCATION:Dort Financial Center
SUMMARY:Sarnia Sting @ Flint Firebirds
STATUS:CONFIRMED
END:VEVENT
BEGIN:VEVENT
UID:194769e73a94df30e25319@hockeytech.com
TZID:UTC
DTSTART:20220227T210500Z
DTEND:20220228T000500Z
DTSTAMP:20220227T210500
DESCRIPTION:You have booked some OHL games
LOCATION:WFCU Centre
SUMMARY:Sarnia Sting @ Windsor Spitfires
STATUS:CONFIRMED
END:VEVENT
BEGIN:VEVENT
UID:194769e73a94df30e25322@hockeytech.com
TZID:UTC
DTSTART:20220303T000500Z
DTEND:20220303T030500Z
DTSTAMP:20220303T000500
DESCRIPTION:You have booked some OHL games
LOCATION:Progressive Auto Sales Arena
SUMMARY:Saginaw Spirit @ Sarnia Sting
STATUS:CONFIRMED
END:VEVENT
BEGIN:VEVENT
UID:194769e73a94df30e25334@hockeytech.com
TZID:UTC
DTSTART:20220305T000500Z
DTEND:20220305T030500Z
DTSTAMP:20220305T000500
DESCRIPTION:You have booked some OHL games
LOCATION:Progressive Auto Sales Arena
SUMMARY:Soo Greyhounds @ Sarnia Sting
STATUS:CONFIRMED
END:VEVENT
BEGIN:VEVENT
UID:194769e73a94df30e25344@hockeytech.com
TZID:UTC
DTSTART:20220306T190500Z
DTEND:20220306T220500Z
DTSTAMP:20220306T190500
DESCRIPTION:You have booked some OHL games
LOCATION:Progressive Auto Sales Arena
SUMMARY:Kitchener Rangers @ Sarnia Sting
STATUS:CONFIRMED
END:VEVENT
BEGIN:VEVENT
UID:194769e73a94df30e25363@hockeytech.com
TZID:UTC
DTSTART:20220312T000500Z
DTEND:20220312T030500Z
DTSTAMP:20220312T000500
DESCRIPTION:You have booked some OHL games
LOCATION:Progressive Auto Sales Arena
SUMMARY:Guelph Storm @ Sarnia Sting
STATUS:CONFIRMED
END:VEVENT
BEGIN:VEVENT
UID:194769e73a94df30e25373@hockeytech.com
TZID:UTC
DTSTART:20220313T180500Z
DTEND:20220313T210500Z
DTSTAMP:20220313T180500
DESCRIPTION:You have booked some OHL games
LOCATION:Progressive Auto Sales Arena
SUMMARY:London Knights @ Sarnia Sting
STATUS:CONFIRMED
END:VEVENT
BEGIN:VEVENT
UID:194769e73a94df30e25382@hockeytech.com
TZID:UTC
DTSTART:20220316T230500Z
DTEND:20220317T020500Z
DTSTAMP:20220316T230500
DESCRIPTION:You have booked some OHL games
LOCATION:Progressive Auto Sales Arena
SUMMARY:Soo Greyhounds @ Sarnia Sting
STATUS:CONFIRMED
END:VEVENT
BEGIN:VEVENT
UID:194769e73a94df30e25386@hockeytech.com
TZID:UTC
DTSTART:20220318T233000Z
DTEND:20220319T023000Z
DTSTAMP:20220318T233000
DESCRIPTION:You have booked some OHL games
LOCATION:Sleeman Centre
SUMMARY:Sarnia Sting @ Guelph Storm
STATUS:CONFIRMED
END:VEVENT
BEGIN:VEVENT
UID:194769e73a94df30e25405@hockeytech.com
TZID:UTC
DTSTART:20220320T180500Z
DTEND:20220320T210500Z
DTSTAMP:20220320T180500
DESCRIPTION:You have booked some OHL games
LOCATION:Progressive Auto Sales Arena
SUMMARY:London Knights @ Sarnia Sting
STATUS:CONFIRMED
END:VEVENT
BEGIN:VEVENT
UID:194769e73a94df30e25418@hockeytech.com
TZID:UTC
DTSTART:20220325T230500Z
DTEND:20220326T020500Z
DTSTAMP:20220325T230500
DESCRIPTION:You have booked some OHL games
LOCATION:Progressive Auto Sales Arena
SUMMARY:Saginaw Spirit @ Sarnia Sting
STATUS:CONFIRMED
END:VEVENT
BEGIN:VEVENT
UID:194769e73a94df30e25425@hockeytech.com
TZID:UTC
DTSTART:20220326T233000Z
DTEND:20220327T023000Z
DTSTAMP:20220326T233000
DESCRIPTION:You have booked some OHL games
LOCATION:Harry Lumley Bayshore Community Centre
SUMMARY:Sarnia Sting @ Owen Sound Attack
STATUS:CONFIRMED
END:VEVENT
BEGIN:VEVENT
UID:194769e73a94df30e25435@hockeytech.com
TZID:UTC
DTSTART:20220327T191500Z
DTEND:20220327T221500Z
DTSTAMP:20220327T191500
DESCRIPTION:You have booked some OHL games
LOCATION:Progressive Auto Sales Arena
SUMMARY:Owen Sound Attack @ Sarnia Sting
STATUS:CONFIRMED
END:VEVENT
BEGIN:VEVENT
UID:194769e73a94df30e25443@hockeytech.com
TZID:UTC
DTSTART:20220331T233000Z
DTEND:20220401T023000Z
DTSTAMP:20220331T233000
DESCRIPTION:You have booked some OHL games
LOCATION:WFCU Centre
SUMMARY:Sarnia Sting @ Windsor Spitfires
STATUS:CONFIRMED
END:VEVENT
BEGIN:VEVENT
UID:194769e73a94df30e25457@hockeytech.com
TZID:UTC
DTSTART:20220402T230500Z
DTEND:20220403T020500Z
DTSTAMP:20220402T230500
DESCRIPTION:You have booked some OHL games
LOCATION:Dow Event Center
SUMMARY:Sarnia Sting @ Saginaw Spirit
STATUS:CONFIRMED
END:VEVENT
BEGIN:VEVENT
UID:194769e73a94df30e25463@hockeytech.com
TZID:UTC
DTSTART:20220404T230700Z
DTEND:20220405T020700Z
DTSTAMP:20220404T230700
DESCRIPTION:You have booked some OHL games
LOCATION:GFL Memorial Gardens
SUMMARY:Sarnia Sting @ Soo Greyhounds
STATUS:CONFIRMED
END:VEVENT
END:VCALENDAR