BEGIN:VCALENDAR
VERSION:2.0
PRODID:-//Hockeytech//Leaguestat iCal//EN
BEGIN:VEVENT
UID:286869e8cd3c92e7417449@hockeytech.com
TZID:UTC
DTSTART:20110325T233000Z
DTEND:20110326T023000Z
DTSTAMP:20110325T233000
DESCRIPTION:You have booked some OHL games
LOCATION:Kitchener Memorial Auditorium
SUMMARY:Plymouth Whalers @ Kitchener Rangers
STATUS:CONFIRMED
END:VEVENT
BEGIN:VEVENT
UID:286869e8cd3c92e7417450@hockeytech.com
TZID:UTC
DTSTART:20110328T230000Z
DTEND:20110329T020000Z
DTSTAMP:20110328T230000
DESCRIPTION:You have booked some OHL games
LOCATION:Kitchener Memorial Auditorium
SUMMARY:Plymouth Whalers @ Kitchener Rangers
STATUS:CONFIRMED
END:VEVENT
BEGIN:VEVENT
UID:286869e8cd3c92e7417451@hockeytech.com
TZID:UTC
DTSTART:20110401T233000Z
DTEND:20110402T023000Z
DTSTAMP:20110401T233000
DESCRIPTION:You have booked some OHL games
LOCATION:Kitchener Memorial Auditorium
SUMMARY:Plymouth Whalers @ Kitchener Rangers
STATUS:CONFIRMED
END:VEVENT
BEGIN:VEVENT
UID:286869e8cd3c92e7417452@hockeytech.com
TZID:UTC
DTSTART:20110404T230000Z
DTEND:20110405T020000Z
DTSTAMP:20110404T230000
DESCRIPTION:You have booked some OHL games
LOCATION:Kitchener Memorial Auditorium
SUMMARY:Plymouth Whalers @ Kitchener Rangers
STATUS:CONFIRMED
END:VEVENT
BEGIN:VEVENT
UID:286869e8cd3c92e7417476@hockeytech.com
TZID:UTC
DTSTART:20110326T230500Z
DTEND:20110327T020500Z
DTSTAMP:20110326T230500
DESCRIPTION:You have booked some OHL games
LOCATION:Compuware Arena
SUMMARY:Kitchener Rangers @ Plymouth Whalers
STATUS:CONFIRMED
END:VEVENT
BEGIN:VEVENT
UID:286869e8cd3c92e7417477@hockeytech.com
TZID:UTC
DTSTART:20110330T230500Z
DTEND:20110331T020500Z
DTSTAMP:20110330T230500
DESCRIPTION:You have booked some OHL games
LOCATION:Compuware Arena
SUMMARY:Kitchener Rangers @ Plymouth Whalers
STATUS:CONFIRMED
END:VEVENT
BEGIN:VEVENT
UID:286869e8cd3c92e7417478@hockeytech.com
TZID:UTC
DTSTART:20110402T230500Z
DTEND:20110403T020500Z
DTSTAMP:20110402T230500
DESCRIPTION:You have booked some OHL games
LOCATION:Compuware Arena
SUMMARY:Kitchener Rangers @ Plymouth Whalers
STATUS:CONFIRMED
END:VEVENT
END:VCALENDAR