BEGIN:VCALENDAR
VERSION:2.0
PRODID:-//Hockeytech//Leaguestat iCal//EN
BEGIN:VEVENT
UID:173469e6e0252d59032498@hockeytech.com
TZID:UTC
DTSTART:20260327T220000Z
DTEND:20260328T010000Z
DTSTAMP:20260327T220000
DESCRIPTION:You have booked some LHJMQ games
LOCATION:Eastlink Centre
SUMMARY:Québec, Remparts @ Charlottetown, Islanders
STATUS:CONFIRMED
END:VEVENT
BEGIN:VEVENT
UID:173469e6e0252d59032499@hockeytech.com
TZID:UTC
DTSTART:20260328T220000Z
DTEND:20260329T010000Z
DTSTAMP:20260328T220000
DESCRIPTION:You have booked some LHJMQ games
LOCATION:Eastlink Centre
SUMMARY:Québec, Remparts @ Charlottetown, Islanders
STATUS:CONFIRMED
END:VEVENT
BEGIN:VEVENT
UID:173469e6e0252d59032500@hockeytech.com
TZID:UTC
DTSTART:20260331T230000Z
DTEND:20260401T020000Z
DTSTAMP:20260331T230000
DESCRIPTION:You have booked some LHJMQ games
LOCATION:Centre Vidéotron
SUMMARY:Charlottetown, Islanders @ Québec, Remparts
STATUS:CONFIRMED
END:VEVENT
BEGIN:VEVENT
UID:173469e6e0252d59032501@hockeytech.com
TZID:UTC
DTSTART:20260401T230000Z
DTEND:20260402T020000Z
DTSTAMP:20260401T230000
DESCRIPTION:You have booked some LHJMQ games
LOCATION:Centre Vidéotron
SUMMARY:Charlottetown, Islanders @ Québec, Remparts
STATUS:CONFIRMED
END:VEVENT
BEGIN:VEVENT
UID:173469e6e0252d59032502@hockeytech.com
TZID:UTC
DTSTART:20260403T230000Z
DTEND:20260404T020000Z
DTSTAMP:20260403T230000
DESCRIPTION:You have booked some LHJMQ games
LOCATION:Centre Vidéotron
SUMMARY:Charlottetown, Islanders @ Québec, Remparts
STATUS:CONFIRMED
END:VEVENT
BEGIN:VEVENT
UID:173469e6e0252d59032503@hockeytech.com
TZID:UTC
DTSTART:20260406T220000Z
DTEND:20260407T010000Z
DTSTAMP:20260406T220000
DESCRIPTION:You have booked some LHJMQ games
LOCATION:Eastlink Centre
SUMMARY:Québec, Remparts @ Charlottetown, Islanders
STATUS:CONFIRMED
END:VEVENT
BEGIN:VEVENT
UID:173469e6e0252d59032504@hockeytech.com
TZID:UTC
DTSTART:20260407T220000Z
DTEND:20260408T010000Z
DTSTAMP:20260407T220000
DESCRIPTION:You have booked some LHJMQ games
LOCATION:Eastlink Centre
SUMMARY:Québec, Remparts @ Charlottetown, Islanders
STATUS:CONFIRMED
END:VEVENT
END:VCALENDAR