BEGIN:VCALENDAR
VERSION:2.0
PRODID:-//Hockeytech//Leaguestat iCal//EN
BEGIN:VEVENT
UID:21969ea3f322110132520@hockeytech.com
TZID:UTC
DTSTART:20260327T230000Z
DTEND:20260328T020000Z
DTSTAMP:20260327T230000
DESCRIPTION:You have booked some LHJMQ games
LOCATION:Centre Georges-Vézina
SUMMARY:Halifax, Mooseheads @ Chicoutimi, Saguenéens
STATUS:CONFIRMED
END:VEVENT
BEGIN:VEVENT
UID:21969ea3f322110132521@hockeytech.com
TZID:UTC
DTSTART:20260328T230000Z
DTEND:20260329T020000Z
DTSTAMP:20260328T230000
DESCRIPTION:You have booked some LHJMQ games
LOCATION:Centre Georges-Vézina
SUMMARY:Halifax, Mooseheads @ Chicoutimi, Saguenéens
STATUS:CONFIRMED
END:VEVENT
BEGIN:VEVENT
UID:21969ea3f322110132522@hockeytech.com
TZID:UTC
DTSTART:20260331T220000Z
DTEND:20260401T010000Z
DTSTAMP:20260331T220000
DESCRIPTION:You have booked some LHJMQ games
LOCATION:Scotiabank Centre
SUMMARY:Chicoutimi, Saguenéens @ Halifax, Mooseheads
STATUS:CONFIRMED
END:VEVENT
BEGIN:VEVENT
UID:21969ea3f322110132523@hockeytech.com
TZID:UTC
DTSTART:20260401T220000Z
DTEND:20260402T010000Z
DTSTAMP:20260401T220000
DESCRIPTION:You have booked some LHJMQ games
LOCATION:Scotiabank Centre
SUMMARY:Chicoutimi, Saguenéens @ Halifax, Mooseheads
STATUS:CONFIRMED
END:VEVENT
BEGIN:VEVENT
UID:21969ea3f322110132555@hockeytech.com
TZID:UTC
DTSTART:20260410T230000Z
DTEND:20260411T020000Z
DTSTAMP:20260410T230000
DESCRIPTION:You have booked some LHJMQ games
LOCATION:Centre Georges-Vézina
SUMMARY:Québec, Remparts @ Chicoutimi, Saguenéens
STATUS:CONFIRMED
END:VEVENT
BEGIN:VEVENT
UID:21969ea3f322110132556@hockeytech.com
TZID:UTC
DTSTART:20260411T230000Z
DTEND:20260412T020000Z
DTSTAMP:20260411T230000
DESCRIPTION:You have booked some LHJMQ games
LOCATION:Centre Georges-Vézina
SUMMARY:Québec, Remparts @ Chicoutimi, Saguenéens
STATUS:CONFIRMED
END:VEVENT
BEGIN:VEVENT
UID:21969ea3f322110132557@hockeytech.com
TZID:UTC
DTSTART:20260413T230000Z
DTEND:20260414T020000Z
DTSTAMP:20260413T230000
DESCRIPTION:You have booked some LHJMQ games
LOCATION:Centre Vidéotron
SUMMARY:Chicoutimi, Saguenéens @ Québec, Remparts
STATUS:CONFIRMED
END:VEVENT
BEGIN:VEVENT
UID:21969ea3f322110132558@hockeytech.com
TZID:UTC
DTSTART:20260415T230000Z
DTEND:20260416T020000Z
DTSTAMP:20260415T230000
DESCRIPTION:You have booked some LHJMQ games
LOCATION:Centre Vidéotron
SUMMARY:Chicoutimi, Saguenéens @ Québec, Remparts
STATUS:CONFIRMED
END:VEVENT
BEGIN:VEVENT
UID:21969ea3f322110132576@hockeytech.com
TZID:UTC
DTSTART:20260424T230000Z
DTEND:20260425T020000Z
DTSTAMP:20260424T230000
DESCRIPTION:You have booked some LHJMQ games
LOCATION:Centre Georges-Vézina
SUMMARY:Rouyn-Noranda, Huskies @ Chicoutimi, Saguenéens
STATUS:CONFIRMED
END:VEVENT
BEGIN:VEVENT
UID:21969ea3f322110132577@hockeytech.com
TZID:UTC
DTSTART:20260425T230000Z
DTEND:20260426T020000Z
DTSTAMP:20260425T230000
DESCRIPTION:You have booked some LHJMQ games
LOCATION:Centre Georges-Vézina
SUMMARY:Rouyn-Noranda, Huskies @ Chicoutimi, Saguenéens
STATUS:CONFIRMED
END:VEVENT
BEGIN:VEVENT
UID:21969ea3f322110132578@hockeytech.com
TZID:UTC
DTSTART:20260428T230000Z
DTEND:20260429T020000Z
DTSTAMP:20260428T230000
DESCRIPTION:You have booked some LHJMQ games
LOCATION:Aréna Glencore
SUMMARY:Chicoutimi, Saguenéens @ Rouyn-Noranda, Huskies
STATUS:CONFIRMED
END:VEVENT
BEGIN:VEVENT
UID:21969ea3f322110132579@hockeytech.com
TZID:UTC
DTSTART:20260429T230000Z
DTEND:20260430T020000Z
DTSTAMP:20260429T230000
DESCRIPTION:You have booked some LHJMQ games
LOCATION:Aréna Glencore
SUMMARY:Chicoutimi, Saguenéens @ Rouyn-Noranda, Huskies
STATUS:CONFIRMED
END:VEVENT
BEGIN:VEVENT
UID:21969ea3f322110132580@hockeytech.com
TZID:UTC
DTSTART:20260501T230000Z
DTEND:20260502T020000Z
DTSTAMP:20260501T230000
DESCRIPTION:You have booked some LHJMQ games
LOCATION:Centre Georges-Vézina
SUMMARY:Rouyn-Noranda, Huskies @ Chicoutimi, Saguenéens
STATUS:CONFIRMED
END:VEVENT
BEGIN:VEVENT
UID:21969ea3f322110132581@hockeytech.com
TZID:UTC
DTSTART:20260503T200000Z
DTEND:20260503T230000Z
DTSTAMP:20260503T200000
DESCRIPTION:You have booked some LHJMQ games
LOCATION:Aréna Glencore
SUMMARY:Chicoutimi, Saguenéens @ Rouyn-Noranda, Huskies
STATUS:CONFIRMED
END:VEVENT
BEGIN:VEVENT
UID:21969ea3f322110132582@hockeytech.com
TZID:UTC
DTSTART:20260505T230000Z
DTEND:20260506T020000Z
DTSTAMP:20260505T230000
DESCRIPTION:You have booked some LHJMQ games
LOCATION:Centre Georges-Vézina
SUMMARY:Rouyn-Noranda, Huskies @ Chicoutimi, Saguenéens
STATUS:CONFIRMED
END:VEVENT
END:VCALENDAR