BEGIN:VCALENDAR
VERSION:2.0
PRODID:-//Hockeytech//Leaguestat iCal//EN
BEGIN:VEVENT
UID:979269e6be18e8fa431912@hockeytech.com
TZID:UTC
DTSTART:20250919T220000Z
DTEND:20250920T010000Z
DTSTAMP:20250919T220000
DESCRIPTION:You have booked some LHJMQ games
LOCATION:TD Station
SUMMARY:Cape Breton, Eagles @ Saint John, Sea Dogs
STATUS:CONFIRMED
END:VEVENT
BEGIN:VEVENT
UID:979269e6be18e8fa431924@hockeytech.com
TZID:UTC
DTSTART:20250920T220000Z
DTEND:20250921T010000Z
DTSTAMP:20250920T220000
DESCRIPTION:You have booked some LHJMQ games
LOCATION:TD Station
SUMMARY:Cape Breton, Eagles @ Saint John, Sea Dogs
STATUS:CONFIRMED
END:VEVENT
BEGIN:VEVENT
UID:979269e6be18e8fa431928@hockeytech.com
TZID:UTC
DTSTART:20250926T220000Z
DTEND:20250927T010000Z
DTSTAMP:20250926T220000
DESCRIPTION:You have booked some LHJMQ games
LOCATION:Centre 200
SUMMARY:Moncton, Wildcats @ Cape Breton, Eagles
STATUS:CONFIRMED
END:VEVENT
BEGIN:VEVENT
UID:979269e6be18e8fa431939@hockeytech.com
TZID:UTC
DTSTART:20250927T220000Z
DTEND:20250928T010000Z
DTSTAMP:20250927T220000
DESCRIPTION:You have booked some LHJMQ games
LOCATION:Centre 200
SUMMARY:Moncton, Wildcats @ Cape Breton, Eagles
STATUS:CONFIRMED
END:VEVENT
BEGIN:VEVENT
UID:979269e6be18e8fa431946@hockeytech.com
TZID:UTC
DTSTART:20251002T220000Z
DTEND:20251003T010000Z
DTSTAMP:20251002T220000
DESCRIPTION:You have booked some LHJMQ games
LOCATION:Centre 200
SUMMARY:Chicoutimi, Saguenéens @ Cape Breton, Eagles
STATUS:CONFIRMED
END:VEVENT
BEGIN:VEVENT
UID:979269e6be18e8fa431949@hockeytech.com
TZID:UTC
DTSTART:20251003T220000Z
DTEND:20251004T010000Z
DTSTAMP:20251003T220000
DESCRIPTION:You have booked some LHJMQ games
LOCATION:Centre 200
SUMMARY:Chicoutimi, Saguenéens @ Cape Breton, Eagles
STATUS:CONFIRMED
END:VEVENT
BEGIN:VEVENT
UID:979269e6be18e8fa431970@hockeytech.com
TZID:UTC
DTSTART:20251010T220000Z
DTEND:20251011T010000Z
DTSTAMP:20251010T220000
DESCRIPTION:You have booked some LHJMQ games
LOCATION:Centre 200
SUMMARY:Rouyn-Noranda, Huskies @ Cape Breton, Eagles
STATUS:CONFIRMED
END:VEVENT
BEGIN:VEVENT
UID:979269e6be18e8fa431978@hockeytech.com
TZID:UTC
DTSTART:20251011T220000Z
DTEND:20251012T010000Z
DTSTAMP:20251011T220000
DESCRIPTION:You have booked some LHJMQ games
LOCATION:Centre 200
SUMMARY:Rouyn-Noranda, Huskies @ Cape Breton, Eagles
STATUS:CONFIRMED
END:VEVENT
BEGIN:VEVENT
UID:979269e6be18e8fa431993@hockeytech.com
TZID:UTC
DTSTART:20251016T230000Z
DTEND:20251017T020000Z
DTSTAMP:20251016T230000
DESCRIPTION:You have booked some LHJMQ games
LOCATION:Centre sportif Alcoa
SUMMARY:Cape Breton, Eagles @ Baie-Comeau, Drakkar
STATUS:CONFIRMED
END:VEVENT
BEGIN:VEVENT
UID:979269e6be18e8fa431997@hockeytech.com
TZID:UTC
DTSTART:20251017T230000Z
DTEND:20251018T020000Z
DTSTAMP:20251017T230000
DESCRIPTION:You have booked some LHJMQ games
LOCATION:Centre sportif Alcoa
SUMMARY:Cape Breton, Eagles @ Baie-Comeau, Drakkar
STATUS:CONFIRMED
END:VEVENT
BEGIN:VEVENT
UID:979269e6be18e8fa432008@hockeytech.com
TZID:UTC
DTSTART:20251019T200000Z
DTEND:20251019T230000Z
DTSTAMP:20251019T200000
DESCRIPTION:You have booked some LHJMQ games
LOCATION:Centre Marcel Dionne
SUMMARY:Cape Breton, Eagles @ Drummondville, Voltigeurs
STATUS:CONFIRMED
END:VEVENT
BEGIN:VEVENT
UID:979269e6be18e8fa432024@hockeytech.com
TZID:UTC
DTSTART:20251025T220000Z
DTEND:20251026T010000Z
DTSTAMP:20251025T220000
DESCRIPTION:You have booked some LHJMQ games
LOCATION:Scotiabank Centre
SUMMARY:Cape Breton, Eagles @ Halifax, Mooseheads
STATUS:CONFIRMED
END:VEVENT
BEGIN:VEVENT
UID:979269e6be18e8fa432025@hockeytech.com
TZID:UTC
DTSTART:20251026T170000Z
DTEND:20251026T200000Z
DTSTAMP:20251026T170000
DESCRIPTION:You have booked some LHJMQ games
LOCATION:Eastlink Centre
SUMMARY:Cape Breton, Eagles @ Charlottetown, Islanders
STATUS:CONFIRMED
END:VEVENT
BEGIN:VEVENT
UID:979269e6be18e8fa432028@hockeytech.com
TZID:UTC
DTSTART:20251029T220000Z
DTEND:20251030T010000Z
DTSTAMP:20251029T220000
DESCRIPTION:You have booked some LHJMQ games
LOCATION:Centre 200
SUMMARY:Saint John, Sea Dogs @ Cape Breton, Eagles
STATUS:CONFIRMED
END:VEVENT
BEGIN:VEVENT
UID:979269e6be18e8fa432031@hockeytech.com
TZID:UTC
DTSTART:20251030T220000Z
DTEND:20251031T010000Z
DTSTAMP:20251030T220000
DESCRIPTION:You have booked some LHJMQ games
LOCATION:Centre 200
SUMMARY:Saint John, Sea Dogs @ Cape Breton, Eagles
STATUS:CONFIRMED
END:VEVENT
BEGIN:VEVENT
UID:979269e6be18e8fa432054@hockeytech.com
TZID:UTC
DTSTART:20251107T223000Z
DTEND:20251108T013000Z
DTSTAMP:20251107T223000
DESCRIPTION:You have booked some LHJMQ games
LOCATION:Mary Brown's Centre
SUMMARY:Cape Breton, Eagles @ Newfoundland, Regiment
STATUS:CONFIRMED
END:VEVENT
BEGIN:VEVENT
UID:979269e6be18e8fa432064@hockeytech.com
TZID:UTC
DTSTART:20251108T223000Z
DTEND:20251109T013000Z
DTSTAMP:20251108T223000
DESCRIPTION:You have booked some LHJMQ games
LOCATION:Mary Brown's Centre
SUMMARY:Cape Breton, Eagles @ Newfoundland, Regiment
STATUS:CONFIRMED
END:VEVENT
BEGIN:VEVENT
UID:979269e6be18e8fa432072@hockeytech.com
TZID:UTC
DTSTART:20251114T000000Z
DTEND:20251114T030000Z
DTSTAMP:20251114T000000
DESCRIPTION:You have booked some LHJMQ games
LOCATION:Centre Slush Puppie
SUMMARY:Cape Breton, Eagles @ Gatineau, Olympiques
STATUS:CONFIRMED
END:VEVENT
BEGIN:VEVENT
UID:979269e6be18e8fa432079@hockeytech.com
TZID:UTC
DTSTART:20251115T000000Z
DTEND:20251115T030000Z
DTSTAMP:20251115T000000
DESCRIPTION:You have booked some LHJMQ games
LOCATION:Centre Slush Puppie
SUMMARY:Cape Breton, Eagles @ Gatineau, Olympiques
STATUS:CONFIRMED
END:VEVENT
BEGIN:VEVENT
UID:979269e6be18e8fa432091@hockeytech.com
TZID:UTC
DTSTART:20251116T200000Z
DTEND:20251116T230000Z
DTSTAMP:20251116T200000
DESCRIPTION:You have booked some LHJMQ games
LOCATION:Colisée Financière Sun Life
SUMMARY:Cape Breton, Eagles @ Rimouski, Océanic
STATUS:CONFIRMED
END:VEVENT
BEGIN:VEVENT
UID:979269e6be18e8fa432101@hockeytech.com
TZID:UTC
DTSTART:20251121T230000Z
DTEND:20251122T020000Z
DTSTAMP:20251121T230000
DESCRIPTION:You have booked some LHJMQ games
LOCATION:Centre 200
SUMMARY:Sherbrooke, Phœnix @ Cape Breton, Eagles
STATUS:CONFIRMED
END:VEVENT
BEGIN:VEVENT
UID:979269e6be18e8fa432114@hockeytech.com
TZID:UTC
DTSTART:20251122T230000Z
DTEND:20251123T020000Z
DTSTAMP:20251122T230000
DESCRIPTION:You have booked some LHJMQ games
LOCATION:Centre 200
SUMMARY:Sherbrooke, Phœnix @ Cape Breton, Eagles
STATUS:CONFIRMED
END:VEVENT
BEGIN:VEVENT
UID:979269e6be18e8fa432129@hockeytech.com
TZID:UTC
DTSTART:20251129T230000Z
DTEND:20251130T020000Z
DTSTAMP:20251129T230000
DESCRIPTION:You have booked some LHJMQ games
LOCATION:TD Station
SUMMARY:Cape Breton, Eagles @ Saint John, Sea Dogs
STATUS:CONFIRMED
END:VEVENT
BEGIN:VEVENT
UID:979269e6be18e8fa432130@hockeytech.com
TZID:UTC
DTSTART:20251130T190000Z
DTEND:20251130T220000Z
DTSTAMP:20251130T190000
DESCRIPTION:You have booked some LHJMQ games
LOCATION:Centre Aitken - Fredericton
SUMMARY:Cape Breton, Eagles @ Saint John, Sea Dogs
STATUS:CONFIRMED
END:VEVENT
BEGIN:VEVENT
UID:979269e6be18e8fa432139@hockeytech.com
TZID:UTC
DTSTART:20251205T230000Z
DTEND:20251206T020000Z
DTSTAMP:20251205T230000
DESCRIPTION:You have booked some LHJMQ games
LOCATION:Centre 200
SUMMARY:Val-d'Or, Foreurs @ Cape Breton, Eagles
STATUS:CONFIRMED
END:VEVENT
BEGIN:VEVENT
UID:979269e6be18e8fa432146@hockeytech.com
TZID:UTC
DTSTART:20251206T230000Z
DTEND:20251207T020000Z
DTSTAMP:20251206T230000
DESCRIPTION:You have booked some LHJMQ games
LOCATION:Centre 200
SUMMARY:Val-d'Or, Foreurs @ Cape Breton, Eagles
STATUS:CONFIRMED
END:VEVENT
BEGIN:VEVENT
UID:979269e6be18e8fa432154@hockeytech.com
TZID:UTC
DTSTART:20251211T230000Z
DTEND:20251212T020000Z
DTSTAMP:20251211T230000
DESCRIPTION:You have booked some LHJMQ games
LOCATION:Centre 200
SUMMARY:Moncton, Wildcats @ Cape Breton, Eagles
STATUS:CONFIRMED
END:VEVENT
BEGIN:VEVENT
UID:979269e6be18e8fa432167@hockeytech.com
TZID:UTC
DTSTART:20251213T230000Z
DTEND:20251214T020000Z
DTSTAMP:20251213T230000
DESCRIPTION:You have booked some LHJMQ games
LOCATION:Centre 200
SUMMARY:Newfoundland, Regiment @ Cape Breton, Eagles
STATUS:CONFIRMED
END:VEVENT
BEGIN:VEVENT
UID:979269e6be18e8fa432170@hockeytech.com
TZID:UTC
DTSTART:20251214T190000Z
DTEND:20251214T220000Z
DTSTAMP:20251214T190000
DESCRIPTION:You have booked some LHJMQ games
LOCATION:Centre 200
SUMMARY:Newfoundland, Regiment @ Cape Breton, Eagles
STATUS:CONFIRMED
END:VEVENT
BEGIN:VEVENT
UID:979269e6be18e8fa432175@hockeytech.com
TZID:UTC
DTSTART:20251217T150000Z
DTEND:20251217T180000Z
DTSTAMP:20251217T150000
DESCRIPTION:You have booked some LHJMQ games
LOCATION:Eastlink Centre
SUMMARY:Cape Breton, Eagles @ Charlottetown, Islanders
STATUS:CONFIRMED
END:VEVENT
BEGIN:VEVENT
UID:979269e6be18e8fa432186@hockeytech.com
TZID:UTC
DTSTART:20251218T230000Z
DTEND:20251219T020000Z
DTSTAMP:20251218T230000
DESCRIPTION:You have booked some LHJMQ games
LOCATION:Avenir Centre
SUMMARY:Cape Breton, Eagles @ Moncton, Wildcats
STATUS:CONFIRMED
END:VEVENT
BEGIN:VEVENT
UID:979269e6be18e8fa432193@hockeytech.com
TZID:UTC
DTSTART:20251228T190000Z
DTEND:20251228T220000Z
DTSTAMP:20251228T190000
DESCRIPTION:You have booked some LHJMQ games
LOCATION:Centre 200
SUMMARY:Moncton, Wildcats @ Cape Breton, Eagles
STATUS:CONFIRMED
END:VEVENT
BEGIN:VEVENT
UID:979269e6be18e8fa432207@hockeytech.com
TZID:UTC
DTSTART:20251230T230000Z
DTEND:20251231T020000Z
DTSTAMP:20251230T230000
DESCRIPTION:You have booked some LHJMQ games
LOCATION:Scotiabank Centre
SUMMARY:Cape Breton, Eagles @ Halifax, Mooseheads
STATUS:CONFIRMED
END:VEVENT
BEGIN:VEVENT
UID:979269e6be18e8fa432211@hockeytech.com
TZID:UTC
DTSTART:20251231T180000Z
DTEND:20251231T210000Z
DTSTAMP:20251231T180000
DESCRIPTION:You have booked some LHJMQ games
LOCATION:Centre 200
SUMMARY:Halifax, Mooseheads @ Cape Breton, Eagles
STATUS:CONFIRMED
END:VEVENT
BEGIN:VEVENT
UID:979269e6be18e8fa432226@hockeytech.com
TZID:UTC
DTSTART:20260103T230000Z
DTEND:20260104T020000Z
DTSTAMP:20260103T230000
DESCRIPTION:You have booked some LHJMQ games
LOCATION:Centre 200
SUMMARY:Charlottetown, Islanders @ Cape Breton, Eagles
STATUS:CONFIRMED
END:VEVENT
BEGIN:VEVENT
UID:979269e6be18e8fa432228@hockeytech.com
TZID:UTC
DTSTART:20260104T190000Z
DTEND:20260104T220000Z
DTSTAMP:20260104T190000
DESCRIPTION:You have booked some LHJMQ games
LOCATION:Centre 200
SUMMARY:Charlottetown, Islanders @ Cape Breton, Eagles
STATUS:CONFIRMED
END:VEVENT
BEGIN:VEVENT
UID:979269e6be18e8fa432237@hockeytech.com
TZID:UTC
DTSTART:20260108T000000Z
DTEND:20260108T030000Z
DTSTAMP:20260108T000000
DESCRIPTION:You have booked some LHJMQ games
LOCATION:Colisée Financière Sun Life
SUMMARY:Cape Breton, Eagles @ Rimouski, Océanic
STATUS:CONFIRMED
END:VEVENT
BEGIN:VEVENT
UID:979269e6be18e8fa432242@hockeytech.com
TZID:UTC
DTSTART:20260109T000000Z
DTEND:20260109T030000Z
DTSTAMP:20260109T000000
DESCRIPTION:You have booked some LHJMQ games
LOCATION:Centre Gervais Auto
SUMMARY:Cape Breton, Eagles @ Shawinigan, Cataractes
STATUS:CONFIRMED
END:VEVENT
BEGIN:VEVENT
UID:979269e6be18e8fa432251@hockeytech.com
TZID:UTC
DTSTART:20260110T210000Z
DTEND:20260111T000000Z
DTSTAMP:20260110T210000
DESCRIPTION:You have booked some LHJMQ games
LOCATION:Centre Marcel Dionne
SUMMARY:Cape Breton, Eagles @ Drummondville, Voltigeurs
STATUS:CONFIRMED
END:VEVENT
BEGIN:VEVENT
UID:979269e6be18e8fa432258@hockeytech.com
TZID:UTC
DTSTART:20260111T200000Z
DTEND:20260111T230000Z
DTSTAMP:20260111T200000
DESCRIPTION:You have booked some LHJMQ games
LOCATION:Centre d'excellence Sports Rousseau
SUMMARY:Cape Breton, Eagles @ Blainville-Boisbriand, Armada
STATUS:CONFIRMED
END:VEVENT
BEGIN:VEVENT
UID:979269e6be18e8fa432261@hockeytech.com
TZID:UTC
DTSTART:20260115T000000Z
DTEND:20260115T030000Z
DTSTAMP:20260115T000000
DESCRIPTION:You have booked some LHJMQ games
LOCATION:Centre d'excellence Sports Rousseau
SUMMARY:Cape Breton, Eagles @ Blainville-Boisbriand, Armada
STATUS:CONFIRMED
END:VEVENT
BEGIN:VEVENT
UID:979269e6be18e8fa432265@hockeytech.com
TZID:UTC
DTSTART:20260116T000000Z
DTEND:20260116T030000Z
DTSTAMP:20260116T000000
DESCRIPTION:You have booked some LHJMQ games
LOCATION:Centre Gervais Auto
SUMMARY:Cape Breton, Eagles @ Shawinigan, Cataractes
STATUS:CONFIRMED
END:VEVENT
BEGIN:VEVENT
UID:979269e6be18e8fa432281@hockeytech.com
TZID:UTC
DTSTART:20260118T190000Z
DTEND:20260118T220000Z
DTSTAMP:20260118T190000
DESCRIPTION:You have booked some LHJMQ games
LOCATION:Avenir Centre
SUMMARY:Cape Breton, Eagles @ Moncton, Wildcats
STATUS:CONFIRMED
END:VEVENT
BEGIN:VEVENT
UID:979269e6be18e8fa432286@hockeytech.com
TZID:UTC
DTSTART:20260122T230000Z
DTEND:20260123T020000Z
DTSTAMP:20260122T230000
DESCRIPTION:You have booked some LHJMQ games
LOCATION:Centre 200
SUMMARY:Halifax, Mooseheads @ Cape Breton, Eagles
STATUS:CONFIRMED
END:VEVENT
BEGIN:VEVENT
UID:979269e6be18e8fa432300@hockeytech.com
TZID:UTC
DTSTART:20260124T230000Z
DTEND:20260125T020000Z
DTSTAMP:20260124T230000
DESCRIPTION:You have booked some LHJMQ games
LOCATION:Centre 200
SUMMARY:Charlottetown, Islanders @ Cape Breton, Eagles
STATUS:CONFIRMED
END:VEVENT
BEGIN:VEVENT
UID:979269e6be18e8fa432301@hockeytech.com
TZID:UTC
DTSTART:20260125T190000Z
DTEND:20260125T220000Z
DTSTAMP:20260125T190000
DESCRIPTION:You have booked some LHJMQ games
LOCATION:Centre 200
SUMMARY:Charlottetown, Islanders @ Cape Breton, Eagles
STATUS:CONFIRMED
END:VEVENT
BEGIN:VEVENT
UID:979269e6be18e8fa432313@hockeytech.com
TZID:UTC
DTSTART:20260130T230000Z
DTEND:20260131T020000Z
DTSTAMP:20260130T230000
DESCRIPTION:You have booked some LHJMQ games
LOCATION:Centre 200
SUMMARY:Newfoundland, Regiment @ Cape Breton, Eagles
STATUS:CONFIRMED
END:VEVENT
BEGIN:VEVENT
UID:979269e6be18e8fa432320@hockeytech.com
TZID:UTC
DTSTART:20260131T230000Z
DTEND:20260201T020000Z
DTSTAMP:20260131T230000
DESCRIPTION:You have booked some LHJMQ games
LOCATION:Centre 200
SUMMARY:Newfoundland, Regiment @ Cape Breton, Eagles
STATUS:CONFIRMED
END:VEVENT
BEGIN:VEVENT
UID:979269e6be18e8fa432333@hockeytech.com
TZID:UTC
DTSTART:20260206T230000Z
DTEND:20260207T020000Z
DTSTAMP:20260206T230000
DESCRIPTION:You have booked some LHJMQ games
LOCATION:Centre 200
SUMMARY:Halifax, Mooseheads @ Cape Breton, Eagles
STATUS:CONFIRMED
END:VEVENT
BEGIN:VEVENT
UID:979269e6be18e8fa432349@hockeytech.com
TZID:UTC
DTSTART:20260207T230000Z
DTEND:20260208T020000Z
DTSTAMP:20260207T230000
DESCRIPTION:You have booked some LHJMQ games
LOCATION:Scotiabank Centre
SUMMARY:Cape Breton, Eagles @ Halifax, Mooseheads
STATUS:CONFIRMED
END:VEVENT
BEGIN:VEVENT
UID:979269e6be18e8fa432357@hockeytech.com
TZID:UTC
DTSTART:20260213T230000Z
DTEND:20260214T020000Z
DTSTAMP:20260213T230000
DESCRIPTION:You have booked some LHJMQ games
LOCATION:Centre 200
SUMMARY:Victoriaville, Tigres @ Cape Breton, Eagles
STATUS:CONFIRMED
END:VEVENT
BEGIN:VEVENT
UID:979269e6be18e8fa432366@hockeytech.com
TZID:UTC
DTSTART:20260214T230000Z
DTEND:20260215T020000Z
DTSTAMP:20260214T230000
DESCRIPTION:You have booked some LHJMQ games
LOCATION:Centre 200
SUMMARY:Victoriaville, Tigres @ Cape Breton, Eagles
STATUS:CONFIRMED
END:VEVENT
BEGIN:VEVENT
UID:979269e6be18e8fa432371@hockeytech.com
TZID:UTC
DTSTART:20260216T180000Z
DTEND:20260216T210000Z
DTSTAMP:20260216T180000
DESCRIPTION:You have booked some LHJMQ games
LOCATION:Eastlink Centre
SUMMARY:Cape Breton, Eagles @ Charlottetown, Islanders
STATUS:CONFIRMED
END:VEVENT
BEGIN:VEVENT
UID:979269e6be18e8fa432381@hockeytech.com
TZID:UTC
DTSTART:20260220T223000Z
DTEND:20260221T013000Z
DTSTAMP:20260220T223000
DESCRIPTION:You have booked some LHJMQ games
LOCATION:Mary Brown's Centre
SUMMARY:Cape Breton, Eagles @ Newfoundland, Regiment
STATUS:CONFIRMED
END:VEVENT
BEGIN:VEVENT
UID:979269e6be18e8fa432391@hockeytech.com
TZID:UTC
DTSTART:20260221T223000Z
DTEND:20260222T013000Z
DTSTAMP:20260221T223000
DESCRIPTION:You have booked some LHJMQ games
LOCATION:Mary Brown's Centre
SUMMARY:Cape Breton, Eagles @ Newfoundland, Regiment
STATUS:CONFIRMED
END:VEVENT
BEGIN:VEVENT
UID:979269e6be18e8fa432400@hockeytech.com
TZID:UTC
DTSTART:20260226T230000Z
DTEND:20260227T020000Z
DTSTAMP:20260226T230000
DESCRIPTION:You have booked some LHJMQ games
LOCATION:Centre 200
SUMMARY:Québec, Remparts @ Cape Breton, Eagles
STATUS:CONFIRMED
END:VEVENT
BEGIN:VEVENT
UID:979269e6be18e8fa432404@hockeytech.com
TZID:UTC
DTSTART:20260227T230000Z
DTEND:20260228T020000Z
DTSTAMP:20260227T230000
DESCRIPTION:You have booked some LHJMQ games
LOCATION:Centre 200
SUMMARY:Québec, Remparts @ Cape Breton, Eagles
STATUS:CONFIRMED
END:VEVENT
BEGIN:VEVENT
UID:979269e6be18e8fa432427@hockeytech.com
TZID:UTC
DTSTART:20260305T230000Z
DTEND:20260306T020000Z
DTSTAMP:20260305T230000
DESCRIPTION:You have booked some LHJMQ games
LOCATION:Avenir Centre
SUMMARY:Cape Breton, Eagles @ Moncton, Wildcats
STATUS:CONFIRMED
END:VEVENT
BEGIN:VEVENT
UID:979269e6be18e8fa432430@hockeytech.com
TZID:UTC
DTSTART:20260306T230000Z
DTEND:20260307T020000Z
DTSTAMP:20260306T230000
DESCRIPTION:You have booked some LHJMQ games
LOCATION:Scotiabank Centre
SUMMARY:Cape Breton, Eagles @ Halifax, Mooseheads
STATUS:CONFIRMED
END:VEVENT
BEGIN:VEVENT
UID:979269e6be18e8fa432440@hockeytech.com
TZID:UTC
DTSTART:20260308T180000Z
DTEND:20260308T210000Z
DTSTAMP:20260308T180000
DESCRIPTION:You have booked some LHJMQ games
LOCATION:Centre 200
SUMMARY:Halifax, Mooseheads @ Cape Breton, Eagles
STATUS:CONFIRMED
END:VEVENT
BEGIN:VEVENT
UID:979269e6be18e8fa432447@hockeytech.com
TZID:UTC
DTSTART:20260312T220000Z
DTEND:20260313T010000Z
DTSTAMP:20260312T220000
DESCRIPTION:You have booked some LHJMQ games
LOCATION:Avenir Centre
SUMMARY:Cape Breton, Eagles @ Moncton, Wildcats
STATUS:CONFIRMED
END:VEVENT
BEGIN:VEVENT
UID:979269e6be18e8fa432452@hockeytech.com
TZID:UTC
DTSTART:20260313T220000Z
DTEND:20260314T010000Z
DTSTAMP:20260313T220000
DESCRIPTION:You have booked some LHJMQ games
LOCATION:Eastlink Centre
SUMMARY:Cape Breton, Eagles @ Charlottetown, Islanders
STATUS:CONFIRMED
END:VEVENT
BEGIN:VEVENT
UID:979269e6be18e8fa432470@hockeytech.com
TZID:UTC
DTSTART:20260320T220000Z
DTEND:20260321T010000Z
DTSTAMP:20260320T220000
DESCRIPTION:You have booked some LHJMQ games
LOCATION:Centre 200
SUMMARY:Saint John, Sea Dogs @ Cape Breton, Eagles
STATUS:CONFIRMED
END:VEVENT
BEGIN:VEVENT
UID:979269e6be18e8fa432478@hockeytech.com
TZID:UTC
DTSTART:20260321T180000Z
DTEND:20260321T210000Z
DTSTAMP:20260321T180000
DESCRIPTION:You have booked some LHJMQ games
LOCATION:Centre 200
SUMMARY:Saint John, Sea Dogs @ Cape Breton, Eagles
STATUS:CONFIRMED
END:VEVENT
END:VCALENDAR