BEGIN:VCALENDAR
VERSION:2.0
PRODID:-//Hockeytech//Leaguestat iCal//EN
BEGIN:VEVENT
UID:942769e6c2f3dab6330400@hockeytech.com
TZID:UTC
DTSTART:20230923T200000Z
DTEND:20230923T230000Z
DTSTAMP:20230923T200000
DESCRIPTION:You have booked some LHJMQ games
LOCATION:Centre Agnico Eagle
SUMMARY:Rouyn-Noranda, Huskies @ Val-d'Or, Foreurs
STATUS:CONFIRMED
END:VEVENT
BEGIN:VEVENT
UID:942769e6c2f3dab6330407@hockeytech.com
TZID:UTC
DTSTART:20230924T200000Z
DTEND:20230924T230000Z
DTSTAMP:20230924T200000
DESCRIPTION:You have booked some LHJMQ games
LOCATION:Aréna Glencore
SUMMARY:Val-d'Or, Foreurs @ Rouyn-Noranda, Huskies
STATUS:CONFIRMED
END:VEVENT
BEGIN:VEVENT
UID:942769e6c2f3dab6330411@hockeytech.com
TZID:UTC
DTSTART:20230929T230000Z
DTEND:20230930T020000Z
DTSTAMP:20230929T230000
DESCRIPTION:You have booked some LHJMQ games
LOCATION:Aréna Glencore
SUMMARY:Drummondville, Voltigeurs @ Rouyn-Noranda, Huskies
STATUS:CONFIRMED
END:VEVENT
BEGIN:VEVENT
UID:942769e6c2f3dab6330422@hockeytech.com
TZID:UTC
DTSTART:20230930T230000Z
DTEND:20231001T020000Z
DTSTAMP:20230930T230000
DESCRIPTION:You have booked some LHJMQ games
LOCATION:Aréna Glencore
SUMMARY:Shawinigan, Cataractes @ Rouyn-Noranda, Huskies
STATUS:CONFIRMED
END:VEVENT
BEGIN:VEVENT
UID:942769e6c2f3dab6330429@hockeytech.com
TZID:UTC
DTSTART:20231004T230000Z
DTEND:20231005T020000Z
DTSTAMP:20231004T230000
DESCRIPTION:You have booked some LHJMQ games
LOCATION:Centre Slush Puppie
SUMMARY:Rouyn-Noranda, Huskies @ Gatineau, Olympiques
STATUS:CONFIRMED
END:VEVENT
BEGIN:VEVENT
UID:942769e6c2f3dab6330433@hockeytech.com
TZID:UTC
DTSTART:20231005T230000Z
DTEND:20231006T020000Z
DTSTAMP:20231005T230000
DESCRIPTION:You have booked some LHJMQ games
LOCATION:Centre Marcel Dionne
SUMMARY:Rouyn-Noranda, Huskies @ Drummondville, Voltigeurs
STATUS:CONFIRMED
END:VEVENT
BEGIN:VEVENT
UID:942769e6c2f3dab6330444@hockeytech.com
TZID:UTC
DTSTART:20231007T200000Z
DTEND:20231007T230000Z
DTSTAMP:20231007T200000
DESCRIPTION:You have booked some LHJMQ games
LOCATION:Centre Gervais Auto
SUMMARY:Rouyn-Noranda, Huskies @ Shawinigan, Cataractes
STATUS:CONFIRMED
END:VEVENT
BEGIN:VEVENT
UID:942769e6c2f3dab6330454@hockeytech.com
TZID:UTC
DTSTART:20231009T180000Z
DTEND:20231009T210000Z
DTSTAMP:20231009T180000
DESCRIPTION:You have booked some LHJMQ games
LOCATION:Centre Agnico Eagle
SUMMARY:Rouyn-Noranda, Huskies @ Val-d'Or, Foreurs
STATUS:CONFIRMED
END:VEVENT
BEGIN:VEVENT
UID:942769e6c2f3dab6330470@hockeytech.com
TZID:UTC
DTSTART:20231014T230000Z
DTEND:20231015T020000Z
DTSTAMP:20231014T230000
DESCRIPTION:You have booked some LHJMQ games
LOCATION:Aréna Glencore
SUMMARY:Cape Breton, Eagles @ Rouyn-Noranda, Huskies
STATUS:CONFIRMED
END:VEVENT
BEGIN:VEVENT
UID:942769e6c2f3dab6330477@hockeytech.com
TZID:UTC
DTSTART:20231015T200000Z
DTEND:20231015T230000Z
DTSTAMP:20231015T200000
DESCRIPTION:You have booked some LHJMQ games
LOCATION:Aréna Glencore
SUMMARY:Saint John, Sea Dogs @ Rouyn-Noranda, Huskies
STATUS:CONFIRMED
END:VEVENT
BEGIN:VEVENT
UID:942769e6c2f3dab6330482@hockeytech.com
TZID:UTC
DTSTART:20231019T220000Z
DTEND:20231020T010000Z
DTSTAMP:20231019T220000
DESCRIPTION:You have booked some LHJMQ games
LOCATION:Eastlink Centre
SUMMARY:Rouyn-Noranda, Huskies @ Charlottetown, Islanders
STATUS:CONFIRMED
END:VEVENT
BEGIN:VEVENT
UID:942769e6c2f3dab6330486@hockeytech.com
TZID:UTC
DTSTART:20231020T220000Z
DTEND:20231021T010000Z
DTSTAMP:20231020T220000
DESCRIPTION:You have booked some LHJMQ games
LOCATION:Scotiabank Centre
SUMMARY:Rouyn-Noranda, Huskies @ Halifax, Mooseheads
STATUS:CONFIRMED
END:VEVENT
BEGIN:VEVENT
UID:942769e6c2f3dab6330496@hockeytech.com
TZID:UTC
DTSTART:20231022T180000Z
DTEND:20231022T210000Z
DTSTAMP:20231022T180000
DESCRIPTION:You have booked some LHJMQ games
LOCATION:Centre 200
SUMMARY:Rouyn-Noranda, Huskies @ Cape Breton, Eagles
STATUS:CONFIRMED
END:VEVENT
BEGIN:VEVENT
UID:942769e6c2f3dab6330511@hockeytech.com
TZID:UTC
DTSTART:20231027T230000Z
DTEND:20231028T020000Z
DTSTAMP:20231027T230000
DESCRIPTION:You have booked some LHJMQ games
LOCATION:Aréna Glencore
SUMMARY:Gatineau, Olympiques @ Rouyn-Noranda, Huskies
STATUS:CONFIRMED
END:VEVENT
BEGIN:VEVENT
UID:942769e6c2f3dab6330523@hockeytech.com
TZID:UTC
DTSTART:20231028T230000Z
DTEND:20231029T020000Z
DTSTAMP:20231028T230000
DESCRIPTION:You have booked some LHJMQ games
LOCATION:Aréna Glencore
SUMMARY:Drummondville, Voltigeurs @ Rouyn-Noranda, Huskies
STATUS:CONFIRMED
END:VEVENT
BEGIN:VEVENT
UID:942769e6c2f3dab6330532@hockeytech.com
TZID:UTC
DTSTART:20231102T230000Z
DTEND:20231103T020000Z
DTSTAMP:20231102T230000
DESCRIPTION:You have booked some LHJMQ games
LOCATION:Aréna Glencore
SUMMARY:Moncton, Wildcats @ Rouyn-Noranda, Huskies
STATUS:CONFIRMED
END:VEVENT
BEGIN:VEVENT
UID:942769e6c2f3dab6330537@hockeytech.com
TZID:UTC
DTSTART:20231103T230000Z
DTEND:20231104T020000Z
DTSTAMP:20231103T230000
DESCRIPTION:You have booked some LHJMQ games
LOCATION:Aréna Glencore
SUMMARY:Charlottetown, Islanders @ Rouyn-Noranda, Huskies
STATUS:CONFIRMED
END:VEVENT
BEGIN:VEVENT
UID:942769e6c2f3dab6330550@hockeytech.com
TZID:UTC
DTSTART:20231109T000000Z
DTEND:20231109T030000Z
DTSTAMP:20231109T000000
DESCRIPTION:You have booked some LHJMQ games
LOCATION:Centre Vidéotron
SUMMARY:Rouyn-Noranda, Huskies @ Québec, Remparts
STATUS:CONFIRMED
END:VEVENT
BEGIN:VEVENT
UID:942769e6c2f3dab6330557@hockeytech.com
TZID:UTC
DTSTART:20231111T000000Z
DTEND:20231111T030000Z
DTSTAMP:20231111T000000
DESCRIPTION:You have booked some LHJMQ games
LOCATION:Colisée Financière Sun Life
SUMMARY:Rouyn-Noranda, Huskies @ Rimouski, Océanic
STATUS:CONFIRMED
END:VEVENT
BEGIN:VEVENT
UID:942769e6c2f3dab6330563@hockeytech.com
TZID:UTC
DTSTART:20231111T210000Z
DTEND:20231112T000000Z
DTSTAMP:20231111T210000
DESCRIPTION:You have booked some LHJMQ games
LOCATION:Colisée Financière Sun Life
SUMMARY:Rouyn-Noranda, Huskies @ Rimouski, Océanic
STATUS:CONFIRMED
END:VEVENT
BEGIN:VEVENT
UID:942769e6c2f3dab6330580@hockeytech.com
TZID:UTC
DTSTART:20231118T000000Z
DTEND:20231118T030000Z
DTSTAMP:20231118T000000
DESCRIPTION:You have booked some LHJMQ games
LOCATION:Aréna Glencore
SUMMARY:Drummondville, Voltigeurs @ Rouyn-Noranda, Huskies
STATUS:CONFIRMED
END:VEVENT
BEGIN:VEVENT
UID:942769e6c2f3dab6330594@hockeytech.com
TZID:UTC
DTSTART:20231119T210000Z
DTEND:20231120T000000Z
DTSTAMP:20231119T210000
DESCRIPTION:You have booked some LHJMQ games
LOCATION:Aréna Glencore
SUMMARY:Blainville-Boisbriand, Armada @ Rouyn-Noranda, Huskies
STATUS:CONFIRMED
END:VEVENT
BEGIN:VEVENT
UID:942769e6c2f3dab6330605@hockeytech.com
TZID:UTC
DTSTART:20231124T230000Z
DTEND:20231125T020000Z
DTSTAMP:20231124T230000
DESCRIPTION:You have booked some LHJMQ games
LOCATION:Avenir Centre
SUMMARY:Rouyn-Noranda, Huskies @ Moncton, Wildcats
STATUS:CONFIRMED
END:VEVENT
BEGIN:VEVENT
UID:942769e6c2f3dab6330612@hockeytech.com
TZID:UTC
DTSTART:20231125T230000Z
DTEND:20231126T020000Z
DTSTAMP:20231125T230000
DESCRIPTION:You have booked some LHJMQ games
LOCATION:TD Station
SUMMARY:Rouyn-Noranda, Huskies @ Saint John, Sea Dogs
STATUS:CONFIRMED
END:VEVENT
BEGIN:VEVENT
UID:942769e6c2f3dab6330613@hockeytech.com
TZID:UTC
DTSTART:20231126T190000Z
DTEND:20231126T220000Z
DTSTAMP:20231126T190000
DESCRIPTION:You have booked some LHJMQ games
LOCATION:Centre régional K.C. Irving
SUMMARY:Rouyn-Noranda, Huskies @ Acadie-Bathurst, Titan
STATUS:CONFIRMED
END:VEVENT
BEGIN:VEVENT
UID:942769e6c2f3dab6330640@hockeytech.com
TZID:UTC
DTSTART:20231203T000000Z
DTEND:20231203T030000Z
DTSTAMP:20231203T000000
DESCRIPTION:You have booked some LHJMQ games
LOCATION:Aréna Glencore
SUMMARY:Halifax, Mooseheads @ Rouyn-Noranda, Huskies
STATUS:CONFIRMED
END:VEVENT
BEGIN:VEVENT
UID:942769e6c2f3dab6330644@hockeytech.com
TZID:UTC
DTSTART:20231203T210000Z
DTEND:20231204T000000Z
DTSTAMP:20231203T210000
DESCRIPTION:You have booked some LHJMQ games
LOCATION:Aréna Glencore
SUMMARY:Victoriaville, Tigres @ Rouyn-Noranda, Huskies
STATUS:CONFIRMED
END:VEVENT
BEGIN:VEVENT
UID:942769e6c2f3dab6330658@hockeytech.com
TZID:UTC
DTSTART:20231209T003000Z
DTEND:20231209T033000Z
DTSTAMP:20231209T003000
DESCRIPTION:You have booked some LHJMQ games
LOCATION:Centre d'excellence Sports Rousseau
SUMMARY:Rouyn-Noranda, Huskies @ Blainville-Boisbriand, Armada
STATUS:CONFIRMED
END:VEVENT
BEGIN:VEVENT
UID:942769e6c2f3dab6330663@hockeytech.com
TZID:UTC
DTSTART:20231209T210000Z
DTEND:20231210T000000Z
DTSTAMP:20231209T210000
DESCRIPTION:You have booked some LHJMQ games
LOCATION:Colisée Desjardins
SUMMARY:Rouyn-Noranda, Huskies @ Victoriaville, Tigres
STATUS:CONFIRMED
END:VEVENT
BEGIN:VEVENT
UID:942769e6c2f3dab6330669@hockeytech.com
TZID:UTC
DTSTART:20231210T210000Z
DTEND:20231211T000000Z
DTSTAMP:20231210T210000
DESCRIPTION:You have booked some LHJMQ games
LOCATION:Centre Gervais Auto
SUMMARY:Rouyn-Noranda, Huskies @ Shawinigan, Cataractes
STATUS:CONFIRMED
END:VEVENT
BEGIN:VEVENT
UID:942769e6c2f3dab6330671@hockeytech.com
TZID:UTC
DTSTART:20231214T000000Z
DTEND:20231214T030000Z
DTSTAMP:20231214T000000
DESCRIPTION:You have booked some LHJMQ games
LOCATION:Aréna Glencore
SUMMARY:Val-d'Or, Foreurs @ Rouyn-Noranda, Huskies
STATUS:CONFIRMED
END:VEVENT
BEGIN:VEVENT
UID:942769e6c2f3dab6330679@hockeytech.com
TZID:UTC
DTSTART:20231216T000000Z
DTEND:20231216T030000Z
DTSTAMP:20231216T000000
DESCRIPTION:You have booked some LHJMQ games
LOCATION:Aréna Glencore
SUMMARY:Sherbrooke, Phœnix @ Rouyn-Noranda, Huskies
STATUS:CONFIRMED
END:VEVENT
BEGIN:VEVENT
UID:942769e6c2f3dab6330691@hockeytech.com
TZID:UTC
DTSTART:20231217T000000Z
DTEND:20231217T030000Z
DTSTAMP:20231217T000000
DESCRIPTION:You have booked some LHJMQ games
LOCATION:Aréna Glencore
SUMMARY:Blainville-Boisbriand, Armada @ Rouyn-Noranda, Huskies
STATUS:CONFIRMED
END:VEVENT
BEGIN:VEVENT
UID:942769e6c2f3dab6330695@hockeytech.com
TZID:UTC
DTSTART:20231229T000000Z
DTEND:20231229T030000Z
DTSTAMP:20231229T000000
DESCRIPTION:You have booked some LHJMQ games
LOCATION:Centre Slush Puppie
SUMMARY:Rouyn-Noranda, Huskies @ Gatineau, Olympiques
STATUS:CONFIRMED
END:VEVENT
BEGIN:VEVENT
UID:942769e6c2f3dab6330707@hockeytech.com
TZID:UTC
DTSTART:20231230T210000Z
DTEND:20231231T000000Z
DTSTAMP:20231230T210000
DESCRIPTION:You have booked some LHJMQ games
LOCATION:Centre Agnico Eagle
SUMMARY:Rouyn-Noranda, Huskies @ Val-d'Or, Foreurs
STATUS:CONFIRMED
END:VEVENT
BEGIN:VEVENT
UID:942769e6c2f3dab6330714@hockeytech.com
TZID:UTC
DTSTART:20231231T190000Z
DTEND:20231231T220000Z
DTSTAMP:20231231T190000
DESCRIPTION:You have booked some LHJMQ games
LOCATION:Aréna Glencore
SUMMARY:Val-d'Or, Foreurs @ Rouyn-Noranda, Huskies
STATUS:CONFIRMED
END:VEVENT
BEGIN:VEVENT
UID:942769e6c2f3dab6330727@hockeytech.com
TZID:UTC
DTSTART:20240106T000000Z
DTEND:20240106T030000Z
DTSTAMP:20240106T000000
DESCRIPTION:You have booked some LHJMQ games
LOCATION:Aréna Glencore
SUMMARY:Blainville-Boisbriand, Armada @ Rouyn-Noranda, Huskies
STATUS:CONFIRMED
END:VEVENT
BEGIN:VEVENT
UID:942769e6c2f3dab6330738@hockeytech.com
TZID:UTC
DTSTART:20240107T000000Z
DTEND:20240107T030000Z
DTSTAMP:20240107T000000
DESCRIPTION:You have booked some LHJMQ games
LOCATION:Aréna Glencore
SUMMARY:Gatineau, Olympiques @ Rouyn-Noranda, Huskies
STATUS:CONFIRMED
END:VEVENT
BEGIN:VEVENT
UID:942769e6c2f3dab6330744@hockeytech.com
TZID:UTC
DTSTART:20240110T000000Z
DTEND:20240110T030000Z
DTSTAMP:20240110T000000
DESCRIPTION:You have booked some LHJMQ games
LOCATION:Aréna Glencore
SUMMARY:Val-d'Or, Foreurs @ Rouyn-Noranda, Huskies
STATUS:CONFIRMED
END:VEVENT
BEGIN:VEVENT
UID:942769e6c2f3dab6330755@hockeytech.com
TZID:UTC
DTSTART:20240113T003000Z
DTEND:20240113T033000Z
DTSTAMP:20240113T003000
DESCRIPTION:You have booked some LHJMQ games
LOCATION:Centre Georges-Vézina
SUMMARY:Rouyn-Noranda, Huskies @ Chicoutimi, Saguenéens
STATUS:CONFIRMED
END:VEVENT
BEGIN:VEVENT
UID:942769e6c2f3dab6330756@hockeytech.com
TZID:UTC
DTSTART:20240113T210000Z
DTEND:20240114T000000Z
DTSTAMP:20240113T210000
DESCRIPTION:You have booked some LHJMQ games
LOCATION:Centre Henry-Leonard
SUMMARY:Rouyn-Noranda, Huskies @ Baie-Comeau, Drakkar
STATUS:CONFIRMED
END:VEVENT
BEGIN:VEVENT
UID:942769e6c2f3dab6330766@hockeytech.com
TZID:UTC
DTSTART:20240114T210000Z
DTEND:20240115T000000Z
DTSTAMP:20240114T210000
DESCRIPTION:You have booked some LHJMQ games
LOCATION:Centre Henry-Leonard
SUMMARY:Rouyn-Noranda, Huskies @ Baie-Comeau, Drakkar
STATUS:CONFIRMED
END:VEVENT
BEGIN:VEVENT
UID:942769e6c2f3dab6330773@hockeytech.com
TZID:UTC
DTSTART:20240119T000000Z
DTEND:20240119T030000Z
DTSTAMP:20240119T000000
DESCRIPTION:You have booked some LHJMQ games
LOCATION:Aréna Glencore
SUMMARY:Baie-Comeau, Drakkar @ Rouyn-Noranda, Huskies
STATUS:CONFIRMED
END:VEVENT
BEGIN:VEVENT
UID:942769e6c2f3dab6330780@hockeytech.com
TZID:UTC
DTSTART:20240120T210000Z
DTEND:20240121T000000Z
DTSTAMP:20240120T210000
DESCRIPTION:You have booked some LHJMQ games
LOCATION:Centre Slush Puppie
SUMMARY:Rouyn-Noranda, Huskies @ Gatineau, Olympiques
STATUS:CONFIRMED
END:VEVENT
BEGIN:VEVENT
UID:942769e6c2f3dab6330791@hockeytech.com
TZID:UTC
DTSTART:20240121T200000Z
DTEND:20240121T230000Z
DTSTAMP:20240121T200000
DESCRIPTION:You have booked some LHJMQ games
LOCATION:Palais des Sports Léopold-Drolet
SUMMARY:Rouyn-Noranda, Huskies @ Sherbrooke, Phœnix
STATUS:CONFIRMED
END:VEVENT
BEGIN:VEVENT
UID:942769e6c2f3dab6330804@hockeytech.com
TZID:UTC
DTSTART:20240128T000000Z
DTEND:20240128T030000Z
DTSTAMP:20240128T000000
DESCRIPTION:You have booked some LHJMQ games
LOCATION:Aréna Glencore
SUMMARY:Rimouski, Océanic @ Rouyn-Noranda, Huskies
STATUS:CONFIRMED
END:VEVENT
BEGIN:VEVENT
UID:942769e6c2f3dab6330811@hockeytech.com
TZID:UTC
DTSTART:20240131T000000Z
DTEND:20240131T030000Z
DTSTAMP:20240131T000000
DESCRIPTION:You have booked some LHJMQ games
LOCATION:Aréna Glencore
SUMMARY:Shawinigan, Cataractes @ Rouyn-Noranda, Huskies
STATUS:CONFIRMED
END:VEVENT
BEGIN:VEVENT
UID:942769e6c2f3dab6330814@hockeytech.com
TZID:UTC
DTSTART:20240202T000000Z
DTEND:20240202T030000Z
DTSTAMP:20240202T000000
DESCRIPTION:You have booked some LHJMQ games
LOCATION:Centre d'excellence Sports Rousseau
SUMMARY:Rouyn-Noranda, Huskies @ Blainville-Boisbriand, Armada
STATUS:CONFIRMED
END:VEVENT
BEGIN:VEVENT
UID:942769e6c2f3dab6330823@hockeytech.com
TZID:UTC
DTSTART:20240203T000000Z
DTEND:20240203T030000Z
DTSTAMP:20240203T000000
DESCRIPTION:You have booked some LHJMQ games
LOCATION:Colisée Desjardins
SUMMARY:Rouyn-Noranda, Huskies @ Victoriaville, Tigres
STATUS:CONFIRMED
END:VEVENT
BEGIN:VEVENT
UID:942769e6c2f3dab6330831@hockeytech.com
TZID:UTC
DTSTART:20240204T200000Z
DTEND:20240204T230000Z
DTSTAMP:20240204T200000
DESCRIPTION:You have booked some LHJMQ games
LOCATION:Palais des Sports Léopold-Drolet
SUMMARY:Rouyn-Noranda, Huskies @ Sherbrooke, Phœnix
STATUS:CONFIRMED
END:VEVENT
BEGIN:VEVENT
UID:942769e6c2f3dab6330840@hockeytech.com
TZID:UTC
DTSTART:20240209T000000Z
DTEND:20240209T030000Z
DTSTAMP:20240209T000000
DESCRIPTION:You have booked some LHJMQ games
LOCATION:Aréna Glencore
SUMMARY:Acadie-Bathurst, Titan @ Rouyn-Noranda, Huskies
STATUS:CONFIRMED
END:VEVENT
BEGIN:VEVENT
UID:942769e6c2f3dab6330855@hockeytech.com
TZID:UTC
DTSTART:20240211T200000Z
DTEND:20240211T230000Z
DTSTAMP:20240211T200000
DESCRIPTION:You have booked some LHJMQ games
LOCATION:Aréna Glencore
SUMMARY:Victoriaville, Tigres @ Rouyn-Noranda, Huskies
STATUS:CONFIRMED
END:VEVENT
BEGIN:VEVENT
UID:942769e6c2f3dab6330866@hockeytech.com
TZID:UTC
DTSTART:20240217T000000Z
DTEND:20240217T030000Z
DTSTAMP:20240217T000000
DESCRIPTION:You have booked some LHJMQ games
LOCATION:Aréna Glencore
SUMMARY:Québec, Remparts @ Rouyn-Noranda, Huskies
STATUS:CONFIRMED
END:VEVENT
BEGIN:VEVENT
UID:942769e6c2f3dab6330872@hockeytech.com
TZID:UTC
DTSTART:20240218T000000Z
DTEND:20240218T030000Z
DTSTAMP:20240218T000000
DESCRIPTION:You have booked some LHJMQ games
LOCATION:Aréna Glencore
SUMMARY:Québec, Remparts @ Rouyn-Noranda, Huskies
STATUS:CONFIRMED
END:VEVENT
BEGIN:VEVENT
UID:942769e6c2f3dab6330886@hockeytech.com
TZID:UTC
DTSTART:20240223T000000Z
DTEND:20240223T030000Z
DTSTAMP:20240223T000000
DESCRIPTION:You have booked some LHJMQ games
LOCATION:Centre Agnico Eagle
SUMMARY:Rouyn-Noranda, Huskies @ Val-d'Or, Foreurs
STATUS:CONFIRMED
END:VEVENT
BEGIN:VEVENT
UID:942769e6c2f3dab6330893@hockeytech.com
TZID:UTC
DTSTART:20240224T210000Z
DTEND:20240225T000000Z
DTSTAMP:20240224T210000
DESCRIPTION:You have booked some LHJMQ games
LOCATION:Centre d'excellence Sports Rousseau
SUMMARY:Rouyn-Noranda, Huskies @ Blainville-Boisbriand, Armada
STATUS:CONFIRMED
END:VEVENT
BEGIN:VEVENT
UID:942769e6c2f3dab6330904@hockeytech.com
TZID:UTC
DTSTART:20240225T210000Z
DTEND:20240226T000000Z
DTSTAMP:20240225T210000
DESCRIPTION:You have booked some LHJMQ games
LOCATION:Centre Marcel Dionne
SUMMARY:Rouyn-Noranda, Huskies @ Drummondville, Voltigeurs
STATUS:CONFIRMED
END:VEVENT
BEGIN:VEVENT
UID:942769e6c2f3dab6330916@hockeytech.com
TZID:UTC
DTSTART:20240302T000000Z
DTEND:20240302T030000Z
DTSTAMP:20240302T000000
DESCRIPTION:You have booked some LHJMQ games
LOCATION:Aréna Glencore
SUMMARY:Chicoutimi, Saguenéens @ Rouyn-Noranda, Huskies
STATUS:CONFIRMED
END:VEVENT
BEGIN:VEVENT
UID:942769e6c2f3dab6330925@hockeytech.com
TZID:UTC
DTSTART:20240303T000000Z
DTEND:20240303T030000Z
DTSTAMP:20240303T000000
DESCRIPTION:You have booked some LHJMQ games
LOCATION:Aréna Glencore
SUMMARY:Chicoutimi, Saguenéens @ Rouyn-Noranda, Huskies
STATUS:CONFIRMED
END:VEVENT
BEGIN:VEVENT
UID:942769e6c2f3dab6330935@hockeytech.com
TZID:UTC
DTSTART:20240307T000000Z
DTEND:20240307T030000Z
DTSTAMP:20240307T000000
DESCRIPTION:You have booked some LHJMQ games
LOCATION:Aréna Glencore
SUMMARY:Val-d'Or, Foreurs @ Rouyn-Noranda, Huskies
STATUS:CONFIRMED
END:VEVENT
BEGIN:VEVENT
UID:942769e6c2f3dab6330948@hockeytech.com
TZID:UTC
DTSTART:20240310T000000Z
DTEND:20240310T030000Z
DTSTAMP:20240310T000000
DESCRIPTION:You have booked some LHJMQ games
LOCATION:Aréna Glencore
SUMMARY:Sherbrooke, Phœnix @ Rouyn-Noranda, Huskies
STATUS:CONFIRMED
END:VEVENT
BEGIN:VEVENT
UID:942769e6c2f3dab6330953@hockeytech.com
TZID:UTC
DTSTART:20240310T200000Z
DTEND:20240310T230000Z
DTSTAMP:20240310T200000
DESCRIPTION:You have booked some LHJMQ games
LOCATION:Aréna Glencore
SUMMARY:Shawinigan, Cataractes @ Rouyn-Noranda, Huskies
STATUS:CONFIRMED
END:VEVENT
BEGIN:VEVENT
UID:942769e6c2f3dab6330957@hockeytech.com
TZID:UTC
DTSTART:20240313T230000Z
DTEND:20240314T020000Z
DTSTAMP:20240313T230000
DESCRIPTION:You have booked some LHJMQ games
LOCATION:Colisée Desjardins
SUMMARY:Rouyn-Noranda, Huskies @ Victoriaville, Tigres
STATUS:CONFIRMED
END:VEVENT
BEGIN:VEVENT
UID:942769e6c2f3dab6330961@hockeytech.com
TZID:UTC
DTSTART:20240314T230000Z
DTEND:20240315T020000Z
DTSTAMP:20240314T230000
DESCRIPTION:You have booked some LHJMQ games
LOCATION:Centre Gervais Auto
SUMMARY:Rouyn-Noranda, Huskies @ Shawinigan, Cataractes
STATUS:CONFIRMED
END:VEVENT
BEGIN:VEVENT
UID:942769e6c2f3dab6330969@hockeytech.com
TZID:UTC
DTSTART:20240316T200000Z
DTEND:20240316T230000Z
DTSTAMP:20240316T200000
DESCRIPTION:You have booked some LHJMQ games
LOCATION:Centre Slush Puppie
SUMMARY:Rouyn-Noranda, Huskies @ Gatineau, Olympiques
STATUS:CONFIRMED
END:VEVENT
BEGIN:VEVENT
UID:942769e6c2f3dab6330983@hockeytech.com
TZID:UTC
DTSTART:20240320T230000Z
DTEND:20240321T020000Z
DTSTAMP:20240320T230000
DESCRIPTION:You have booked some LHJMQ games
LOCATION:Centre Agnico Eagle
SUMMARY:Rouyn-Noranda, Huskies @ Val-d'Or, Foreurs
STATUS:CONFIRMED
END:VEVENT
BEGIN:VEVENT
UID:942769e6c2f3dab6330990@hockeytech.com
TZID:UTC
DTSTART:20240322T230000Z
DTEND:20240323T020000Z
DTSTAMP:20240322T230000
DESCRIPTION:You have booked some LHJMQ games
LOCATION:Aréna Glencore
SUMMARY:Victoriaville, Tigres @ Rouyn-Noranda, Huskies
STATUS:CONFIRMED
END:VEVENT
BEGIN:VEVENT
UID:942769e6c2f3dab6331000@hockeytech.com
TZID:UTC
DTSTART:20240323T200000Z
DTEND:20240323T230000Z
DTSTAMP:20240323T200000
DESCRIPTION:You have booked some LHJMQ games
LOCATION:Aréna Glencore
SUMMARY:Gatineau, Olympiques @ Rouyn-Noranda, Huskies
STATUS:CONFIRMED
END:VEVENT
END:VCALENDAR