BEGIN:VCALENDAR
VERSION:2.0
PRODID:-//Hockeytech//Leaguestat iCal//EN
BEGIN:VEVENT
UID:198369e71dd80b16930253@hockeytech.com
TZID:UTC
DTSTART:20230331T230000Z
DTEND:20230401T020000Z
DTSTAMP:20230331T230000
DESCRIPTION:You have booked some LHJMQ games
LOCATION:Centre Slush Puppie
SUMMARY:Saint John, Sea Dogs @ Gatineau, Olympiques
STATUS:CONFIRMED
END:VEVENT
BEGIN:VEVENT
UID:198369e71dd80b16930254@hockeytech.com
TZID:UTC
DTSTART:20230401T200000Z
DTEND:20230401T230000Z
DTSTAMP:20230401T200000
DESCRIPTION:You have booked some LHJMQ games
LOCATION:Centre Slush Puppie
SUMMARY:Saint John, Sea Dogs @ Gatineau, Olympiques
STATUS:CONFIRMED
END:VEVENT
BEGIN:VEVENT
UID:198369e71dd80b16930255@hockeytech.com
TZID:UTC
DTSTART:20230404T220000Z
DTEND:20230405T010000Z
DTSTAMP:20230404T220000
DESCRIPTION:You have booked some LHJMQ games
LOCATION:TD Station
SUMMARY:Gatineau, Olympiques @ Saint John, Sea Dogs
STATUS:CONFIRMED
END:VEVENT
BEGIN:VEVENT
UID:198369e71dd80b16930256@hockeytech.com
TZID:UTC
DTSTART:20230405T220000Z
DTEND:20230406T010000Z
DTSTAMP:20230405T220000
DESCRIPTION:You have booked some LHJMQ games
LOCATION:TD Station
SUMMARY:Gatineau, Olympiques @ Saint John, Sea Dogs
STATUS:CONFIRMED
END:VEVENT
BEGIN:VEVENT
UID:198369e71dd80b16930257@hockeytech.com
TZID:UTC
DTSTART:20230407T220000Z
DTEND:20230408T010000Z
DTSTAMP:20230407T220000
DESCRIPTION:You have booked some LHJMQ games
LOCATION:TD Station
SUMMARY:Gatineau, Olympiques @ Saint John, Sea Dogs
STATUS:CONFIRMED
END:VEVENT
END:VCALENDAR