BEGIN:VCALENDAR
VERSION:2.0
PRODID:-//Hockeytech//Leaguestat iCal//EN
BEGIN:VEVENT
UID:1432769e57a2e7ae3028777@hockeytech.com
TZID:UTC
DTSTART:20211017T180000Z
DTEND:20211017T210000Z
DTSTAMP:20211017T180000
DESCRIPTION:You have booked some LHJMQ games
LOCATION:Centre régional K.C. Irving
SUMMARY:Charlottetown, Islanders @ Acadie-Bathurst, Titan
STATUS:CONFIRMED
END:VEVENT
BEGIN:VEVENT
UID:1432769e57a2e7ae3028790@hockeytech.com
TZID:UTC
DTSTART:20220416T190000Z
DTEND:20220416T220000Z
DTSTAMP:20220416T190000
DESCRIPTION:You have booked some LHJMQ games
LOCATION:Centre régional K.C. Irving
SUMMARY:Charlottetown, Islanders @ Acadie-Bathurst, Titan
STATUS:CONFIRMED
END:VEVENT
BEGIN:VEVENT
UID:1432769e57a2e7ae3028796@hockeytech.com
TZID:UTC
DTSTART:20220213T190000Z
DTEND:20220213T220000Z
DTSTAMP:20220213T190000
DESCRIPTION:You have booked some LHJMQ games
LOCATION:Centre régional K.C. Irving
SUMMARY:Charlottetown, Islanders @ Acadie-Bathurst, Titan
STATUS:CONFIRMED
END:VEVENT
BEGIN:VEVENT
UID:1432769e57a2e7ae3028804@hockeytech.com
TZID:UTC
DTSTART:20220312T200000Z
DTEND:20220312T230000Z
DTSTAMP:20220312T200000
DESCRIPTION:You have booked some LHJMQ games
LOCATION:Centre régional K.C. Irving
SUMMARY:Charlottetown, Islanders @ Acadie-Bathurst, Titan
STATUS:CONFIRMED
END:VEVENT
BEGIN:VEVENT
UID:1432769e57a2e7ae3028806@hockeytech.com
TZID:UTC
DTSTART:20220330T220000Z
DTEND:20220331T010000Z
DTSTAMP:20220330T220000
DESCRIPTION:You have booked some LHJMQ games
LOCATION:Centre régional K.C. Irving
SUMMARY:Charlottetown, Islanders @ Acadie-Bathurst, Titan
STATUS:CONFIRMED
END:VEVENT
BEGIN:VEVENT
UID:1432769e57a2e7ae3028825@hockeytech.com
TZID:UTC
DTSTART:20220205T200000Z
DTEND:20220205T230000Z
DTSTAMP:20220205T200000
DESCRIPTION:You have booked some LHJMQ games
LOCATION:Centre Henry-Leonard
SUMMARY:Charlottetown, Islanders @ Baie-Comeau, Drakkar
STATUS:CONFIRMED
END:VEVENT
BEGIN:VEVENT
UID:1432769e57a2e7ae3028849@hockeytech.com
TZID:UTC
DTSTART:20211106T200000Z
DTEND:20211106T230000Z
DTSTAMP:20211106T200000
DESCRIPTION:You have booked some LHJMQ games
LOCATION:Centre d'excellence Sports Rousseau
SUMMARY:Charlottetown, Islanders @ Blainville-Boisbriand, Armada
STATUS:CONFIRMED
END:VEVENT
BEGIN:VEVENT
UID:1432769e57a2e7ae3028880@hockeytech.com
TZID:UTC
DTSTART:20211020T220000Z
DTEND:20211021T010000Z
DTSTAMP:20211020T220000
DESCRIPTION:You have booked some LHJMQ games
LOCATION:Centre 200
SUMMARY:Charlottetown, Islanders @ Cape Breton, Eagles
STATUS:CONFIRMED
END:VEVENT
BEGIN:VEVENT
UID:1432769e57a2e7ae3028884@hockeytech.com
TZID:UTC
DTSTART:20211113T230000Z
DTEND:20211114T020000Z
DTSTAMP:20211113T230000
DESCRIPTION:You have booked some LHJMQ games
LOCATION:Centre 200
SUMMARY:Charlottetown, Islanders @ Cape Breton, Eagles
STATUS:CONFIRMED
END:VEVENT
BEGIN:VEVENT
UID:1432769e57a2e7ae3028901@hockeytech.com
TZID:UTC
DTSTART:20220322T220000Z
DTEND:20220323T010000Z
DTSTAMP:20220322T220000
DESCRIPTION:You have booked some LHJMQ games
LOCATION:Centre 200
SUMMARY:Charlottetown, Islanders @ Cape Breton, Eagles
STATUS:CONFIRMED
END:VEVENT
BEGIN:VEVENT
UID:1432769e57a2e7ae3028902@hockeytech.com
TZID:UTC
DTSTART:20220426T220000Z
DTEND:20220427T010000Z
DTSTAMP:20220426T220000
DESCRIPTION:You have booked some LHJMQ games
LOCATION:Centre 200
SUMMARY:Charlottetown, Islanders @ Cape Breton, Eagles
STATUS:CONFIRMED
END:VEVENT
BEGIN:VEVENT
UID:1432769e57a2e7ae3028910@hockeytech.com
TZID:UTC
DTSTART:20211002T220000Z
DTEND:20211003T010000Z
DTSTAMP:20211002T220000
DESCRIPTION:You have booked some LHJMQ games
LOCATION:Eastlink Centre
SUMMARY:Saint John, Sea Dogs @ Charlottetown, Islanders
STATUS:CONFIRMED
END:VEVENT
BEGIN:VEVENT
UID:1432769e57a2e7ae3028911@hockeytech.com
TZID:UTC
DTSTART:20211008T223000Z
DTEND:20211009T013000Z
DTSTAMP:20211008T223000
DESCRIPTION:You have booked some LHJMQ games
LOCATION:Eastlink Centre
SUMMARY:Halifax, Mooseheads @ Charlottetown, Islanders
STATUS:CONFIRMED
END:VEVENT
BEGIN:VEVENT
UID:1432769e57a2e7ae3028912@hockeytech.com
TZID:UTC
DTSTART:20211011T180000Z
DTEND:20211011T210000Z
DTSTAMP:20211011T180000
DESCRIPTION:You have booked some LHJMQ games
LOCATION:Eastlink Centre
SUMMARY:Saint John, Sea Dogs @ Charlottetown, Islanders
STATUS:CONFIRMED
END:VEVENT
BEGIN:VEVENT
UID:1432769e57a2e7ae3028913@hockeytech.com
TZID:UTC
DTSTART:20211016T220000Z
DTEND:20211017T010000Z
DTSTAMP:20211016T220000
DESCRIPTION:You have booked some LHJMQ games
LOCATION:Eastlink Centre
SUMMARY:Shawinigan, Cataractes @ Charlottetown, Islanders
STATUS:CONFIRMED
END:VEVENT
BEGIN:VEVENT
UID:1432769e57a2e7ae3028914@hockeytech.com
TZID:UTC
DTSTART:20211023T220000Z
DTEND:20211024T010000Z
DTSTAMP:20211023T220000
DESCRIPTION:You have booked some LHJMQ games
LOCATION:Eastlink Centre
SUMMARY:Rouyn-Noranda, Huskies @ Charlottetown, Islanders
STATUS:CONFIRMED
END:VEVENT
BEGIN:VEVENT
UID:1432769e57a2e7ae3028915@hockeytech.com
TZID:UTC
DTSTART:20211024T180000Z
DTEND:20211024T210000Z
DTSTAMP:20211024T180000
DESCRIPTION:You have booked some LHJMQ games
LOCATION:Eastlink Centre
SUMMARY:Val-d'Or, Foreurs @ Charlottetown, Islanders
STATUS:CONFIRMED
END:VEVENT
BEGIN:VEVENT
UID:1432769e57a2e7ae3028916@hockeytech.com
TZID:UTC
DTSTART:20211028T220000Z
DTEND:20211029T010000Z
DTSTAMP:20211028T220000
DESCRIPTION:You have booked some LHJMQ games
LOCATION:Eastlink Centre
SUMMARY:Gatineau, Olympiques @ Charlottetown, Islanders
STATUS:CONFIRMED
END:VEVENT
BEGIN:VEVENT
UID:1432769e57a2e7ae3028917@hockeytech.com
TZID:UTC
DTSTART:20211030T220000Z
DTEND:20211031T010000Z
DTSTAMP:20211030T220000
DESCRIPTION:You have booked some LHJMQ games
LOCATION:Eastlink Centre
SUMMARY:Moncton, Wildcats @ Charlottetown, Islanders
STATUS:CONFIRMED
END:VEVENT
BEGIN:VEVENT
UID:1432769e57a2e7ae3028918@hockeytech.com
TZID:UTC
DTSTART:20211118T230000Z
DTEND:20211119T020000Z
DTSTAMP:20211118T230000
DESCRIPTION:You have booked some LHJMQ games
LOCATION:Eastlink Centre
SUMMARY:Moncton, Wildcats @ Charlottetown, Islanders
STATUS:CONFIRMED
END:VEVENT
BEGIN:VEVENT
UID:1432769e57a2e7ae3028919@hockeytech.com
TZID:UTC
DTSTART:20211120T230000Z
DTEND:20211121T020000Z
DTSTAMP:20211120T230000
DESCRIPTION:You have booked some LHJMQ games
LOCATION:Eastlink Centre
SUMMARY:Acadie-Bathurst, Titan @ Charlottetown, Islanders
STATUS:CONFIRMED
END:VEVENT
BEGIN:VEVENT
UID:1432769e57a2e7ae3028920@hockeytech.com
TZID:UTC
DTSTART:20211126T233000Z
DTEND:20211127T023000Z
DTSTAMP:20211126T233000
DESCRIPTION:You have booked some LHJMQ games
LOCATION:Eastlink Centre
SUMMARY:Québec, Remparts @ Charlottetown, Islanders
STATUS:CONFIRMED
END:VEVENT
BEGIN:VEVENT
UID:1432769e57a2e7ae3028921@hockeytech.com
TZID:UTC
DTSTART:20211128T190000Z
DTEND:20211128T220000Z
DTSTAMP:20211128T190000
DESCRIPTION:You have booked some LHJMQ games
LOCATION:Eastlink Centre
SUMMARY:Blainville-Boisbriand, Armada @ Charlottetown, Islanders
STATUS:CONFIRMED
END:VEVENT
BEGIN:VEVENT
UID:1432769e57a2e7ae3028922@hockeytech.com
TZID:UTC
DTSTART:20211208T230000Z
DTEND:20211209T020000Z
DTSTAMP:20211208T230000
DESCRIPTION:You have booked some LHJMQ games
LOCATION:Eastlink Centre
SUMMARY:Drummondville, Voltigeurs @ Charlottetown, Islanders
STATUS:CONFIRMED
END:VEVENT
BEGIN:VEVENT
UID:1432769e57a2e7ae3028923@hockeytech.com
TZID:UTC
DTSTART:20211210T233000Z
DTEND:20211211T023000Z
DTSTAMP:20211210T233000
DESCRIPTION:You have booked some LHJMQ games
LOCATION:Eastlink Centre
SUMMARY:Acadie-Bathurst, Titan @ Charlottetown, Islanders
STATUS:CONFIRMED
END:VEVENT
BEGIN:VEVENT
UID:1432769e57a2e7ae3028924@hockeytech.com
TZID:UTC
DTSTART:20211217T233000Z
DTEND:20211218T023000Z
DTSTAMP:20211217T233000
DESCRIPTION:You have booked some LHJMQ games
LOCATION:Eastlink Centre
SUMMARY:Cape Breton, Eagles @ Charlottetown, Islanders
STATUS:CONFIRMED
END:VEVENT
BEGIN:VEVENT
UID:1432769e57a2e7ae3028925@hockeytech.com
TZID:UTC
DTSTART:20211218T230000Z
DTEND:20211219T020000Z
DTSTAMP:20211218T230000
DESCRIPTION:You have booked some LHJMQ games
LOCATION:Eastlink Centre
SUMMARY:Cape Breton, Eagles @ Charlottetown, Islanders
STATUS:CONFIRMED
END:VEVENT
BEGIN:VEVENT
UID:1432769e57a2e7ae3028926@hockeytech.com
TZID:UTC
DTSTART:20220501T180000Z
DTEND:20220501T210000Z
DTSTAMP:20220501T180000
DESCRIPTION:You have booked some LHJMQ games
LOCATION:Eastlink Centre
SUMMARY:Acadie-Bathurst, Titan @ Charlottetown, Islanders
STATUS:CONFIRMED
END:VEVENT
BEGIN:VEVENT
UID:1432769e57a2e7ae3028927@hockeytech.com
TZID:UTC
DTSTART:20220320T180000Z
DTEND:20220320T210000Z
DTSTAMP:20220320T180000
DESCRIPTION:You have booked some LHJMQ games
LOCATION:Eastlink Centre
SUMMARY:Moncton, Wildcats @ Charlottetown, Islanders
STATUS:CONFIRMED
END:VEVENT
BEGIN:VEVENT
UID:1432769e57a2e7ae3028928@hockeytech.com
TZID:UTC
DTSTART:20220422T223000Z
DTEND:20220423T013000Z
DTSTAMP:20220422T223000
DESCRIPTION:You have booked some LHJMQ games
LOCATION:Eastlink Centre
SUMMARY:Sherbrooke, Phœnix @ Charlottetown, Islanders
STATUS:CONFIRMED
END:VEVENT
BEGIN:VEVENT
UID:1432769e57a2e7ae3028929@hockeytech.com
TZID:UTC
DTSTART:20220409T220000Z
DTEND:20220410T010000Z
DTSTAMP:20220409T220000
DESCRIPTION:You have booked some LHJMQ games
LOCATION:Eastlink Centre
SUMMARY:Cape Breton, Eagles @ Charlottetown, Islanders
STATUS:CONFIRMED
END:VEVENT
BEGIN:VEVENT
UID:1432769e57a2e7ae3028930@hockeytech.com
TZID:UTC
DTSTART:20220424T180000Z
DTEND:20220424T210000Z
DTSTAMP:20220424T180000
DESCRIPTION:You have booked some LHJMQ games
LOCATION:Eastlink Centre
SUMMARY:Baie-Comeau, Drakkar @ Charlottetown, Islanders
STATUS:CONFIRMED
END:VEVENT
BEGIN:VEVENT
UID:1432769e57a2e7ae3028931@hockeytech.com
TZID:UTC
DTSTART:20220226T230000Z
DTEND:20220227T020000Z
DTSTAMP:20220226T230000
DESCRIPTION:You have booked some LHJMQ games
LOCATION:Eastlink Centre
SUMMARY:Halifax, Mooseheads @ Charlottetown, Islanders
STATUS:CONFIRMED
END:VEVENT
BEGIN:VEVENT
UID:1432769e57a2e7ae3028932@hockeytech.com
TZID:UTC
DTSTART:20220414T220000Z
DTEND:20220415T010000Z
DTSTAMP:20220414T220000
DESCRIPTION:You have booked some LHJMQ games
LOCATION:Eastlink Centre
SUMMARY:Saint John, Sea Dogs @ Charlottetown, Islanders
STATUS:CONFIRMED
END:VEVENT
BEGIN:VEVENT
UID:1432769e57a2e7ae3028933@hockeytech.com
TZID:UTC
DTSTART:20220421T220000Z
DTEND:20220422T010000Z
DTSTAMP:20220421T220000
DESCRIPTION:You have booked some LHJMQ games
LOCATION:Eastlink Centre
SUMMARY:Rimouski, Océanic @ Charlottetown, Islanders
STATUS:CONFIRMED
END:VEVENT
BEGIN:VEVENT
UID:1432769e57a2e7ae3028934@hockeytech.com
TZID:UTC
DTSTART:20220410T180000Z
DTEND:20220410T210000Z
DTSTAMP:20220410T180000
DESCRIPTION:You have booked some LHJMQ games
LOCATION:Eastlink Centre
SUMMARY:Cape Breton, Eagles @ Charlottetown, Islanders
STATUS:CONFIRMED
END:VEVENT
BEGIN:VEVENT
UID:1432769e57a2e7ae3028935@hockeytech.com
TZID:UTC
DTSTART:20220223T230000Z
DTEND:20220224T020000Z
DTSTAMP:20220223T230000
DESCRIPTION:You have booked some LHJMQ games
LOCATION:Eastlink Centre
SUMMARY:Halifax, Mooseheads @ Charlottetown, Islanders
STATUS:CONFIRMED
END:VEVENT
BEGIN:VEVENT
UID:1432769e57a2e7ae3028936@hockeytech.com
TZID:UTC
DTSTART:20220218T233000Z
DTEND:20220219T023000Z
DTSTAMP:20220218T233000
DESCRIPTION:You have booked some LHJMQ games
LOCATION:Eastlink Centre
SUMMARY:Victoriaville, Tigres @ Charlottetown, Islanders
STATUS:CONFIRMED
END:VEVENT
BEGIN:VEVENT
UID:1432769e57a2e7ae3028937@hockeytech.com
TZID:UTC
DTSTART:20220221T200000Z
DTEND:20220221T230000Z
DTSTAMP:20220221T200000
DESCRIPTION:You have booked some LHJMQ games
LOCATION:Eastlink Centre
SUMMARY:Acadie-Bathurst, Titan @ Charlottetown, Islanders
STATUS:CONFIRMED
END:VEVENT
BEGIN:VEVENT
UID:1432769e57a2e7ae3028938@hockeytech.com
TZID:UTC
DTSTART:20220311T233000Z
DTEND:20220312T023000Z
DTSTAMP:20220311T233000
DESCRIPTION:You have booked some LHJMQ games
LOCATION:Eastlink Centre
SUMMARY:Saint John, Sea Dogs @ Charlottetown, Islanders
STATUS:CONFIRMED
END:VEVENT
BEGIN:VEVENT
UID:1432769e57a2e7ae3028939@hockeytech.com
TZID:UTC
DTSTART:20220313T180000Z
DTEND:20220313T210000Z
DTSTAMP:20220313T180000
DESCRIPTION:You have booked some LHJMQ games
LOCATION:Eastlink Centre
SUMMARY:Chicoutimi, Saguenéens @ Charlottetown, Islanders
STATUS:CONFIRMED
END:VEVENT
BEGIN:VEVENT
UID:1432769e57a2e7ae3028940@hockeytech.com
TZID:UTC
DTSTART:20220317T220000Z
DTEND:20220318T010000Z
DTSTAMP:20220317T220000
DESCRIPTION:You have booked some LHJMQ games
LOCATION:Eastlink Centre
SUMMARY:Moncton, Wildcats @ Charlottetown, Islanders
STATUS:CONFIRMED
END:VEVENT
BEGIN:VEVENT
UID:1432769e57a2e7ae3028941@hockeytech.com
TZID:UTC
DTSTART:20220324T220000Z
DTEND:20220325T010000Z
DTSTAMP:20220324T220000
DESCRIPTION:You have booked some LHJMQ games
LOCATION:Eastlink Centre
SUMMARY:Saint John, Sea Dogs @ Charlottetown, Islanders
STATUS:CONFIRMED
END:VEVENT
BEGIN:VEVENT
UID:1432769e57a2e7ae3028942@hockeytech.com
TZID:UTC
DTSTART:20220326T220000Z
DTEND:20220327T010000Z
DTSTAMP:20220326T220000
DESCRIPTION:You have booked some LHJMQ games
LOCATION:Eastlink Centre
SUMMARY:Cape Breton, Eagles @ Charlottetown, Islanders
STATUS:CONFIRMED
END:VEVENT
BEGIN:VEVENT
UID:1432769e57a2e7ae3028943@hockeytech.com
TZID:UTC
DTSTART:20220401T223000Z
DTEND:20220402T013000Z
DTSTAMP:20220401T223000
DESCRIPTION:You have booked some LHJMQ games
LOCATION:Eastlink Centre
SUMMARY:Halifax, Mooseheads @ Charlottetown, Islanders
STATUS:CONFIRMED
END:VEVENT
BEGIN:VEVENT
UID:1432769e57a2e7ae3028963@hockeytech.com
TZID:UTC
DTSTART:20220206T210000Z
DTEND:20220207T000000Z
DTSTAMP:20220206T210000
DESCRIPTION:You have booked some LHJMQ games
LOCATION:Centre Georges-Vézina
SUMMARY:Charlottetown, Islanders @ Chicoutimi, Saguenéens
STATUS:CONFIRMED
END:VEVENT
BEGIN:VEVENT
UID:1432769e57a2e7ae3028985@hockeytech.com
TZID:UTC
DTSTART:20211103T230000Z
DTEND:20211104T020000Z
DTSTAMP:20211103T230000
DESCRIPTION:You have booked some LHJMQ games
LOCATION:Centre Marcel Dionne
SUMMARY:Charlottetown, Islanders @ Drummondville, Voltigeurs
STATUS:CONFIRMED
END:VEVENT
BEGIN:VEVENT
UID:1432769e57a2e7ae3029022@hockeytech.com
TZID:UTC
DTSTART:20211202T000000Z
DTEND:20211202T030000Z
DTSTAMP:20211202T000000
DESCRIPTION:You have booked some LHJMQ games
LOCATION:Centre Slush Puppie
SUMMARY:Charlottetown, Islanders @ Gatineau, Olympiques
STATUS:CONFIRMED
END:VEVENT
BEGIN:VEVENT
UID:1432769e57a2e7ae3029047@hockeytech.com
TZID:UTC
DTSTART:20211009T220000Z
DTEND:20211010T010000Z
DTSTAMP:20211009T220000
DESCRIPTION:You have booked some LHJMQ games
LOCATION:Scotiabank Centre
SUMMARY:Charlottetown, Islanders @ Halifax, Mooseheads
STATUS:CONFIRMED
END:VEVENT
BEGIN:VEVENT
UID:1432769e57a2e7ae3029054@hockeytech.com
TZID:UTC
DTSTART:20211114T190000Z
DTEND:20211114T220000Z
DTSTAMP:20211114T190000
DESCRIPTION:You have booked some LHJMQ games
LOCATION:Scotiabank Centre
SUMMARY:Charlottetown, Islanders @ Halifax, Mooseheads
STATUS:CONFIRMED
END:VEVENT
BEGIN:VEVENT
UID:1432769e57a2e7ae3029059@hockeytech.com
TZID:UTC
DTSTART:20211215T230000Z
DTEND:20211216T020000Z
DTSTAMP:20211215T230000
DESCRIPTION:You have booked some LHJMQ games
LOCATION:Scotiabank Centre
SUMMARY:Charlottetown, Islanders @ Halifax, Mooseheads
STATUS:CONFIRMED
END:VEVENT
BEGIN:VEVENT
UID:1432769e57a2e7ae3029070@hockeytech.com
TZID:UTC
DTSTART:20220308T230000Z
DTEND:20220309T020000Z
DTSTAMP:20220308T230000
DESCRIPTION:You have booked some LHJMQ games
LOCATION:Scotiabank Centre
SUMMARY:Charlottetown, Islanders @ Halifax, Mooseheads
STATUS:CONFIRMED
END:VEVENT
BEGIN:VEVENT
UID:1432769e57a2e7ae3029079@hockeytech.com
TZID:UTC
DTSTART:20220402T180000Z
DTEND:20220402T210000Z
DTSTAMP:20220402T180000
DESCRIPTION:You have booked some LHJMQ games
LOCATION:Scotiabank Centre
SUMMARY:Charlottetown, Islanders @ Halifax, Mooseheads
STATUS:CONFIRMED
END:VEVENT
BEGIN:VEVENT
UID:1432769e57a2e7ae3029094@hockeytech.com
TZID:UTC
DTSTART:20220405T220000Z
DTEND:20220406T010000Z
DTSTAMP:20220405T220000
DESCRIPTION:You have booked some LHJMQ games
LOCATION:Avenir Centre
SUMMARY:Charlottetown, Islanders @ Moncton, Wildcats
STATUS:CONFIRMED
END:VEVENT
BEGIN:VEVENT
UID:1432769e57a2e7ae3029098@hockeytech.com
TZID:UTC
DTSTART:20220419T220000Z
DTEND:20220420T010000Z
DTSTAMP:20220419T220000
DESCRIPTION:You have booked some LHJMQ games
LOCATION:Avenir Centre
SUMMARY:Charlottetown, Islanders @ Moncton, Wildcats
STATUS:CONFIRMED
END:VEVENT
BEGIN:VEVENT
UID:1432769e57a2e7ae3029101@hockeytech.com
TZID:UTC
DTSTART:20220429T220000Z
DTEND:20220430T010000Z
DTSTAMP:20220429T220000
DESCRIPTION:You have booked some LHJMQ games
LOCATION:Avenir Centre
SUMMARY:Charlottetown, Islanders @ Moncton, Wildcats
STATUS:CONFIRMED
END:VEVENT
BEGIN:VEVENT
UID:1432769e57a2e7ae3029112@hockeytech.com
TZID:UTC
DTSTART:20220327T190000Z
DTEND:20220327T220000Z
DTSTAMP:20220327T190000
DESCRIPTION:You have booked some LHJMQ games
LOCATION:Avenir Centre
SUMMARY:Charlottetown, Islanders @ Moncton, Wildcats
STATUS:CONFIRMED
END:VEVENT
BEGIN:VEVENT
UID:1432769e57a2e7ae3029142@hockeytech.com
TZID:UTC
DTSTART:20220209T000000Z
DTEND:20220209T030000Z
DTSTAMP:20220209T000000
DESCRIPTION:You have booked some LHJMQ games
LOCATION:Centre Vidéotron
SUMMARY:Charlottetown, Islanders @ Québec, Remparts
STATUS:CONFIRMED
END:VEVENT
BEGIN:VEVENT
UID:1432769e57a2e7ae3029167@hockeytech.com
TZID:UTC
DTSTART:20220417T190000Z
DTEND:20220417T220000Z
DTSTAMP:20220417T190000
DESCRIPTION:You have booked some LHJMQ games
LOCATION:Colisée Financière Sun Life
SUMMARY:Charlottetown, Islanders @ Rimouski, Océanic
STATUS:CONFIRMED
END:VEVENT
BEGIN:VEVENT
UID:1432769e57a2e7ae3029192@hockeytech.com
TZID:UTC
DTSTART:20211204T000000Z
DTEND:20211204T030000Z
DTSTAMP:20211204T000000
DESCRIPTION:You have booked some LHJMQ games
LOCATION:Aréna Glencore
SUMMARY:Charlottetown, Islanders @ Rouyn-Noranda, Huskies
STATUS:CONFIRMED
END:VEVENT
BEGIN:VEVENT
UID:1432769e57a2e7ae3029216@hockeytech.com
TZID:UTC
DTSTART:20211001T220000Z
DTEND:20211002T010000Z
DTSTAMP:20211001T220000
DESCRIPTION:You have booked some LHJMQ games
LOCATION:TD Station
SUMMARY:Charlottetown, Islanders @ Saint John, Sea Dogs
STATUS:CONFIRMED
END:VEVENT
BEGIN:VEVENT
UID:1432769e57a2e7ae3029222@hockeytech.com
TZID:UTC
DTSTART:20211029T220000Z
DTEND:20211030T010000Z
DTSTAMP:20211029T220000
DESCRIPTION:You have booked some LHJMQ games
LOCATION:TD Station
SUMMARY:Charlottetown, Islanders @ Saint John, Sea Dogs
STATUS:CONFIRMED
END:VEVENT
BEGIN:VEVENT
UID:1432769e57a2e7ae3029229@hockeytech.com
TZID:UTC
DTSTART:20211211T230000Z
DTEND:20211212T020000Z
DTSTAMP:20211211T230000
DESCRIPTION:You have booked some LHJMQ games
LOCATION:TD Station
SUMMARY:Charlottetown, Islanders @ Saint John, Sea Dogs
STATUS:CONFIRMED
END:VEVENT
BEGIN:VEVENT
UID:1432769e57a2e7ae3029246@hockeytech.com
TZID:UTC
DTSTART:20220318T220000Z
DTEND:20220319T010000Z
DTSTAMP:20220318T220000
DESCRIPTION:You have booked some LHJMQ games
LOCATION:TD Station
SUMMARY:Charlottetown, Islanders @ Saint John, Sea Dogs
STATUS:CONFIRMED
END:VEVENT
BEGIN:VEVENT
UID:1432769e57a2e7ae3029277@hockeytech.com
TZID:UTC
DTSTART:20220305T000000Z
DTEND:20220305T030000Z
DTSTAMP:20220305T000000
DESCRIPTION:You have booked some LHJMQ games
LOCATION:Centre Gervais Auto
SUMMARY:Charlottetown, Islanders @ Shawinigan, Cataractes
STATUS:CONFIRMED
END:VEVENT
BEGIN:VEVENT
UID:1432769e57a2e7ae3029289@hockeytech.com
TZID:UTC
DTSTART:20211105T230000Z
DTEND:20211106T020000Z
DTSTAMP:20211105T230000
DESCRIPTION:You have booked some LHJMQ games
LOCATION:Palais des Sports Léopold-Drolet
SUMMARY:Charlottetown, Islanders @ Sherbrooke, Phœnix
STATUS:CONFIRMED
END:VEVENT
BEGIN:VEVENT
UID:1432769e57a2e7ae3029330@hockeytech.com
TZID:UTC
DTSTART:20211204T210000Z
DTEND:20211205T000000Z
DTSTAMP:20211204T210000
DESCRIPTION:You have booked some LHJMQ games
LOCATION:Centre Agnico Eagle
SUMMARY:Charlottetown, Islanders @ Val-d'Or, Foreurs
STATUS:CONFIRMED
END:VEVENT
BEGIN:VEVENT
UID:1432769e57a2e7ae3029380@hockeytech.com
TZID:UTC
DTSTART:20220304T000000Z
DTEND:20220304T030000Z
DTSTAMP:20220304T000000
DESCRIPTION:You have booked some LHJMQ games
LOCATION:Colisée Desjardins
SUMMARY:Charlottetown, Islanders @ Victoriaville, Tigres
STATUS:CONFIRMED
END:VEVENT
END:VCALENDAR